BEGIN:VCALENDAR
VERSION:2.0
PRODID:-//Artslandia - ECPv6.15.20//NONSGML v1.0//EN
CALSCALE:GREGORIAN
METHOD:PUBLISH
X-WR-CALNAME:Artslandia
X-ORIGINAL-URL:https://artslandia.com
X-WR-CALDESC:Events for Artslandia
REFRESH-INTERVAL;VALUE=DURATION:PT1H
X-Robots-Tag:noindex
X-PUBLISHED-TTL:PT1H
BEGIN:VTIMEZONE
TZID:America/Los_Angeles
BEGIN:DAYLIGHT
TZOFFSETFROM:-0800
TZOFFSETTO:-0700
TZNAME:PDT
DTSTART:20230312T100000
END:DAYLIGHT
BEGIN:STANDARD
TZOFFSETFROM:-0700
TZOFFSETTO:-0800
TZNAME:PST
DTSTART:20231105T090000
END:STANDARD
BEGIN:DAYLIGHT
TZOFFSETFROM:-0800
TZOFFSETTO:-0700
TZNAME:PDT
DTSTART:20240310T100000
END:DAYLIGHT
BEGIN:STANDARD
TZOFFSETFROM:-0700
TZOFFSETTO:-0800
TZNAME:PST
DTSTART:20241103T090000
END:STANDARD
BEGIN:DAYLIGHT
TZOFFSETFROM:-0800
TZOFFSETTO:-0700
TZNAME:PDT
DTSTART:20250309T100000
END:DAYLIGHT
BEGIN:STANDARD
TZOFFSETFROM:-0700
TZOFFSETTO:-0800
TZNAME:PST
DTSTART:20251102T090000
END:STANDARD
END:VTIMEZONE
BEGIN:VEVENT
DTSTART;TZID=America/Los_Angeles:20240914T110000
DTEND;TZID=America/Los_Angeles:20240914T150000
DTSTAMP:20260421T120413
CREATED:20240831T050544Z
LAST-MODIFIED:20240906T202832Z
UID:10000288-1726311600-1726326000@artslandia.com
SUMMARY:Spotlight: A Family Arts Festival
DESCRIPTION:Come on down to The Judy for a fun-filled weekend of music\, theater\, dance\, and more! Past artists include Alex Addy (African drumming)\, Arshia Rajeshnarayanan (Bharatanatyam Dance)\, Brick Bending (LEGO Art)\, Corazones Alegres Ballet Folklórico (traditional dance)\, enTaiko (drumming)\, and Mo Phillips (music); just to name a few! \nHere’s why families LOVE Spotlight:\n“Loved being in a space that was designed with kids in mind!”\n“Great curation and diversity of art forms!”\n“All of the performers were prepared to engage with kids. The set lengths were perfect\, and the staff was so friendly!”
URL:https://artslandia.com/event/spotlight-a-family-arts-festival/2024-09-14/
LOCATION:The Judy Kafoury Center for Youth Arts
CATEGORIES:Family Fun,Festival
ATTACH;FMTTYPE=image/png:https://artslandia.com/wp-content/uploads/2024/08/122_NWCTS_Spotlight.png
END:VEVENT
BEGIN:VEVENT
DTSTART;TZID=America/Los_Angeles:20240914T193000
DTEND;TZID=America/Los_Angeles:20240914T220000
DTSTAMP:20260421T120413
CREATED:20240831T050620Z
LAST-MODIFIED:20240905T195258Z
UID:10000295-1726342200-1726351200@artslandia.com
SUMMARY:Essence American
DESCRIPTION:A program of wonderful musical masterpieces by extraordinarily gifted American composers. The Orchestra Nova Northwest performs an exquisite lament by Pulitzer Prize winner George Walker\, two works by Florence Price—the first black female composer to have a symphony performed by a major American orchestra: her passionate and powerful Symphony No. 1\, with its musical reflections of Dvorak’s great New World Symphony\, and also Price’s dynamic Piano Concerto. The Orchestra Nova Northwest welcomes the outstanding pianist Artina McCain\, who also performs a delightful Dance Tribute by Ghanaian-American composer Fred Onovwerosuoke.
URL:https://artslandia.com/event/essence-american/
LOCATION:Reynolds High School\, 1698 SW Cherry Park Rd\, Troutdale\, OR\, 97060\, United States
CATEGORIES:Music
ATTACH;FMTTYPE=image/jpeg:https://artslandia.com/wp-content/uploads/2024/08/129_ONN_EssenseAmerican-e1725565972433.jpg
END:VEVENT
END:VCALENDAR