BEGIN:VCALENDAR
VERSION:2.0
PRODID:-//Artslandia - ECPv6.15.20//NONSGML v1.0//EN
CALSCALE:GREGORIAN
METHOD:PUBLISH
X-ORIGINAL-URL:https://artslandia.com
X-WR-CALDESC:Events for Artslandia
REFRESH-INTERVAL;VALUE=DURATION:PT1H
X-Robots-Tag:noindex
X-PUBLISHED-TTL:PT1H
BEGIN:VTIMEZONE
TZID:America/Los_Angeles
BEGIN:DAYLIGHT
TZOFFSETFROM:-0800
TZOFFSETTO:-0700
TZNAME:PDT
DTSTART:20230312T100000
END:DAYLIGHT
BEGIN:STANDARD
TZOFFSETFROM:-0700
TZOFFSETTO:-0800
TZNAME:PST
DTSTART:20231105T090000
END:STANDARD
BEGIN:DAYLIGHT
TZOFFSETFROM:-0800
TZOFFSETTO:-0700
TZNAME:PDT
DTSTART:20240310T100000
END:DAYLIGHT
BEGIN:STANDARD
TZOFFSETFROM:-0700
TZOFFSETTO:-0800
TZNAME:PST
DTSTART:20241103T090000
END:STANDARD
BEGIN:DAYLIGHT
TZOFFSETFROM:-0800
TZOFFSETTO:-0700
TZNAME:PDT
DTSTART:20250309T100000
END:DAYLIGHT
BEGIN:STANDARD
TZOFFSETFROM:-0700
TZOFFSETTO:-0800
TZNAME:PST
DTSTART:20251102T090000
END:STANDARD
END:VTIMEZONE
BEGIN:VEVENT
DTSTART;TZID=America/Los_Angeles:20240923T193000
DTEND;TZID=America/Los_Angeles:20240923T220000
DTSTAMP:20260420T151215
CREATED:20240831T045623Z
LAST-MODIFIED:20240916T132532Z
UID:10000377-1727119800-1727128800@artslandia.com
SUMMARY:Chopin and Alpine Symphony
DESCRIPTION:Inspired by his own adventures in the Alps\, Strauss’ An Alpine Symphony evokes nature’s power and majesty in a journey through crashing waterfalls\, misty meadows\, and furious storms. And Portland favorite Garrick Ohlsson leads an equally intense journey of the heart in Chopin’s First Piano Concerto\, channeling the work’s melancholy grace with “a sound so lush it almost glistens” (Seattle Times). \nPreview the Magazine >>
URL:https://artslandia.com/event/chopin-and-alpine-symphony-2/2024-09-23/
LOCATION:Arlene Schnitzer Concert Hall\, 1037 SW Broadway Ave\, Portland\, OR\, 97205\, United States
CATEGORIES:Music
ATTACH;FMTTYPE=image/png:https://artslandia.com/wp-content/uploads/2024/09/19_ORS_Sept_ChopinAlpineSymph.png
END:VEVENT
END:VCALENDAR