BEGIN:VCALENDAR
VERSION:2.0
PRODID:-//Artslandia - ECPv6.15.20//NONSGML v1.0//EN
CALSCALE:GREGORIAN
METHOD:PUBLISH
X-ORIGINAL-URL:https://artslandia.com
X-WR-CALDESC:Events for Artslandia
REFRESH-INTERVAL;VALUE=DURATION:PT1H
X-Robots-Tag:noindex
X-PUBLISHED-TTL:PT1H
BEGIN:VTIMEZONE
TZID:America/Los_Angeles
BEGIN:DAYLIGHT
TZOFFSETFROM:-0800
TZOFFSETTO:-0700
TZNAME:PDT
DTSTART:20230312T100000
END:DAYLIGHT
BEGIN:STANDARD
TZOFFSETFROM:-0700
TZOFFSETTO:-0800
TZNAME:PST
DTSTART:20231105T090000
END:STANDARD
BEGIN:DAYLIGHT
TZOFFSETFROM:-0800
TZOFFSETTO:-0700
TZNAME:PDT
DTSTART:20240310T100000
END:DAYLIGHT
BEGIN:STANDARD
TZOFFSETFROM:-0700
TZOFFSETTO:-0800
TZNAME:PST
DTSTART:20241103T090000
END:STANDARD
BEGIN:DAYLIGHT
TZOFFSETFROM:-0800
TZOFFSETTO:-0700
TZNAME:PDT
DTSTART:20250309T100000
END:DAYLIGHT
BEGIN:STANDARD
TZOFFSETFROM:-0700
TZOFFSETTO:-0800
TZNAME:PST
DTSTART:20251102T090000
END:STANDARD
END:VTIMEZONE
BEGIN:VEVENT
DTSTART;TZID=America/Los_Angeles:20240925T193000
DTEND;TZID=America/Los_Angeles:20240925T210000
DTSTAMP:20260423T080105
CREATED:20240831T050501Z
LAST-MODIFIED:20240905T190254Z
UID:10000274-1727292600-1727298000@artslandia.com
SUMMARY:Connie Chung in Conversation
DESCRIPTION:Literary Arts is proud to present pioneer news anchor and reporter Connie Chung in conversation about her forthcoming memoir Connie (interviewer TBA). \nConnie Chung was the first woman to co-anchor the CBS Evening News\, the flagship news broadcast on CBS\, and was only the second woman to anchor any network evening broadcast in television history. In a sharp\, witty\, and definitive memoir like no other\, Chung delves into her storied career as the first Asian woman to break into an overwhelmingly white\, male-dominated television news industry.
URL:https://artslandia.com/event/connie-chung-in-conversation/
LOCATION:Arlene Schnitzer Concert Hall\, 1037 SW Broadway Ave\, Portland\, OR\, 97205\, United States
CATEGORIES:Event
ATTACH;FMTTYPE=image/jpeg:https://artslandia.com/wp-content/uploads/2024/08/108_LA_ConnieChung-e1725562927130.jpg
END:VEVENT
BEGIN:VEVENT
DTSTART;TZID=America/Los_Angeles:20240925T193000
DTEND;TZID=America/Los_Angeles:20240925T223000
DTSTAMP:20260423T080105
CREATED:20240831T050128Z
LAST-MODIFIED:20240910T165358Z
UID:10000356-1727292600-1727303400@artslandia.com
SUMMARY:Always…Patsy Cline
DESCRIPTION:A musical love letter to the beautiful powerhouse who broke the glass ceiling\, barriers between country and pop\, and millions of hearts in her short singing career. –Westside Theatre Reviews \nThis heartfelt revue tells the true story of the country music legend’s unlikely friendship with a fan\, Louise Seger\, cemented by years of letter writing. Featuring a wealth of Cline’s beloved hits such as “Walkin’ After Midnight\,” “I Fall To Pieces\,” “Crazy\,” and “Sweet Dreams\,” Always…Patsy Cline returns by popular demand\, with Sharon Maroney as Louise and Sara Catherine Holder reprising the title role. \nTickets are priced from $30 to $52 for adults (depending on date). Tickets in the upper section for ages 6-18 are $20 and ages 19-35 are $25. \nCreated and originally directed by Ted Swindley – based on a true story.\nDirected by Chan Harris \nFor more details contact the box office at 503.620.5262 or visit www.broadwayrose.org.
URL:https://artslandia.com/event/alwayspatsy-cline/2024-09-25/
LOCATION:Broadway Rose New Stage\, 12850 SW Grant Avenue\, Tigard\, OR\, 97223\, United States
CATEGORIES:Musical
ATTACH;FMTTYPE=image/jpeg:https://artslandia.com/wp-content/uploads/2024/08/Artslandia_Always-Patsy-Cline_800x450.jpeg
END:VEVENT
END:VCALENDAR