BEGIN:VCALENDAR
VERSION:2.0
PRODID:-//Artslandia - ECPv6.15.20//NONSGML v1.0//EN
CALSCALE:GREGORIAN
METHOD:PUBLISH
X-ORIGINAL-URL:https://artslandia.com
X-WR-CALDESC:Events for Artslandia
REFRESH-INTERVAL;VALUE=DURATION:PT1H
X-Robots-Tag:noindex
X-PUBLISHED-TTL:PT1H
BEGIN:VTIMEZONE
TZID:America/Los_Angeles
BEGIN:DAYLIGHT
TZOFFSETFROM:-0800
TZOFFSETTO:-0700
TZNAME:PDT
DTSTART:20230312T100000
END:DAYLIGHT
BEGIN:STANDARD
TZOFFSETFROM:-0700
TZOFFSETTO:-0800
TZNAME:PST
DTSTART:20231105T090000
END:STANDARD
BEGIN:DAYLIGHT
TZOFFSETFROM:-0800
TZOFFSETTO:-0700
TZNAME:PDT
DTSTART:20240310T100000
END:DAYLIGHT
BEGIN:STANDARD
TZOFFSETFROM:-0700
TZOFFSETTO:-0800
TZNAME:PST
DTSTART:20241103T090000
END:STANDARD
BEGIN:DAYLIGHT
TZOFFSETFROM:-0800
TZOFFSETTO:-0700
TZNAME:PDT
DTSTART:20250309T100000
END:DAYLIGHT
BEGIN:STANDARD
TZOFFSETFROM:-0700
TZOFFSETTO:-0800
TZNAME:PST
DTSTART:20251102T090000
END:STANDARD
END:VTIMEZONE
BEGIN:VEVENT
DTSTART;TZID=America/Los_Angeles:20240927T193000
DTEND;TZID=America/Los_Angeles:20240927T213000
DTSTAMP:20260421T054803
CREATED:20240831T050747Z
LAST-MODIFIED:20240905T213331Z
UID:10000311-1727465400-1727472600@artslandia.com
SUMMARY:Acoustic Guitar Summit
DESCRIPTION:Northwest favorite Acoustic Guitar Summit returns to the Walters! When the award-winning\, dynamic\, and virtuoso musicians Terry Robb\, Mark Hanson\, and Doug Smith take the stage\, the audience is sure to enjoy an evening of world-class fingerstyle guitar\, luscious ballads\, and intricately woven fingerpicking burners. \nThis dynamic trio will blow you away with their blistering speed and musical genius as they fuse their unique individual talents into a cohesive orchestral whole. Prepare for a dazzling journey—from blues to jazz manouche\, reggae to Hawaiian slack key—with original tunes and reimagined classics that showcase why their music is on national television\, in major films\, and on stages around the world. \nThe members of Acoustic Guitar Summit continue to scale new heights as musicians: Oregon Music Hall of Fame member and perennial winner of the Cascade Blues Association award\, Terry Robb has recently been honored with the design of two Signature Guitar models. Grammy-winner Mark Hanson celebrated the publication of his 30th guitar book in 2023 and is internationally acclaimed for his numerous solo and group recordings. Grammy-winner Doug Smith headlines solo performances that display the mighty chops that won him the National Fingerpicking Championship.
URL:https://artslandia.com/event/acoustic-guitar-summit/
LOCATION:Walters Cultural Arts Center\, 527 East Main Street\, Hillsboro\, OR\, 97123\, United States
CATEGORIES:Guitar,Music
ATTACH;FMTTYPE=image/png:https://artslandia.com/wp-content/uploads/2024/08/145_WCAC_GuitarSummit-e1725563061218.png
END:VEVENT
BEGIN:VEVENT
DTSTART;TZID=America/Los_Angeles:20240927T193000
DTEND;TZID=America/Los_Angeles:20240927T220000
DTSTAMP:20260421T054803
CREATED:20240924T125526Z
LAST-MODIFIED:20240924T125526Z
UID:10001343-1727465400-1727474400@artslandia.com
SUMMARY:Organist Gail Archer Lecture
DESCRIPTION:Concert organist and professor of music at Barnard College\, Gail Archer will perform a recital on the Casavant Organ in the Agnes Flanagan Chapel at Lewis and Clark College on Friday\, September 27\, 2024 at 7:30 pm. Works by Bach\, Brahms\, Nadia Boulanger\, Jeanne Demessieux\, and Ukrainian composers Viktor Goncharenko\, Svitlana Ostrova\, and Mykola Kolessa. \nPhoto by Stephanie Berger.
URL:https://artslandia.com/event/organist-gail-archer-lecture/
LOCATION:Agnes Flanagan Chapel\, Gregg Pavilion\, Portland\, OR\, 97219\, United States
CATEGORIES:Music
ATTACH;FMTTYPE=image/jpeg:https://artslandia.com/wp-content/uploads/2024/09/gail_archer_stephanie_berger1-e1727182498147.jpg
END:VEVENT
BEGIN:VEVENT
DTSTART;TZID=America/Los_Angeles:20240927T193000
DTEND;TZID=America/Los_Angeles:20240927T223000
DTSTAMP:20260421T054803
CREATED:20240831T050128Z
LAST-MODIFIED:20240910T165358Z
UID:10000358-1727465400-1727476200@artslandia.com
SUMMARY:Always…Patsy Cline
DESCRIPTION:A musical love letter to the beautiful powerhouse who broke the glass ceiling\, barriers between country and pop\, and millions of hearts in her short singing career. –Westside Theatre Reviews \nThis heartfelt revue tells the true story of the country music legend’s unlikely friendship with a fan\, Louise Seger\, cemented by years of letter writing. Featuring a wealth of Cline’s beloved hits such as “Walkin’ After Midnight\,” “I Fall To Pieces\,” “Crazy\,” and “Sweet Dreams\,” Always…Patsy Cline returns by popular demand\, with Sharon Maroney as Louise and Sara Catherine Holder reprising the title role. \nTickets are priced from $30 to $52 for adults (depending on date). Tickets in the upper section for ages 6-18 are $20 and ages 19-35 are $25. \nCreated and originally directed by Ted Swindley – based on a true story.\nDirected by Chan Harris \nFor more details contact the box office at 503.620.5262 or visit www.broadwayrose.org.
URL:https://artslandia.com/event/alwayspatsy-cline/2024-09-27/
LOCATION:Broadway Rose New Stage\, 12850 SW Grant Avenue\, Tigard\, OR\, 97223\, United States
CATEGORIES:Musical
ATTACH;FMTTYPE=image/jpeg:https://artslandia.com/wp-content/uploads/2024/08/Artslandia_Always-Patsy-Cline_800x450.jpeg
END:VEVENT
END:VCALENDAR