BEGIN:VCALENDAR
VERSION:2.0
PRODID:-//Artslandia - ECPv6.15.20//NONSGML v1.0//EN
CALSCALE:GREGORIAN
METHOD:PUBLISH
X-WR-CALNAME:Artslandia
X-ORIGINAL-URL:https://artslandia.com
X-WR-CALDESC:Events for Artslandia
REFRESH-INTERVAL;VALUE=DURATION:PT1H
X-Robots-Tag:noindex
X-PUBLISHED-TTL:PT1H
BEGIN:VTIMEZONE
TZID:America/Los_Angeles
BEGIN:DAYLIGHT
TZOFFSETFROM:-0800
TZOFFSETTO:-0700
TZNAME:PDT
DTSTART:20230312T100000
END:DAYLIGHT
BEGIN:STANDARD
TZOFFSETFROM:-0700
TZOFFSETTO:-0800
TZNAME:PST
DTSTART:20231105T090000
END:STANDARD
BEGIN:DAYLIGHT
TZOFFSETFROM:-0800
TZOFFSETTO:-0700
TZNAME:PDT
DTSTART:20240310T100000
END:DAYLIGHT
BEGIN:STANDARD
TZOFFSETFROM:-0700
TZOFFSETTO:-0800
TZNAME:PST
DTSTART:20241103T090000
END:STANDARD
BEGIN:DAYLIGHT
TZOFFSETFROM:-0800
TZOFFSETTO:-0700
TZNAME:PDT
DTSTART:20250309T100000
END:DAYLIGHT
BEGIN:STANDARD
TZOFFSETFROM:-0700
TZOFFSETTO:-0800
TZNAME:PST
DTSTART:20251102T090000
END:STANDARD
END:VTIMEZONE
BEGIN:VEVENT
DTSTART;TZID=America/Los_Angeles:20241015T193000
DTEND;TZID=America/Los_Angeles:20241015T213000
DTSTAMP:20260421T002755
CREATED:20240831T050502Z
LAST-MODIFIED:20240905T222917Z
UID:10000276-1729020600-1729027800@artslandia.com
SUMMARY:Special Event: Malcolm Gladwell
DESCRIPTION:Gladwell’s seminal work\, The Tipping Point: How Little Things Make a Big Difference\, was published in the year 2000 and launched the global “big idea” publishing phenomenon—a hugely popular genre blending social science\, history\, pop culture\, and business to revolutionize the way we view ourselves and the world. His books have since sold more than 23 million copies in North America alone. In his new book\, Gladwell draws on completely fresh case studies to rethink and expand on his original models from The Tipping Point about how trends are born\, catch on\, and spread. \nRevenge of the Tipping Point promises to be Gladwell’s most personal and urgent book yet\, as he examines with new eyes the phenomenon of social epidemics in light of the events and lessons of the last twenty-five years. The book will be released October 1\, 2024\, and select levels of tickets include a copy of the book.
URL:https://artslandia.com/event/special-event-malcolm-gladwell/
LOCATION:Arlene Schnitzer Concert Hall\, 1037 SW Broadway Ave\, Portland\, OR\, 97205\, United States
CATEGORIES:Event
ATTACH;FMTTYPE=image/png:https://artslandia.com/wp-content/uploads/2024/08/110_LA_MalcolmGladwell-e1725575347459.png
END:VEVENT
END:VCALENDAR