BEGIN:VCALENDAR
VERSION:2.0
PRODID:-//Artslandia - ECPv6.15.20//NONSGML v1.0//EN
CALSCALE:GREGORIAN
METHOD:PUBLISH
X-ORIGINAL-URL:https://artslandia.com
X-WR-CALDESC:Events for Artslandia
REFRESH-INTERVAL;VALUE=DURATION:PT1H
X-Robots-Tag:noindex
X-PUBLISHED-TTL:PT1H
BEGIN:VTIMEZONE
TZID:America/Los_Angeles
BEGIN:DAYLIGHT
TZOFFSETFROM:-0800
TZOFFSETTO:-0700
TZNAME:PDT
DTSTART:20230312T100000
END:DAYLIGHT
BEGIN:STANDARD
TZOFFSETFROM:-0700
TZOFFSETTO:-0800
TZNAME:PST
DTSTART:20231105T090000
END:STANDARD
BEGIN:DAYLIGHT
TZOFFSETFROM:-0800
TZOFFSETTO:-0700
TZNAME:PDT
DTSTART:20240310T100000
END:DAYLIGHT
BEGIN:STANDARD
TZOFFSETFROM:-0700
TZOFFSETTO:-0800
TZNAME:PST
DTSTART:20241103T090000
END:STANDARD
BEGIN:DAYLIGHT
TZOFFSETFROM:-0800
TZOFFSETTO:-0700
TZNAME:PDT
DTSTART:20250309T100000
END:DAYLIGHT
BEGIN:STANDARD
TZOFFSETFROM:-0700
TZOFFSETTO:-0800
TZNAME:PST
DTSTART:20251102T090000
END:STANDARD
END:VTIMEZONE
BEGIN:VEVENT
DTSTART;TZID=America/Los_Angeles:20241018T190000
DTEND;TZID=America/Los_Angeles:20241018T220000
DTSTAMP:20260420T150914
CREATED:20240831T050343Z
LAST-MODIFIED:20240905T222309Z
UID:10000263-1729278000-1729288800@artslandia.com
SUMMARY:Bach & Telemann: French Finesse
DESCRIPTION:An intimate evening of French-inspired chamber music for gamba\, violin\, flute\, and harpsichord. \nTelemann and Bach\, two esteemed German composers and friends\, draw inspiration from the sonic richness and rhythmic nuance of the French style\, infusing this program with a unique vibrancy. From the graceful elegance of Telemann’s Paris Quartet to the counterpoint of Bach’s Trio Sonata\, we embark on a journey through an exotic musical landscape.
URL:https://artslandia.com/event/bach-telemann-french-finesse/
LOCATION:Sanctuary Hall at First Congregational\, 1126 SW Park Ave\, Portland\, OR\, 97205\, United States
CATEGORIES:Music
ATTACH;FMTTYPE=image/png:https://artslandia.com/wp-content/uploads/2024/08/PBO_FrenchFinesse_Horiz-e1725574974163.png
END:VEVENT
BEGIN:VEVENT
DTSTART;TZID=America/Los_Angeles:20241018T193000
DTEND;TZID=America/Los_Angeles:20241018T213000
DTSTAMP:20260420T150914
CREATED:20240831T050819Z
LAST-MODIFIED:20240905T213602Z
UID:10000313-1729279800-1729287000@artslandia.com
SUMMARY:BodyVox: BloodyVox
DESCRIPTION:Join us as BodyVox celebrates its favorite holiday! Start with a group of world-class dancers\, add a touch of bloody spills\, a hint of spy thrills\, and top it off with a healthy dose of ghostly chills\, and you get BloodyVox. Described as\, “…the city’s most popular and internationally renowned dance troupe” (The Oregonian)\, BodyVox comes to the Walters with their performance of BloodyVox\, led by Emmy Award-winning choreographers Jamey Hampton and Ashley Roland. \nChanneling Hitchcock\, Lugosi\, and Karloff and bringing All Hallow’s Eve to life\, it’s a real treat for all! Bring friends to hold tight\, as the show includes the things that go bump in the night! \nRecommended for ages 10 and above. \nPlease Note: This performance may include the use of strobe light effects during one piece.
URL:https://artslandia.com/event/bodyvox-bloodyvox/
LOCATION:Walters Cultural Arts Center\, 527 East Main Street\, Hillsboro\, OR\, 97123\, United States
CATEGORIES:Dance
ATTACH;FMTTYPE=image/jpeg:https://artslandia.com/wp-content/uploads/2024/08/147_WCAC_BloodyVox-e1725572138304.jpg
END:VEVENT
BEGIN:VEVENT
DTSTART;TZID=America/Los_Angeles:20241018T193000
DTEND;TZID=America/Los_Angeles:20241018T220000
DTSTAMP:20260420T150914
CREATED:20240831T050310Z
LAST-MODIFIED:20240910T165744Z
UID:10000438-1729279800-1729288800@artslandia.com
SUMMARY:Amélie
DESCRIPTION:Step into the magical world of Amélie Poulain’s Paris\, where small acts of kindness ignite happiness and connection. \nIn the bustling streets of the city\, Amélie\, a waitress with a rich imagination undertakes clever and covert acts of kindness. Through these acts\, she discovers that there are endless possibilities hidden around every corner. However\, when an opportunity for love presents itself\, Amélie is faced with a choice: to secure her own happiness\, she must take a leap of faith and reveal her heart. Will she do it? \nThis beautiful musical\, based on the 5-times Oscar nominated 2001 film\, celebrates an imaginative dreamer who discovers the courage to connect & the transformative power of the little things in life. Who knows\, maybe Amélie’s story will inspire you to discover the ripple effects of kindness in your own community.
URL:https://artslandia.com/event/amelie/2024-10-18/
LOCATION:Portland Playhouse\, 602 NE Prescott St\, Portland\, OR\, 97211\, United States
CATEGORIES:Musical
ATTACH;FMTTYPE=image/png:https://artslandia.com/wp-content/uploads/2024/09/91_PP_Amelie-e1725987456885.png
END:VEVENT
BEGIN:VEVENT
DTSTART;TZID=America/Los_Angeles:20241018T193000
DTEND;TZID=America/Los_Angeles:20241018T223000
DTSTAMP:20260420T150914
CREATED:20240831T045415Z
LAST-MODIFIED:20240923T161432Z
UID:10001309-1729279800-1729290600@artslandia.com
SUMMARY:Sweeney Todd: The Demon Barber of Fleet Street
DESCRIPTION:After 15 years in exile on a trumped up conviction\, Sweeney Todd returns to the grit and grime of Victorian London\, bent on reclaiming his life and exacting bloody retribution. With the help of his trusty razors and his plotting landlady and pie-shop owner\, Mrs. Lovett\, Sweeney tears through a corrupt society proving revenge is a dish best served piping hot. This Sondheim classic is to die for! \nPreview the Magazine >>
URL:https://artslandia.com/event/sweeney-todd-the-demon-barber-of-fleet-street-2/2024-10-18/
LOCATION:U.S. Bank Main Stage\, 128 NW Eleventh Ave\, Portland\, OR\, 97209\, United States
CATEGORIES:Musical,Theater
ATTACH;FMTTYPE=image/png:https://artslandia.com/wp-content/uploads/2024/08/Screenshot-2024-09-05-at-3.09.24 PM-e1725563477302.png
END:VEVENT
END:VCALENDAR