BEGIN:VCALENDAR
VERSION:2.0
PRODID:-//Artslandia - ECPv6.15.20//NONSGML v1.0//EN
CALSCALE:GREGORIAN
METHOD:PUBLISH
X-ORIGINAL-URL:https://artslandia.com
X-WR-CALDESC:Events for Artslandia
REFRESH-INTERVAL;VALUE=DURATION:PT1H
X-Robots-Tag:noindex
X-PUBLISHED-TTL:PT1H
BEGIN:VTIMEZONE
TZID:America/Los_Angeles
BEGIN:DAYLIGHT
TZOFFSETFROM:-0800
TZOFFSETTO:-0700
TZNAME:PDT
DTSTART:20230312T100000
END:DAYLIGHT
BEGIN:STANDARD
TZOFFSETFROM:-0700
TZOFFSETTO:-0800
TZNAME:PST
DTSTART:20231105T090000
END:STANDARD
BEGIN:DAYLIGHT
TZOFFSETFROM:-0800
TZOFFSETTO:-0700
TZNAME:PDT
DTSTART:20240310T100000
END:DAYLIGHT
BEGIN:STANDARD
TZOFFSETFROM:-0700
TZOFFSETTO:-0800
TZNAME:PST
DTSTART:20241103T090000
END:STANDARD
BEGIN:DAYLIGHT
TZOFFSETFROM:-0800
TZOFFSETTO:-0700
TZNAME:PDT
DTSTART:20250309T100000
END:DAYLIGHT
BEGIN:STANDARD
TZOFFSETFROM:-0700
TZOFFSETTO:-0800
TZNAME:PST
DTSTART:20251102T090000
END:STANDARD
END:VTIMEZONE
BEGIN:VEVENT
DTSTART;TZID=America/Los_Angeles:20241116T140000
DTEND;TZID=America/Los_Angeles:20241116T163000
DTSTAMP:20260425T183440
CREATED:20240831T045416Z
LAST-MODIFIED:20241106T191319Z
UID:10000481-1731765600-1731774600@artslandia.com
SUMMARY:Liberace & Liza: Holiday at the Mansion (A Tribute)
DESCRIPTION:Local favorites David Saffert and Jillian Snow are BACK! Join them as they sparkle in this exhilarating night of musical and comical fireworks. Settle in for a glamorous evening as they bring two icons to life. Liberace & Liza delights in some of show business’ wildest and most well known personalities\, sharing iconic musical numbers\, enchanting costumes and unforgettable laughs. Make your visit to the mansion a holiday tradition! \nPreview the Magazine >>
URL:https://artslandia.com/event/liberace-liza-holiday-at-the-mansion-a-tribute-2/2024-11-16/1/
LOCATION:Ellyn Bye Studio\, 128 NW Eleventh Ave\, Portland\, OR\, 97209\, United States
CATEGORIES:Musical,Theater
ATTACH;FMTTYPE=image/png:https://artslandia.com/wp-content/uploads/2024/08/PCS_Lib_Horiz-e1725566313551.png
END:VEVENT
BEGIN:VEVENT
DTSTART;TZID=America/Los_Angeles:20241116T190000
DTEND;TZID=America/Los_Angeles:20241116T220000
DTSTAMP:20260425T183440
CREATED:20240831T050344Z
LAST-MODIFIED:20240905T224706Z
UID:10000264-1731783600-1731794400@artslandia.com
SUMMARY:The Royal Trumpeter: Kris's Podium
DESCRIPTION:Trace the fascinating evolution of the trumpet from its utilitarian roots on the battlefield to its emergence as a refined instrument of expressive virtuosity. Curated by Principal Trumpet Kris Kwapis\, this program delves into the vibrant soundscape of late seventeenth-century London\, where the trumpet takes center stage alongside strings\, winds\, and voices in England’s regal courts. Celebrate the brilliance of composers such as Purcell\, Croft\, and Eccles\, whose works epitomize splendor and sophistication in an era defined by royal patronage.
URL:https://artslandia.com/event/the-royal-trumpeter-kriss-podium/
LOCATION:Sanctuary Hall at First Congregational\, 1126 SW Park Ave\, Portland\, OR\, 97205\, United States
CATEGORIES:Music
ATTACH;FMTTYPE=image/png:https://artslandia.com/wp-content/uploads/2024/08/PBO_Trumpeter_Horiz-e1725576404157.png
END:VEVENT
BEGIN:VEVENT
DTSTART;TZID=America/Los_Angeles:20241116T193000
DTEND;TZID=America/Los_Angeles:20241116T210000
DTSTAMP:20260425T183440
CREATED:20240831T050308Z
LAST-MODIFIED:20240910T185945Z
UID:10000640-1731785400-1731790800@artslandia.com
SUMMARY:The Juliet Letters
DESCRIPTION:Shakespeare’s tragic character\, Juliet Capulet\, continues to captivate us four hundred years later. To this day\, thousands of tourists from all over the world visit a crumbling balcony in Verona\, Italy to share their deepest feelings in the form of letters to Juliet. This phenomenon of human connection and emotion fascinated British post-punk icon Elvis Costello\, resulting in a studio album with The Brodsky Quartet in 1993. The genre-bending collaboration produced a unique song sequence for string quartet and voice that carries us on an intimate journey of hope\, loss\, and longing—all seen through the lens of love.
URL:https://artslandia.com/event/the-juliet-letters/2024-11-16/
LOCATION:Artists Repertory Theatre\, 1515 SW Morrison Street\, Portland\, OR\, 97205\, United States
CATEGORIES:Opera
ATTACH;FMTTYPE=image/jpeg:https://artslandia.com/wp-content/uploads/2024/09/88_PO_JulietLetters-e1725994779658.jpg
END:VEVENT
BEGIN:VEVENT
DTSTART;TZID=America/Los_Angeles:20241116T193000
DTEND;TZID=America/Los_Angeles:20241116T220000
DTSTAMP:20260425T183440
CREATED:20240831T045416Z
LAST-MODIFIED:20241106T191319Z
UID:10000482-1731785400-1731794400@artslandia.com
SUMMARY:Liberace & Liza: Holiday at the Mansion (A Tribute)
DESCRIPTION:Local favorites David Saffert and Jillian Snow are BACK! Join them as they sparkle in this exhilarating night of musical and comical fireworks. Settle in for a glamorous evening as they bring two icons to life. Liberace & Liza delights in some of show business’ wildest and most well known personalities\, sharing iconic musical numbers\, enchanting costumes and unforgettable laughs. Make your visit to the mansion a holiday tradition! \nPreview the Magazine >>
URL:https://artslandia.com/event/liberace-liza-holiday-at-the-mansion-a-tribute-2/2024-11-16/2/
LOCATION:Ellyn Bye Studio\, 128 NW Eleventh Ave\, Portland\, OR\, 97209\, United States
CATEGORIES:Musical,Theater
ATTACH;FMTTYPE=image/png:https://artslandia.com/wp-content/uploads/2024/08/PCS_Lib_Horiz-e1725566313551.png
END:VEVENT
BEGIN:VEVENT
DTSTART;TZID=America/Los_Angeles:20241116T193000
DTEND;TZID=America/Los_Angeles:20241116T220000
DTSTAMP:20260425T183440
CREATED:20240831T045815Z
LAST-MODIFIED:20241028T212929Z
UID:10000196-1731785400-1731794400@artslandia.com
SUMMARY:Frozen in Concert
DESCRIPTION:Academy Award® winner for Best Animated Feature\, Disney’s Frozen follows fearless optimist Anna on an epic journey to find her sister Elsa whose icy powers have trapped the kingdom of Arendelle in eternal winter. Watch as Elsa\, along with her hilarious snowman companion Olaf\, battle the elements in a race to save the kingdom. Experience this heartwarming story on the big screen with the Oregon Symphony performing the score live. It’s dazzling fun for the entire family! \nPreview the Magazine >>
URL:https://artslandia.com/event/frozen-in-concert-2/2024-11-16/
LOCATION:Arlene Schnitzer Concert Hall\, 1037 SW Broadway Ave\, Portland\, OR\, 97205\, United States
CATEGORIES:Family Fun,Film,Kid-Friendly,Music
ATTACH;FMTTYPE=image/png:https://artslandia.com/wp-content/uploads/2024/09/30_ORS_Nov_Frozen.png
END:VEVENT
BEGIN:VEVENT
DTSTART;TZID=America/Los_Angeles:20241116T193000
DTEND;TZID=America/Los_Angeles:20241116T220000
DTSTAMP:20260425T183440
CREATED:20240831T050621Z
LAST-MODIFIED:20240905T225135Z
UID:10000297-1731785400-1731794400@artslandia.com
SUMMARY:Restless
DESCRIPTION:Orchestra Nova Northwest presents a fascinating and engaging program featuring a dynamic work by Anna Clyne that draws inspiration and its title from Audre Lorde’s poem A Woman Speaks\, a delightful and charming neoclassical cello concerto by Dmitri Kabalevsky featuring ONN’s Principal Cello Katherine Schultz\, and Igor Stravinsky’s iconic neoclassic ballet music for Pulcinella created from\, and written in the style of\, Baroque master Giovanni Pergolesi. Music Director Steven Byess will deliver insightful and entertaining commentary and insights throughout this delightful program.
URL:https://artslandia.com/event/restless/
LOCATION:Buckley Center\, University of Portland\, 5000 N Willamette Blvd\, Portland\, OR\, 97203\, United States
CATEGORIES:Music
ATTACH;FMTTYPE=image/jpeg:https://artslandia.com/wp-content/uploads/2024/08/131_ONN_Restless-e1725576682647.jpg
END:VEVENT
BEGIN:VEVENT
DTSTART;TZID=America/Los_Angeles:20241116T193000
DTEND;TZID=America/Los_Angeles:20241116T220000
DTSTAMP:20260425T183440
CREATED:20240831T050947Z
LAST-MODIFIED:20240906T135044Z
UID:10001272-1731785400-1731794400@artslandia.com
SUMMARY:A Christmas Story: The Musical
DESCRIPTION:Based on the movie classic set in the 1940s the musical follows 9-year-old Ralphie Parker and his quest for the Holy Grail of Christmas gifts—an Official Red Ryder carbine-action 200-shot Range Model BB gun. Rebuffed at every turn. Ralphie plots numerous schemes to achieve his desperate desire for the coveted BB gun.
URL:https://artslandia.com/event/a-christmas-story-the-musical/2024-11-16/
LOCATION:Lakewood Center for the Arts\, 368 S. State Street\, Lake Oswego\, OR\, 97034\, United States
CATEGORIES:Holiday,Musical
ATTACH;FMTTYPE=image/png:https://artslandia.com/wp-content/uploads/2024/09/169_Lakewood_XmasStory-e1725630277480.png
END:VEVENT
END:VCALENDAR