BEGIN:VCALENDAR
VERSION:2.0
PRODID:-//Artslandia - ECPv6.15.20//NONSGML v1.0//EN
CALSCALE:GREGORIAN
METHOD:PUBLISH
X-WR-CALNAME:Artslandia
X-ORIGINAL-URL:https://artslandia.com
X-WR-CALDESC:Events for Artslandia
REFRESH-INTERVAL;VALUE=DURATION:PT1H
X-Robots-Tag:noindex
X-PUBLISHED-TTL:PT1H
BEGIN:VTIMEZONE
TZID:America/Los_Angeles
BEGIN:DAYLIGHT
TZOFFSETFROM:-0800
TZOFFSETTO:-0700
TZNAME:PDT
DTSTART:20240310T100000
END:DAYLIGHT
BEGIN:STANDARD
TZOFFSETFROM:-0700
TZOFFSETTO:-0800
TZNAME:PST
DTSTART:20241103T090000
END:STANDARD
BEGIN:DAYLIGHT
TZOFFSETFROM:-0800
TZOFFSETTO:-0700
TZNAME:PDT
DTSTART:20250309T100000
END:DAYLIGHT
BEGIN:STANDARD
TZOFFSETFROM:-0700
TZOFFSETTO:-0800
TZNAME:PST
DTSTART:20251102T090000
END:STANDARD
BEGIN:DAYLIGHT
TZOFFSETFROM:-0800
TZOFFSETTO:-0700
TZNAME:PDT
DTSTART:20260308T100000
END:DAYLIGHT
BEGIN:STANDARD
TZOFFSETFROM:-0700
TZOFFSETTO:-0800
TZNAME:PST
DTSTART:20261101T090000
END:STANDARD
END:VTIMEZONE
BEGIN:VEVENT
DTSTART;TZID=America/Los_Angeles:20250103T193000
DTEND;TZID=America/Los_Angeles:20250103T230000
DTSTAMP:20260423T055346
CREATED:20240831T045908Z
LAST-MODIFIED:20241223T192253Z
UID:10001395-1735932600-1735945200@artslandia.com
SUMMARY:Harry Potter and the Deathly Hallows™ Part 2 in Concert
DESCRIPTION:In the epic finale to the Harry Potter™ Film Concert Series\, the battle between good and evil forces of the wizarding world escalates into an all-out war! Harry Potter and the Deathly Hallows™ Part 2 in Concert brings the final chapter to the big screen as the Oregon Symphony performs every note of the magical score. The stakes have never been higher! \nPreview the Magazine >>
URL:https://artslandia.com/event/harry-potter-and-the-deathly-hallows-part-2-in-concert-2/2025-01-03/
LOCATION:Arlene Schnitzer Concert Hall\, 1037 SW Broadway Ave\, Portland\, OR\, 97205\, United States
CATEGORIES:Film,Music
ATTACH;FMTTYPE=image/png:https://artslandia.com/wp-content/uploads/2024/07/39_ORS_Jan_HPDeathlyHallows2.png
END:VEVENT
END:VCALENDAR