BEGIN:VCALENDAR
VERSION:2.0
PRODID:-//Artslandia - ECPv6.15.20//NONSGML v1.0//EN
CALSCALE:GREGORIAN
METHOD:PUBLISH
X-WR-CALNAME:Artslandia
X-ORIGINAL-URL:https://artslandia.com
X-WR-CALDESC:Events for Artslandia
REFRESH-INTERVAL;VALUE=DURATION:PT1H
X-Robots-Tag:noindex
X-PUBLISHED-TTL:PT1H
BEGIN:VTIMEZONE
TZID:America/Los_Angeles
BEGIN:DAYLIGHT
TZOFFSETFROM:-0800
TZOFFSETTO:-0700
TZNAME:PDT
DTSTART:20240310T100000
END:DAYLIGHT
BEGIN:STANDARD
TZOFFSETFROM:-0700
TZOFFSETTO:-0800
TZNAME:PST
DTSTART:20241103T090000
END:STANDARD
BEGIN:DAYLIGHT
TZOFFSETFROM:-0800
TZOFFSETTO:-0700
TZNAME:PDT
DTSTART:20250309T100000
END:DAYLIGHT
BEGIN:STANDARD
TZOFFSETFROM:-0700
TZOFFSETTO:-0800
TZNAME:PST
DTSTART:20251102T090000
END:STANDARD
BEGIN:DAYLIGHT
TZOFFSETFROM:-0800
TZOFFSETTO:-0700
TZNAME:PDT
DTSTART:20260308T100000
END:DAYLIGHT
BEGIN:STANDARD
TZOFFSETFROM:-0700
TZOFFSETTO:-0800
TZNAME:PST
DTSTART:20261101T090000
END:STANDARD
END:VTIMEZONE
BEGIN:VEVENT
DTSTART;TZID=America/Los_Angeles:20250112T140000
DTEND;TZID=America/Los_Angeles:20250112T163000
DTSTAMP:20260425T120351
CREATED:20240831T045925Z
LAST-MODIFIED:20241223T192325Z
UID:10000549-1736690400-1736699400@artslandia.com
SUMMARY:Beethoven's Emperor: Leaders & Pathbreakers
DESCRIPTION:Composed while the Napoleonic Wars raged outside his door\, Beethoven’s heroic piano concerto receives a powerhouse performance from the world-renowned Yefim Bronfman\, who brings “fire and poetry” (Seattle Post-Intelligencer) to each epic moment. And Duke Ellington connects past and present in the jazzy dreamscapes of Three Black Kings\, his soulful tribute to Martin Luther King\, Jr. \nPreview the Magazine >>
URL:https://artslandia.com/event/beethovens-emperor-leaders-pathbreakers-2/2025-01-12/
LOCATION:Arlene Schnitzer Concert Hall\, 1037 SW Broadway Ave\, Portland\, OR\, 97205\, United States
CATEGORIES:Music
ATTACH;FMTTYPE=image/png:https://artslandia.com/wp-content/uploads/2024/07/40_ORS_Jan_BeethovenEmp.png
END:VEVENT
BEGIN:VEVENT
DTSTART;TZID=America/Los_Angeles:20250112T140000
DTEND;TZID=America/Los_Angeles:20250112T163000
DTSTAMP:20260425T120351
CREATED:20241205T203447Z
LAST-MODIFIED:20241205T203447Z
UID:10001390-1736690400-1736699400@artslandia.com
SUMMARY:Krapp’s Last Tape
DESCRIPTION:Krapp’s Last Tape\, a rarely seen gem from Nobel Prize–winning playwright Samuel Beckett\, opens Friday\, January 4th at 21Ten Theater! \nThis succinct and searing play features veteran Portland actor Bruce Burkhartsmeier in the title role\, and is directed by the luminary Victoria Parker-Pohl. \nThis play cleverly and movingly examines three iterations of one man—at ages 29\, 39 and 69—as captured on tape. Critic Michael Billington writes that Krapp’s Last Tape “never ceases to astonish.”
URL:https://artslandia.com/event/krapps-last-tape/2025-01-12/
LOCATION:21Ten Theatre\, 2110 SE 10th Avenue\, Portland\, OR\, 97214\, United States
CATEGORIES:Theater
ATTACH;FMTTYPE=image/png:https://artslandia.com/wp-content/uploads/2024/12/DeepEndLogo-e1733430878848.png
END:VEVENT
BEGIN:VEVENT
DTSTART;TZID=America/Los_Angeles:20250112T193000
DTEND;TZID=America/Los_Angeles:20250112T220000
DTSTAMP:20260425T120351
CREATED:20241217T201314Z
LAST-MODIFIED:20241217T201314Z
UID:10001398-1736710200-1736719200@artslandia.com
SUMMARY:A Powerful Voice Rises: Soloists in the Spotlight
DESCRIPTION:MYS’ dynamic January concert will feature a guest artist who breaks the barriers of how and where classical music can be performed and enjoyed: Hunter Noack! \nIn performance with Symphony Orchestra\, Noack will present Sergei Rachmaninoff’s “Piano Concerto No.2\, Op.18.” Noack is a classical pianist and founder of the wilderness concert series\, “IN A LANDSCAPE: Classical Music in the Wild™”\, a unique example of solo performance breaking the confines of the concert hall. \nFurther\, Symphony Orchestra will present the world premiere of “Seas of Glass” by YCP/Authentic Voice student composer Frazar Henry. The concert will also feature the winners of MYS’ Concerto Competition: Leena Karmarkar (violin) will perform “Violin Concerto in A minor\, Op. 53\, Mvt. 3” by Antonín Dvořák\, and Kaden Prichard (clarinet) will perform “Clarinet Concerto No. 2 in E-flat major\, Op. 74\, Mvt. 3” by Carl Maria von Weber.
URL:https://artslandia.com/event/a-powerful-voice-rises-soloists-in-the-spotlight/
LOCATION:Newmark Theatre\, 1111 SW Broadway\, Portland\, OR\, 97205\, United States
CATEGORIES:Music
ATTACH;FMTTYPE=image/jpeg:https://artslandia.com/wp-content/uploads/2024/12/MYS-Jan.-12-concert-online-calendar-listing.jpg
END:VEVENT
END:VCALENDAR