BEGIN:VCALENDAR
VERSION:2.0
PRODID:-//Artslandia - ECPv6.15.20//NONSGML v1.0//EN
CALSCALE:GREGORIAN
METHOD:PUBLISH
X-WR-CALNAME:Artslandia
X-ORIGINAL-URL:https://artslandia.com
X-WR-CALDESC:Events for Artslandia
REFRESH-INTERVAL;VALUE=DURATION:PT1H
X-Robots-Tag:noindex
X-PUBLISHED-TTL:PT1H
BEGIN:VTIMEZONE
TZID:America/Los_Angeles
BEGIN:DAYLIGHT
TZOFFSETFROM:-0800
TZOFFSETTO:-0700
TZNAME:PDT
DTSTART:20240310T100000
END:DAYLIGHT
BEGIN:STANDARD
TZOFFSETFROM:-0700
TZOFFSETTO:-0800
TZNAME:PST
DTSTART:20241103T090000
END:STANDARD
BEGIN:DAYLIGHT
TZOFFSETFROM:-0800
TZOFFSETTO:-0700
TZNAME:PDT
DTSTART:20250309T100000
END:DAYLIGHT
BEGIN:STANDARD
TZOFFSETFROM:-0700
TZOFFSETTO:-0800
TZNAME:PST
DTSTART:20251102T090000
END:STANDARD
BEGIN:DAYLIGHT
TZOFFSETFROM:-0800
TZOFFSETTO:-0700
TZNAME:PDT
DTSTART:20260308T100000
END:DAYLIGHT
BEGIN:STANDARD
TZOFFSETFROM:-0700
TZOFFSETTO:-0800
TZNAME:PST
DTSTART:20261101T090000
END:STANDARD
END:VTIMEZONE
BEGIN:VEVENT
DTSTART;TZID=America/Los_Angeles:20250317T193000
DTEND;TZID=America/Los_Angeles:20250317T220000
DTSTAMP:20260421T133424
CREATED:20240831T050016Z
LAST-MODIFIED:20250304T171101Z
UID:10000582-1742239800-1742248800@artslandia.com
SUMMARY:Schumann 4: From Sorrow to Ecstasy
DESCRIPTION:A work of searing drama and intensity\, Schumann’s Fourth Symphony charts an emotional journey to rapturous joy in one uninterrupted flow of achingly romantic music. Plus\, Jeffrey Kahane mixes operatic lyricism with the playful intimacy of chamber music in Mozart’s Piano Concerto No. 22\, a work that “flows from Kahane’s hands as refreshingly as water from a crystalline spring” (LA Times). \nPreview the Magazine >>
URL:https://artslandia.com/event/schumann-4-from-sorrow-to-ecstasy-2/2025-03-17/
LOCATION:Arlene Schnitzer Concert Hall\, 1037 SW Broadway Ave\, Portland\, OR\, 97205\, United States
CATEGORIES:Music
ATTACH;FMTTYPE=image/png:https://artslandia.com/wp-content/uploads/2024/07/50_ORS_Mar_Schumann4.png
END:VEVENT
END:VCALENDAR