BEGIN:VCALENDAR
VERSION:2.0
PRODID:-//Artslandia - ECPv6.15.20//NONSGML v1.0//EN
CALSCALE:GREGORIAN
METHOD:PUBLISH
X-WR-CALNAME:Artslandia
X-ORIGINAL-URL:https://artslandia.com
X-WR-CALDESC:Events for Artslandia
REFRESH-INTERVAL;VALUE=DURATION:PT1H
X-Robots-Tag:noindex
X-PUBLISHED-TTL:PT1H
BEGIN:VTIMEZONE
TZID:America/Los_Angeles
BEGIN:DAYLIGHT
TZOFFSETFROM:-0800
TZOFFSETTO:-0700
TZNAME:PDT
DTSTART:20240310T100000
END:DAYLIGHT
BEGIN:STANDARD
TZOFFSETFROM:-0700
TZOFFSETTO:-0800
TZNAME:PST
DTSTART:20241103T090000
END:STANDARD
BEGIN:DAYLIGHT
TZOFFSETFROM:-0800
TZOFFSETTO:-0700
TZNAME:PDT
DTSTART:20250309T100000
END:DAYLIGHT
BEGIN:STANDARD
TZOFFSETFROM:-0700
TZOFFSETTO:-0800
TZNAME:PST
DTSTART:20251102T090000
END:STANDARD
BEGIN:DAYLIGHT
TZOFFSETFROM:-0800
TZOFFSETTO:-0700
TZNAME:PDT
DTSTART:20260308T100000
END:DAYLIGHT
BEGIN:STANDARD
TZOFFSETFROM:-0700
TZOFFSETTO:-0800
TZNAME:PST
DTSTART:20261101T090000
END:STANDARD
END:VTIMEZONE
BEGIN:VEVENT
DTSTART;TZID=America/Los_Angeles:20250418T193000
DTEND;TZID=America/Los_Angeles:20250418T220000
DTSTAMP:20260420T052838
CREATED:20240831T045423Z
LAST-MODIFIED:20250224T180312Z
UID:10000826-1745004600-1745013600@artslandia.com
SUMMARY:The Light
DESCRIPTION:Today should be the happiest day of Rashad and Genesis’ lives—he’s planned it all out—the perfect proposal before the perfect concert from the couple’s favorite artist. Things\, however\, almost never go as planned and when old secrets put their relationship at risk\, they are forced to confront their commitment to each other and to justice. This intimate and moving play set amid the Kavanaugh hearings makes the political quite personal\, in a real time rollercoaster ride of romance and reckoning. \nPreview the Magazine >>
URL:https://artslandia.com/event/the-light-2/2025-04-18/
LOCATION:Ellyn Bye Studio\, 128 NW Eleventh Ave\, Portland\, OR\, 97209\, United States
CATEGORIES:Theater
ATTACH;FMTTYPE=image/png:https://artslandia.com/wp-content/uploads/2024/08/PCS_Light_Horiz-e1725581329141.png
END:VEVENT
BEGIN:VEVENT
DTSTART;TZID=America/Los_Angeles:20250418T193000
DTEND;TZID=America/Los_Angeles:20250418T220000
DTSTAMP:20260420T052838
CREATED:20240831T050145Z
LAST-MODIFIED:20240910T191816Z
UID:10000602-1745004600-1745013600@artslandia.com
SUMMARY:Grease
DESCRIPTION:Get ready to rock n’ roll with Rydell High’s senior class! Grease picks up the story of head “greaser” Danny and girl-next-door Sandy where their summer lovin’ left off: the start of a new school year. Amongst “Burger Palace Boys\,” “Pink Ladies\,” fast cars\, and teen angst\, this musical evokes the looks and sounds of the 1950s. Grease has earned its place among the world’s most popular musicals\, and is filled with favorite songs and dance numbers such as “Greased Lightnin’\,” “We Go Together\,” “Hopelessly Devoted to You\,” and “You’re the One That I Want.”
URL:https://artslandia.com/event/grease/2025-04-18/
LOCATION:Broadway Rose New Stage\, 12850 SW Grant Avenue\, Tigard\, OR\, 97223\, United States
CATEGORIES:Musical
ATTACH;FMTTYPE=image/jpeg:https://artslandia.com/wp-content/uploads/2024/09/74_BRTC_Grease.jpg
END:VEVENT
BEGIN:VEVENT
DTSTART;TZID=America/Los_Angeles:20250418T193000
DTEND;TZID=America/Los_Angeles:20250418T220000
DTSTAMP:20260420T052838
CREATED:20241011T161146Z
LAST-MODIFIED:20250414T174826Z
UID:10001516-1745004600-1745013600@artslandia.com
SUMMARY:Jefferson Dancers 2025 Spring Concerts
DESCRIPTION:Experience the artistry of the Jefferson Dancers this April 17–19 at the Newmark Theatre! This year’s concert features nine brand-new works that span a range of dance styles\, from classical ballet to high-energy hip-hop. Plus\, we’re thrilled to present two of our student pieces that were selected for the Outstanding Student Choreography Showcase at the National High School Dance Festival in February. Congratulations to Piper Bott for her piece Not Without Reason and Henry Roth for We Tried. \nDon’t miss an unforgettable night—get your tickets now!
URL:https://artslandia.com/event/annual-spring-concerts/2025-04-18/
LOCATION:Newmark Theatre\, 1111 SW Broadway\, Portland\, OR\, 97205\, United States
CATEGORIES:Dance
ATTACH;FMTTYPE=image/png:https://artslandia.com/wp-content/uploads/2024/10/JD-SPRINGCONCERT25-WEB-02-e1744652857129.png
END:VEVENT
END:VCALENDAR