BEGIN:VCALENDAR
VERSION:2.0
PRODID:-//Artslandia - ECPv6.15.20//NONSGML v1.0//EN
CALSCALE:GREGORIAN
METHOD:PUBLISH
X-ORIGINAL-URL:https://artslandia.com
X-WR-CALDESC:Events for Artslandia
REFRESH-INTERVAL;VALUE=DURATION:PT1H
X-Robots-Tag:noindex
X-PUBLISHED-TTL:PT1H
BEGIN:VTIMEZONE
TZID:America/Los_Angeles
BEGIN:DAYLIGHT
TZOFFSETFROM:-0800
TZOFFSETTO:-0700
TZNAME:PDT
DTSTART:20240310T100000
END:DAYLIGHT
BEGIN:STANDARD
TZOFFSETFROM:-0700
TZOFFSETTO:-0800
TZNAME:PST
DTSTART:20241103T090000
END:STANDARD
BEGIN:DAYLIGHT
TZOFFSETFROM:-0800
TZOFFSETTO:-0700
TZNAME:PDT
DTSTART:20250309T100000
END:DAYLIGHT
BEGIN:STANDARD
TZOFFSETFROM:-0700
TZOFFSETTO:-0800
TZNAME:PST
DTSTART:20251102T090000
END:STANDARD
BEGIN:DAYLIGHT
TZOFFSETFROM:-0800
TZOFFSETTO:-0700
TZNAME:PDT
DTSTART:20260308T100000
END:DAYLIGHT
BEGIN:STANDARD
TZOFFSETFROM:-0700
TZOFFSETTO:-0800
TZNAME:PST
DTSTART:20261101T090000
END:STANDARD
END:VTIMEZONE
BEGIN:VEVENT
DTSTART;TZID=America/Los_Angeles:20250512T193000
DTEND;TZID=America/Los_Angeles:20250512T220000
DTSTAMP:20260420T114337
CREATED:20240831T050109Z
LAST-MODIFIED:20250428T203851Z
UID:10000589-1747078200-1747087200@artslandia.com
SUMMARY:Impressions of the Sea
DESCRIPTION:Inspired by a lifelong passion for the sea\, Debussy’s La Mer shimmers with orchestral colors in musical portraits of tranquil waves\, brewing storms\, and the sun’s celestial journey across a radiant sky. And soloist Paul Huang brings his “stylish and polished playing” (Strad) to Korngold’s Violin Concerto\, which marries European romanticism with the gilded glamour of Hollywood film scores. \nPreview the Magazine >>
URL:https://artslandia.com/event/impressions-of-the-sea-2/2025-05-12/
LOCATION:Arlene Schnitzer Concert Hall\, 1037 SW Broadway Ave\, Portland\, OR\, 97205\, United States
CATEGORIES:Music
ATTACH;FMTTYPE=image/png:https://artslandia.com/wp-content/uploads/2024/07/57_ORS_May_ImpressionsSea-.png
END:VEVENT
END:VCALENDAR