BEGIN:VCALENDAR
VERSION:2.0
PRODID:-//Artslandia - ECPv6.15.20//NONSGML v1.0//EN
CALSCALE:GREGORIAN
METHOD:PUBLISH
X-ORIGINAL-URL:https://artslandia.com
X-WR-CALDESC:Events for Artslandia
REFRESH-INTERVAL;VALUE=DURATION:PT1H
X-Robots-Tag:noindex
X-PUBLISHED-TTL:PT1H
BEGIN:VTIMEZONE
TZID:America/Los_Angeles
BEGIN:DAYLIGHT
TZOFFSETFROM:-0800
TZOFFSETTO:-0700
TZNAME:PDT
DTSTART:20240310T100000
END:DAYLIGHT
BEGIN:STANDARD
TZOFFSETFROM:-0700
TZOFFSETTO:-0800
TZNAME:PST
DTSTART:20241103T090000
END:STANDARD
BEGIN:DAYLIGHT
TZOFFSETFROM:-0800
TZOFFSETTO:-0700
TZNAME:PDT
DTSTART:20250309T100000
END:DAYLIGHT
BEGIN:STANDARD
TZOFFSETFROM:-0700
TZOFFSETTO:-0800
TZNAME:PST
DTSTART:20251102T090000
END:STANDARD
BEGIN:DAYLIGHT
TZOFFSETFROM:-0800
TZOFFSETTO:-0700
TZNAME:PDT
DTSTART:20260308T100000
END:DAYLIGHT
BEGIN:STANDARD
TZOFFSETFROM:-0700
TZOFFSETTO:-0800
TZNAME:PST
DTSTART:20261101T090000
END:STANDARD
END:VTIMEZONE
BEGIN:VEVENT
DTSTART;TZID=America/Los_Angeles:20250603T193000
DTEND;TZID=America/Los_Angeles:20250603T220000
DTSTAMP:20260421T185256
CREATED:20240831T045424Z
LAST-MODIFIED:20250505T172431Z
UID:10000973-1748979000-1748988000@artslandia.com
SUMMARY:The Importance of Being Earnest
DESCRIPTION:A world-premiere adaptation! \nWhat’s in a name? For some people—everything. A new\, exciting spin on an old classic\, this adaptation of Oscar Wilde’s satire sparkles with wit and whimsy. To become the gentlemen they believe they’re meant to be\, Jack and Algernon must live double lives. Country mice and city mice collide in this comedy that will woo you from the very start! \nPreview the Magazine >>
URL:https://artslandia.com/event/the-importance-of-being-earnest-2/2025-06-03/
LOCATION:U.S. Bank Main Stage\, 128 NW Eleventh Ave\, Portland\, OR\, 97209\, United States
CATEGORIES:Theater
ATTACH;FMTTYPE=image/png:https://artslandia.com/wp-content/uploads/2024/08/PCS_Earnest_Horiz-e1725587524707.png
END:VEVENT
END:VCALENDAR