BEGIN:VCALENDAR
VERSION:2.0
PRODID:-//Artslandia - ECPv6.15.20//NONSGML v1.0//EN
CALSCALE:GREGORIAN
METHOD:PUBLISH
X-WR-CALNAME:Artslandia
X-ORIGINAL-URL:https://artslandia.com
X-WR-CALDESC:Events for Artslandia
REFRESH-INTERVAL;VALUE=DURATION:PT1H
X-Robots-Tag:noindex
X-PUBLISHED-TTL:PT1H
BEGIN:VTIMEZONE
TZID:America/Los_Angeles
BEGIN:DAYLIGHT
TZOFFSETFROM:-0800
TZOFFSETTO:-0700
TZNAME:PDT
DTSTART:20240310T100000
END:DAYLIGHT
BEGIN:STANDARD
TZOFFSETFROM:-0700
TZOFFSETTO:-0800
TZNAME:PST
DTSTART:20241103T090000
END:STANDARD
BEGIN:DAYLIGHT
TZOFFSETFROM:-0800
TZOFFSETTO:-0700
TZNAME:PDT
DTSTART:20250309T100000
END:DAYLIGHT
BEGIN:STANDARD
TZOFFSETFROM:-0700
TZOFFSETTO:-0800
TZNAME:PST
DTSTART:20251102T090000
END:STANDARD
BEGIN:DAYLIGHT
TZOFFSETFROM:-0800
TZOFFSETTO:-0700
TZNAME:PDT
DTSTART:20260308T100000
END:DAYLIGHT
BEGIN:STANDARD
TZOFFSETFROM:-0700
TZOFFSETTO:-0800
TZNAME:PST
DTSTART:20261101T090000
END:STANDARD
END:VTIMEZONE
BEGIN:VEVENT
DTSTART;VALUE=DATE:20250629
DTEND;VALUE=DATE:20250630
DTSTAMP:20260420T045025
CREATED:20241120T201056Z
LAST-MODIFIED:20241120T201210Z
UID:10001380-1751184000-1751216400@artslandia.com
SUMMARY:Playwright Festival 2025
DESCRIPTION:What was it like being the first to hear early drafts of Angels in America? Or Fences? Or The Glass Menagerie? Or Twelfth Night? At Playwright Festival\, you’ll know. \nLast year’s Playwright Festival gave audiences the opportunity to meet with\, and see early drafts of new work from Tony Award-nominated playwright Kristoffer Diaz and two-time Sundance Fellow christopher oscar peña. This year\, you’ll be the first to welcome the visionary 2025-2027 Featured Playwrights and see early drafts of the plays commissioned for our 2025–2027 cycle. \nAudiences are the cornerstone of our work\, and your seat at the festival makes you an active participant in the creation of new plays from some of the most unique\, powerful\, prolific\, and in-demand voices of the modern stage. \nYou’ll enjoy two workshopped readings\, and close the weekend off with a catered Artist Salon with the playwrights. You’ll have the opportunity to meet and mingle with the Featured Playwrights\, and to discuss their work\, their process\, the state of their art\, and the state of the world. While those playwrights have yet to be announced\, Profile Theatre has already identified and commissioned those writers. At Playwright Festival\, our audiences and artists build the future of live theatre together. \nTimes & Location to be announced!
URL:https://artslandia.com/event/playwright-festival-2025/2025-06-29/
LOCATION:OR
CATEGORIES:Festival,Theater
ATTACH;FMTTYPE=image/jpeg:https://artslandia.com/wp-content/uploads/2024/11/playwrightfest-2peeps-1920x1080-1.jpg
END:VEVENT
BEGIN:VEVENT
DTSTART;TZID=America/Los_Angeles:20250629T140000
DTEND;TZID=America/Los_Angeles:20250629T163000
DTSTAMP:20260420T045025
CREATED:20240831T045424Z
LAST-MODIFIED:20250505T172431Z
UID:10001000-1751205600-1751214600@artslandia.com
SUMMARY:The Importance of Being Earnest
DESCRIPTION:A world-premiere adaptation! \nWhat’s in a name? For some people—everything. A new\, exciting spin on an old classic\, this adaptation of Oscar Wilde’s satire sparkles with wit and whimsy. To become the gentlemen they believe they’re meant to be\, Jack and Algernon must live double lives. Country mice and city mice collide in this comedy that will woo you from the very start! \nPreview the Magazine >>
URL:https://artslandia.com/event/the-importance-of-being-earnest-2/2025-06-29/
LOCATION:U.S. Bank Main Stage\, 128 NW Eleventh Ave\, Portland\, OR\, 97209\, United States
CATEGORIES:Theater
ATTACH;FMTTYPE=image/png:https://artslandia.com/wp-content/uploads/2024/08/PCS_Earnest_Horiz-e1725587524707.png
END:VEVENT
BEGIN:VEVENT
DTSTART;TZID=America/Los_Angeles:20250629T140000
DTEND;TZID=America/Los_Angeles:20250629T163000
DTSTAMP:20260420T045025
CREATED:20240831T050146Z
LAST-MODIFIED:20250701T164448Z
UID:10000904-1751205600-1751214600@artslandia.com
SUMMARY:Waitress
DESCRIPTION:Grab a little slice of heaven with the Broadway-hit musical\, Waitress. With music and lyrics by Tony® Award-nominee\, Sara Bareilles\, this pop musical tells the story of Jenna\, a waitress and expert pie maker\, stuck in a small town and a loveless marriage. When a baking contest in a nearby county offers her a chance at escape\, Jenna fights to reclaim a long-forgotten part of herself. Through the support of her fellow waitresses and an unexpected romance\, Jenna begins to find the courage to take a long-abandoned dream off the shelf. Waitress celebrates the power of friendship\, dreams\, motherhood\, the family we choose\, and the beauty of a well-baked pie. Recommended for ages 13+.
URL:https://artslandia.com/event/waitress/2025-06-29/
LOCATION:Deb Fennell Auditorium\, 9000 SW Durham Rd\, Tigard\, OR\, 97224\, United States
CATEGORIES:Musical
ATTACH;FMTTYPE=image/jpeg:https://artslandia.com/wp-content/uploads/2024/08/BRTC_Waitress_Artslandia.jpg
END:VEVENT
END:VCALENDAR