BEGIN:VCALENDAR
VERSION:2.0
PRODID:-//Artslandia - ECPv6.15.20//NONSGML v1.0//EN
CALSCALE:GREGORIAN
METHOD:PUBLISH
X-WR-CALNAME:Artslandia
X-ORIGINAL-URL:https://artslandia.com
X-WR-CALDESC:Events for Artslandia
REFRESH-INTERVAL;VALUE=DURATION:PT1H
X-Robots-Tag:noindex
X-PUBLISHED-TTL:PT1H
BEGIN:VTIMEZONE
TZID:America/Los_Angeles
BEGIN:DAYLIGHT
TZOFFSETFROM:-0800
TZOFFSETTO:-0700
TZNAME:PDT
DTSTART:20240310T100000
END:DAYLIGHT
BEGIN:STANDARD
TZOFFSETFROM:-0700
TZOFFSETTO:-0800
TZNAME:PST
DTSTART:20241103T090000
END:STANDARD
BEGIN:DAYLIGHT
TZOFFSETFROM:-0800
TZOFFSETTO:-0700
TZNAME:PDT
DTSTART:20250309T100000
END:DAYLIGHT
BEGIN:STANDARD
TZOFFSETFROM:-0700
TZOFFSETTO:-0800
TZNAME:PST
DTSTART:20251102T090000
END:STANDARD
BEGIN:DAYLIGHT
TZOFFSETFROM:-0800
TZOFFSETTO:-0700
TZNAME:PDT
DTSTART:20260308T100000
END:DAYLIGHT
BEGIN:STANDARD
TZOFFSETFROM:-0700
TZOFFSETTO:-0800
TZNAME:PST
DTSTART:20261101T090000
END:STANDARD
END:VTIMEZONE
BEGIN:VEVENT
DTSTART;TZID=America/Los_Angeles:20250630T200000
DTEND;TZID=America/Los_Angeles:20250630T223000
DTSTAMP:20260420T063509
CREATED:20250513T131542Z
LAST-MODIFIED:20250513T131542Z
UID:10001525-1751313600-1751322600@artslandia.com
SUMMARY:Brandenburg All-Stars
DESCRIPTION:An array of the world’s most renowned chamber musicians unite for this one-time concert featuring Bach’s Trio Sonata with superstars violinist Shunske Sato\, flutist Emi Ferguson\, and pianist/harpsichordist Kit Armstrong\, followed by 2025 Grammy Award winner mezzo-soprano Fleur Barron with Mahler’s evocative Rückert-Lieder. The evening culminates with an all-star ensemble of CMNW favorites—violinists Soovin Kim and Jessica Lee\, violists Milena Pajaro-van de Stadt and Paul Neubauer\, and cellist Edward Arron—performing Mendelssohn’s romantic A Major Viola Quintet.
URL:https://artslandia.com/event/brandenburg-all-stars/
LOCATION:Kaul Auditorium\, Reed College\, 3203 SE Woodstock Blvd\, Portland\, OR\, 97202\, United States
CATEGORIES:Music
ATTACH;FMTTYPE=image/png:https://artslandia.com/wp-content/uploads/2025/05/CMNW-Artslandia-Ads-3-6.30-Brandenburg-AllStars.png
END:VEVENT
END:VCALENDAR