BEGIN:VCALENDAR
VERSION:2.0
PRODID:-//Artslandia - ECPv6.15.20//NONSGML v1.0//EN
CALSCALE:GREGORIAN
METHOD:PUBLISH
X-WR-CALNAME:Artslandia
X-ORIGINAL-URL:https://artslandia.com
X-WR-CALDESC:Events for Artslandia
REFRESH-INTERVAL;VALUE=DURATION:PT1H
X-Robots-Tag:noindex
X-PUBLISHED-TTL:PT1H
BEGIN:VTIMEZONE
TZID:America/Los_Angeles
BEGIN:DAYLIGHT
TZOFFSETFROM:-0800
TZOFFSETTO:-0700
TZNAME:PDT
DTSTART:20240310T100000
END:DAYLIGHT
BEGIN:STANDARD
TZOFFSETFROM:-0700
TZOFFSETTO:-0800
TZNAME:PST
DTSTART:20241103T090000
END:STANDARD
BEGIN:DAYLIGHT
TZOFFSETFROM:-0800
TZOFFSETTO:-0700
TZNAME:PDT
DTSTART:20250309T100000
END:DAYLIGHT
BEGIN:STANDARD
TZOFFSETFROM:-0700
TZOFFSETTO:-0800
TZNAME:PST
DTSTART:20251102T090000
END:STANDARD
BEGIN:DAYLIGHT
TZOFFSETFROM:-0800
TZOFFSETTO:-0700
TZNAME:PDT
DTSTART:20260308T100000
END:DAYLIGHT
BEGIN:STANDARD
TZOFFSETFROM:-0700
TZOFFSETTO:-0800
TZNAME:PST
DTSTART:20261101T090000
END:STANDARD
END:VTIMEZONE
BEGIN:VEVENT
DTSTART;TZID=America/Los_Angeles:20250702T190000
DTEND;TZID=America/Los_Angeles:20250702T213000
DTSTAMP:20260421T032406
CREATED:20250513T131920Z
LAST-MODIFIED:20250513T131920Z
UID:10001527-1751482800-1751491800@artslandia.com
SUMMARY:New@Night: Global Voices
DESCRIPTION:Mesmerizing Singaporean-British mezzo-soprano Fleur Barron brings to life enchanting works by three international composers\, each offering a unique cultural perspective: Arvo Pärt (Estonia)\, Kai-Young Chan (Hong Kong)\, and a piece by 2023 CMNW Protégé Kian Ravaei (Iran). Plus\, lean into instrumental works by Thea Musgrave\, Reena Esmail\, and two by Kit Armstrong.
URL:https://artslandia.com/event/newnight-global-voices/
LOCATION:The Old Church\, 1422 SW 11th Ave\, Portland\, OR\, 97201\, United States
CATEGORIES:Music
ATTACH;FMTTYPE=image/png:https://artslandia.com/wp-content/uploads/2025/05/CMNW-Artslandia-Ads-5-7.2-NN.png
END:VEVENT
BEGIN:VEVENT
DTSTART;TZID=America/Los_Angeles:20250702T193000
DTEND;TZID=America/Los_Angeles:20250702T220000
DTSTAMP:20260421T032406
CREATED:20240831T050146Z
LAST-MODIFIED:20250701T164448Z
UID:10000905-1751484600-1751493600@artslandia.com
SUMMARY:Waitress
DESCRIPTION:Grab a little slice of heaven with the Broadway-hit musical\, Waitress. With music and lyrics by Tony® Award-nominee\, Sara Bareilles\, this pop musical tells the story of Jenna\, a waitress and expert pie maker\, stuck in a small town and a loveless marriage. When a baking contest in a nearby county offers her a chance at escape\, Jenna fights to reclaim a long-forgotten part of herself. Through the support of her fellow waitresses and an unexpected romance\, Jenna begins to find the courage to take a long-abandoned dream off the shelf. Waitress celebrates the power of friendship\, dreams\, motherhood\, the family we choose\, and the beauty of a well-baked pie. Recommended for ages 13+.
URL:https://artslandia.com/event/waitress/2025-07-02/
LOCATION:Deb Fennell Auditorium\, 9000 SW Durham Rd\, Tigard\, OR\, 97224\, United States
CATEGORIES:Musical
ATTACH;FMTTYPE=image/jpeg:https://artslandia.com/wp-content/uploads/2024/08/BRTC_Waitress_Artslandia.jpg
END:VEVENT
END:VCALENDAR