BEGIN:VCALENDAR
VERSION:2.0
PRODID:-//Artslandia - ECPv6.15.20//NONSGML v1.0//EN
CALSCALE:GREGORIAN
METHOD:PUBLISH
X-ORIGINAL-URL:https://artslandia.com
X-WR-CALDESC:Events for Artslandia
REFRESH-INTERVAL;VALUE=DURATION:PT1H
X-Robots-Tag:noindex
X-PUBLISHED-TTL:PT1H
BEGIN:VTIMEZONE
TZID:America/Los_Angeles
BEGIN:DAYLIGHT
TZOFFSETFROM:-0800
TZOFFSETTO:-0700
TZNAME:PDT
DTSTART:20240310T100000
END:DAYLIGHT
BEGIN:STANDARD
TZOFFSETFROM:-0700
TZOFFSETTO:-0800
TZNAME:PST
DTSTART:20241103T090000
END:STANDARD
BEGIN:DAYLIGHT
TZOFFSETFROM:-0800
TZOFFSETTO:-0700
TZNAME:PDT
DTSTART:20250309T100000
END:DAYLIGHT
BEGIN:STANDARD
TZOFFSETFROM:-0700
TZOFFSETTO:-0800
TZNAME:PST
DTSTART:20251102T090000
END:STANDARD
BEGIN:DAYLIGHT
TZOFFSETFROM:-0800
TZOFFSETTO:-0700
TZNAME:PDT
DTSTART:20260308T100000
END:DAYLIGHT
BEGIN:STANDARD
TZOFFSETFROM:-0700
TZOFFSETTO:-0800
TZNAME:PST
DTSTART:20261101T090000
END:STANDARD
END:VTIMEZONE
BEGIN:VEVENT
DTSTART;TZID=America/Los_Angeles:20250703T190000
DTEND;TZID=America/Los_Angeles:20250703T210000
DTSTAMP:20260421T171306
CREATED:20250513T135419Z
LAST-MODIFIED:20250513T135447Z
UID:10001546-1751569200-1751576400@artslandia.com
SUMMARY:FREE COMMUNITY CONCERT with Young Artist Institute
DESCRIPTION:Start your holiday weekend with a free outdoor performance by the talented students of our Young Artist Institute. You will be amazed by the incredible artistry of these young musicians as they perform their solo works. \nBring a picnic\, blanket\, or lawn chair for a gorgeous evening of musical fireworks under the stars. This performance will feature SoundsTruck NW\, the Northwest’s premier mobile concert stage.
URL:https://artslandia.com/event/free-community-concert-young-artist-institute/
LOCATION:Shipstad Field\, University of Portland\, 5000 N Willamette Blvd\, Portland\, OR\, 97203\, United States
CATEGORIES:Free,Music
ATTACH;FMTTYPE=image/png:https://artslandia.com/wp-content/uploads/2025/05/CMNW-Artslandia-Ads-6-7.3-YAI-Com-Concert.png
END:VEVENT
BEGIN:VEVENT
DTSTART;TZID=America/Los_Angeles:20250703T193000
DTEND;TZID=America/Los_Angeles:20250703T220000
DTSTAMP:20260421T171306
CREATED:20240831T050146Z
LAST-MODIFIED:20250701T164448Z
UID:10000906-1751571000-1751580000@artslandia.com
SUMMARY:Waitress
DESCRIPTION:Grab a little slice of heaven with the Broadway-hit musical\, Waitress. With music and lyrics by Tony® Award-nominee\, Sara Bareilles\, this pop musical tells the story of Jenna\, a waitress and expert pie maker\, stuck in a small town and a loveless marriage. When a baking contest in a nearby county offers her a chance at escape\, Jenna fights to reclaim a long-forgotten part of herself. Through the support of her fellow waitresses and an unexpected romance\, Jenna begins to find the courage to take a long-abandoned dream off the shelf. Waitress celebrates the power of friendship\, dreams\, motherhood\, the family we choose\, and the beauty of a well-baked pie. Recommended for ages 13+.
URL:https://artslandia.com/event/waitress/2025-07-03/
LOCATION:Deb Fennell Auditorium\, 9000 SW Durham Rd\, Tigard\, OR\, 97224\, United States
CATEGORIES:Musical
ATTACH;FMTTYPE=image/jpeg:https://artslandia.com/wp-content/uploads/2024/08/BRTC_Waitress_Artslandia.jpg
END:VEVENT
END:VCALENDAR