BEGIN:VCALENDAR
VERSION:2.0
PRODID:-//Artslandia - ECPv6.15.20//NONSGML v1.0//EN
CALSCALE:GREGORIAN
METHOD:PUBLISH
X-ORIGINAL-URL:https://artslandia.com
X-WR-CALDESC:Events for Artslandia
REFRESH-INTERVAL;VALUE=DURATION:PT1H
X-Robots-Tag:noindex
X-PUBLISHED-TTL:PT1H
BEGIN:VTIMEZONE
TZID:America/Los_Angeles
BEGIN:DAYLIGHT
TZOFFSETFROM:-0800
TZOFFSETTO:-0700
TZNAME:PDT
DTSTART:20240310T100000
END:DAYLIGHT
BEGIN:STANDARD
TZOFFSETFROM:-0700
TZOFFSETTO:-0800
TZNAME:PST
DTSTART:20241103T090000
END:STANDARD
BEGIN:DAYLIGHT
TZOFFSETFROM:-0800
TZOFFSETTO:-0700
TZNAME:PDT
DTSTART:20250309T100000
END:DAYLIGHT
BEGIN:STANDARD
TZOFFSETFROM:-0700
TZOFFSETTO:-0800
TZNAME:PST
DTSTART:20251102T090000
END:STANDARD
BEGIN:DAYLIGHT
TZOFFSETFROM:-0800
TZOFFSETTO:-0700
TZNAME:PDT
DTSTART:20260308T100000
END:DAYLIGHT
BEGIN:STANDARD
TZOFFSETFROM:-0700
TZOFFSETTO:-0800
TZNAME:PST
DTSTART:20261101T090000
END:STANDARD
END:VTIMEZONE
BEGIN:VEVENT
DTSTART;TZID=America/Los_Angeles:20250720T140000
DTEND;TZID=America/Los_Angeles:20250720T163000
DTSTAMP:20260425T094121
CREATED:20240831T050146Z
LAST-MODIFIED:20250701T164448Z
UID:10000919-1753020000-1753029000@artslandia.com
SUMMARY:Waitress
DESCRIPTION:Grab a little slice of heaven with the Broadway-hit musical\, Waitress. With music and lyrics by Tony® Award-nominee\, Sara Bareilles\, this pop musical tells the story of Jenna\, a waitress and expert pie maker\, stuck in a small town and a loveless marriage. When a baking contest in a nearby county offers her a chance at escape\, Jenna fights to reclaim a long-forgotten part of herself. Through the support of her fellow waitresses and an unexpected romance\, Jenna begins to find the courage to take a long-abandoned dream off the shelf. Waitress celebrates the power of friendship\, dreams\, motherhood\, the family we choose\, and the beauty of a well-baked pie. Recommended for ages 13+.
URL:https://artslandia.com/event/waitress/2025-07-20/
LOCATION:Deb Fennell Auditorium\, 9000 SW Durham Rd\, Tigard\, OR\, 97224\, United States
CATEGORIES:Musical
ATTACH;FMTTYPE=image/jpeg:https://artslandia.com/wp-content/uploads/2024/08/BRTC_Waitress_Artslandia.jpg
END:VEVENT
BEGIN:VEVENT
DTSTART;TZID=America/Los_Angeles:20250720T160000
DTEND;TZID=America/Los_Angeles:20250720T183000
DTSTAMP:20260425T094121
CREATED:20250513T133917Z
LAST-MODIFIED:20250513T133917Z
UID:10001539-1753027200-1753036200@artslandia.com
SUMMARY:Protégé Project Celebration!
DESCRIPTION:Revel in the spirit of mentorship and excellence for the 15th Anniversary of CMNW’s Protégé Project! Luminaries Paul Watkins\, Carolin Widmann\, and Jonathan Vinocour join Protégé alumni the Viano Quartet\, Benjamin Beilman\, and Nina Bernat for Rossini’s lively Duet for Cello & Bass\, Bottesini’s dazzlingly agile Gran Duo Concertante\, and George Walker’s Lyric for Strings. Mendelssohn’s captivating B-flat Major Viola Quintet brings the evening to a soulful conclusion.
URL:https://artslandia.com/event/protege-project-celebration/
LOCATION:PSU Lincoln Performance Hall\, 1620 SW Park Ave\, Portland\, OR\, 97201\, United States
CATEGORIES:Music
ATTACH;FMTTYPE=image/png:https://artslandia.com/wp-content/uploads/2025/05/CMNW-Artslandia-Ads-15-7.20-21-Protege-Project-Celebration.png
END:VEVENT
END:VCALENDAR