BEGIN:VCALENDAR
VERSION:2.0
PRODID:-//Artslandia - ECPv6.15.20//NONSGML v1.0//EN
CALSCALE:GREGORIAN
METHOD:PUBLISH
X-ORIGINAL-URL:https://artslandia.com
X-WR-CALDESC:Events for Artslandia
REFRESH-INTERVAL;VALUE=DURATION:PT1H
X-Robots-Tag:noindex
X-PUBLISHED-TTL:PT1H
BEGIN:VTIMEZONE
TZID:America/Los_Angeles
BEGIN:DAYLIGHT
TZOFFSETFROM:-0800
TZOFFSETTO:-0700
TZNAME:PDT
DTSTART:20240310T100000
END:DAYLIGHT
BEGIN:STANDARD
TZOFFSETFROM:-0700
TZOFFSETTO:-0800
TZNAME:PST
DTSTART:20241103T090000
END:STANDARD
BEGIN:DAYLIGHT
TZOFFSETFROM:-0800
TZOFFSETTO:-0700
TZNAME:PDT
DTSTART:20250309T100000
END:DAYLIGHT
BEGIN:STANDARD
TZOFFSETFROM:-0700
TZOFFSETTO:-0800
TZNAME:PST
DTSTART:20251102T090000
END:STANDARD
BEGIN:DAYLIGHT
TZOFFSETFROM:-0800
TZOFFSETTO:-0700
TZNAME:PDT
DTSTART:20260308T100000
END:DAYLIGHT
BEGIN:STANDARD
TZOFFSETFROM:-0700
TZOFFSETTO:-0800
TZNAME:PST
DTSTART:20261101T090000
END:STANDARD
END:VTIMEZONE
BEGIN:VEVENT
DTSTART;TZID=America/Los_Angeles:20250722T120000
DTEND;TZID=America/Los_Angeles:20250722T133000
DTSTAMP:20260423T051454
CREATED:20250513T134219Z
LAST-MODIFIED:20250708T175100Z
UID:10001541-1753185600-1753191000@artslandia.com
SUMMARY:Protégé Spotlight: Isabelle Durrenberger & Yutong Sun
DESCRIPTION:Violinist Isabelle Durrenberger and pianist Yutong Sun share stunning works by five women composers\, including Amy Beach\, Florence Price\, Dora Pejačević\, Katherine Balch\, and Maria Theresia von Paradis. \nChamber music is meant to be up-close and personal—our Spotlight Recitals are exactly that! These casual noontime concerts feature CMNW’s rising-star Protégé Artists with repertoire they have chosen to share for their special spotlight performance. Over the course of 60–75 minutes in the intimate 200-seat Lincoln Recital Hall\, experience superb chamber music by some of the world’s most exciting early-career artists!
URL:https://artslandia.com/event/protege-spotlight-isabelle-durrenberger-yutong-sun/
LOCATION:PSU Lincoln Recital Hall\, 1620 SW Park Ave\, Portland\, OR\, 97201\, United States
CATEGORIES:Music
ATTACH;FMTTYPE=image/png:https://artslandia.com/wp-content/uploads/2025/05/CMNW_NewProtege7.22.png
END:VEVENT
END:VCALENDAR