BEGIN:VCALENDAR
VERSION:2.0
PRODID:-//Artslandia - ECPv6.15.20//NONSGML v1.0//EN
CALSCALE:GREGORIAN
METHOD:PUBLISH
X-ORIGINAL-URL:https://artslandia.com
X-WR-CALDESC:Events for Artslandia
REFRESH-INTERVAL;VALUE=DURATION:PT1H
X-Robots-Tag:noindex
X-PUBLISHED-TTL:PT1H
BEGIN:VTIMEZONE
TZID:America/Los_Angeles
BEGIN:DAYLIGHT
TZOFFSETFROM:-0800
TZOFFSETTO:-0700
TZNAME:PDT
DTSTART:20240310T100000
END:DAYLIGHT
BEGIN:STANDARD
TZOFFSETFROM:-0700
TZOFFSETTO:-0800
TZNAME:PST
DTSTART:20241103T090000
END:STANDARD
BEGIN:DAYLIGHT
TZOFFSETFROM:-0800
TZOFFSETTO:-0700
TZNAME:PDT
DTSTART:20250309T100000
END:DAYLIGHT
BEGIN:STANDARD
TZOFFSETFROM:-0700
TZOFFSETTO:-0800
TZNAME:PST
DTSTART:20251102T090000
END:STANDARD
BEGIN:DAYLIGHT
TZOFFSETFROM:-0800
TZOFFSETTO:-0700
TZNAME:PDT
DTSTART:20260308T100000
END:DAYLIGHT
BEGIN:STANDARD
TZOFFSETFROM:-0700
TZOFFSETTO:-0800
TZNAME:PST
DTSTART:20261101T090000
END:STANDARD
END:VTIMEZONE
BEGIN:VEVENT
DTSTART;TZID=America/Los_Angeles:20250910T193000
DTEND;TZID=America/Los_Angeles:20250910T220000
DTSTAMP:20260423T080005
CREATED:20250422T202703Z
LAST-MODIFIED:20250422T202703Z
UID:10001518-1757532600-1757541600@artslandia.com
SUMMARY:Jinkx Monsoon
DESCRIPTION:Experience the Oregon Symphony debut of award-winning actress\, vocalist\, and Portland native Jinkx Monsoon\, who broke box office records in Broadway’s Chicago and made history as the first and only drag artist to win RuPaul’s Drag Race twice. Monsoon is an extraordinary entertainer with an irresistible presence and wicked-but-welcoming sense of humor as shown throughout her decade-long career across theatre\, film and television. Join her for an evening of original songs and inspired covers that range from cabaret\, blues\, show tunes\, and torch songs to high-energy rock and pop.
URL:https://artslandia.com/event/jinkx-monsoon/
LOCATION:Arlene Schnitzer Concert Hall\, 1037 SW Broadway Ave\, Portland\, OR\, 97205\, United States
CATEGORIES:Music,Voice
ATTACH;FMTTYPE=image/webp:https://artslandia.com/wp-content/uploads/2025/04/ORS_JinkxMonsoon.webp
END:VEVENT
END:VCALENDAR