BEGIN:VCALENDAR
VERSION:2.0
PRODID:-//Artslandia - ECPv6.15.20//NONSGML v1.0//EN
CALSCALE:GREGORIAN
METHOD:PUBLISH
X-WR-CALNAME:Artslandia
X-ORIGINAL-URL:https://artslandia.com
X-WR-CALDESC:Events for Artslandia
REFRESH-INTERVAL;VALUE=DURATION:PT1H
X-Robots-Tag:noindex
X-PUBLISHED-TTL:PT1H
BEGIN:VTIMEZONE
TZID:America/Los_Angeles
BEGIN:DAYLIGHT
TZOFFSETFROM:-0800
TZOFFSETTO:-0700
TZNAME:PDT
DTSTART:20230312T100000
END:DAYLIGHT
BEGIN:STANDARD
TZOFFSETFROM:-0700
TZOFFSETTO:-0800
TZNAME:PST
DTSTART:20231105T090000
END:STANDARD
BEGIN:DAYLIGHT
TZOFFSETFROM:-0800
TZOFFSETTO:-0700
TZNAME:PDT
DTSTART:20240310T100000
END:DAYLIGHT
BEGIN:STANDARD
TZOFFSETFROM:-0700
TZOFFSETTO:-0800
TZNAME:PST
DTSTART:20241103T090000
END:STANDARD
BEGIN:DAYLIGHT
TZOFFSETFROM:-0800
TZOFFSETTO:-0700
TZNAME:PDT
DTSTART:20250309T100000
END:DAYLIGHT
BEGIN:STANDARD
TZOFFSETFROM:-0700
TZOFFSETTO:-0800
TZNAME:PST
DTSTART:20251102T090000
END:STANDARD
BEGIN:DAYLIGHT
TZOFFSETFROM:-0800
TZOFFSETTO:-0700
TZNAME:PDT
DTSTART:20260308T100000
END:DAYLIGHT
BEGIN:STANDARD
TZOFFSETFROM:-0700
TZOFFSETTO:-0800
TZNAME:PST
DTSTART:20261101T090000
END:STANDARD
END:VTIMEZONE
BEGIN:VEVENT
DTSTART;TZID=America/Los_Angeles:20250502T193000
DTEND;TZID=America/Los_Angeles:20250502T210000
DTSTAMP:20260421T064945
CREATED:20240831T050918Z
LAST-MODIFIED:20240910T192126Z
UID:10000331-1746214200-1746219600@artslandia.com
SUMMARY:PDX Voices & Vocal Summit: Barbershop for All
DESCRIPTION:Award-winning choruses PDX Voices and Vocal Summit bring you the best of barbershop singing with a modern twist. Get ready to hear your favorite songs sung in a style you’ve never heard before! \nEnjoy incredible four-part harmonies and feel the intensity and emotion these fantastic choruses bring to the stage. As they share their love of music with you\, learn about the rich history of barbershop quartets\, from the future of barbershop. \nThis performance\, supported by a City of Hillsboro Performance Series Grant\, directly supports PDX Voices & Vocal Summit\, with a portion of the proceeds benefiting STAGES Performing Arts Youth Academy.
URL:https://artslandia.com/event/pdx-voices-vocal-summit-barbershop-for-all/
LOCATION:Walters Cultural Arts Center\, 527 East Main Street\, Hillsboro\, OR\, 97123\, United States
CATEGORIES:A Cappella,Music
ATTACH;FMTTYPE=image/jpeg:https://artslandia.com/wp-content/uploads/2024/09/165_WCAC_PDXVoicesSummit-scaled-e1725996082176.jpg
END:VEVENT
BEGIN:VEVENT
DTSTART;TZID=America/Los_Angeles:20241220T190000
DTEND;TZID=America/Los_Angeles:20241220T210000
DTSTAMP:20260421T064945
CREATED:20240831T051113Z
LAST-MODIFIED:20240910T190946Z
UID:10000350-1734721200-1734728400@artslandia.com
SUMMARY:Kings Return: We Four Kings
DESCRIPTION:Sing in the holidays with an incredible a cappella ensemble! Taking full advantage of the genre-mixing aspects of the a cappella tradition\, Kings Return entwine R&B with free moments of jazz\, soulful bursts of gospel\, and bright touches of pop – all built on a solid\, classical foundation. The group’s name perfectly embodies their intentions: “Kings” because they possess a charismatic power\, “Return” to signify their intention to give back to the communities that have supported them along the way. \nFour incredible voices combine to deliver an extraordinary holiday concert!
URL:https://artslandia.com/event/kings-return-we-four-kings/
LOCATION:Detrick Hall\, 470 SW 15th Street\, Corvallis\, OR\, 97331\, United States
CATEGORIES:A Cappella,Holiday,Music
ATTACH;FMTTYPE=image/jpeg:https://artslandia.com/wp-content/uploads/2024/09/184_PRAX_KingsReturn.jpg
END:VEVENT
END:VCALENDAR