BEGIN:VCALENDAR
VERSION:2.0
PRODID:-//Artslandia - ECPv6.15.20//NONSGML v1.0//EN
CALSCALE:GREGORIAN
METHOD:PUBLISH
X-WR-CALNAME:Artslandia
X-ORIGINAL-URL:https://artslandia.com
X-WR-CALDESC:Events for Artslandia
REFRESH-INTERVAL;VALUE=DURATION:PT1H
X-Robots-Tag:noindex
X-PUBLISHED-TTL:PT1H
BEGIN:VTIMEZONE
TZID:America/Los_Angeles
BEGIN:DAYLIGHT
TZOFFSETFROM:-0800
TZOFFSETTO:-0700
TZNAME:PDT
DTSTART:20240310T100000
END:DAYLIGHT
BEGIN:STANDARD
TZOFFSETFROM:-0700
TZOFFSETTO:-0800
TZNAME:PST
DTSTART:20241103T090000
END:STANDARD
BEGIN:DAYLIGHT
TZOFFSETFROM:-0800
TZOFFSETTO:-0700
TZNAME:PDT
DTSTART:20250309T100000
END:DAYLIGHT
BEGIN:STANDARD
TZOFFSETFROM:-0700
TZOFFSETTO:-0800
TZNAME:PST
DTSTART:20251102T090000
END:STANDARD
BEGIN:DAYLIGHT
TZOFFSETFROM:-0800
TZOFFSETTO:-0700
TZNAME:PDT
DTSTART:20260308T100000
END:DAYLIGHT
BEGIN:STANDARD
TZOFFSETFROM:-0700
TZOFFSETTO:-0800
TZNAME:PST
DTSTART:20261101T090000
END:STANDARD
END:VTIMEZONE
BEGIN:VEVENT
DTSTART;TZID=America/Los_Angeles:20250415T193000
DTEND;TZID=America/Los_Angeles:20250415T210000
DTSTAMP:20260419T182636
CREATED:20240831T050529Z
LAST-MODIFIED:20240906T112803Z
UID:10000285-1744745400-1744750800@artslandia.com
SUMMARY:Portland Arts & Lectures: Emily Wilson
DESCRIPTION:Emily Wilson is a classicist\, translator\, professor of classical studies at the University of Pennsylvania\, and the author of the bestselling translations of Homer’s The Odyssey and The Iliad (winner of the 2024 Audie Award for Best Literary Fiction and Classics). In addition to Wilson’s translated works\, her other books include The Greatest Empire: A Life of Seneca\, The Death of Socrates: Hero\, Villain\, Chatterbox\, Saint\, and Mocked with Death: Tragic Overliving from Sophocles to Milton. Wilson is a professor of classical studies and chair of the program in comparative literature and literary theory at the University of Pennsylvania.
URL:https://artslandia.com/event/portland-arts-lectures-emily-wilson/
LOCATION:Arlene Schnitzer Concert Hall\, 1037 SW Broadway Ave\, Portland\, OR\, 97205\, United States
CATEGORIES:Event
ATTACH;FMTTYPE=image/jpeg:https://artslandia.com/wp-content/uploads/2024/09/119_LA_EmilyWilson-e1725622074441.jpg
END:VEVENT
BEGIN:VEVENT
DTSTART;TZID=America/Los_Angeles:20250424T190000
DTEND;TZID=America/Los_Angeles:20250424T213000
DTSTAMP:20260419T182636
CREATED:20240831T050530Z
LAST-MODIFIED:20240906T113606Z
UID:10000286-1745521200-1745530200@artslandia.com
SUMMARY:Verselandia! Youth Poetry Slam Championship
DESCRIPTION:Verselandia! is the annual youth poetry slam championship presented by Literary Arts. It is the Grand Slam for the winners from individual school slams hosted by public high school librarians across the Portland region. Finalist poets compete for five great prizes. \nCelebrate Portland’s youth poets during our annual Verselandia! Youth Poetry Slam Championship. Cheer on students from Portland and East Multnomah County public high schools competing for poetic glory at this energetic and inspiring event. \nPlease note that the poets may perform poetry containing mature themes.
URL:https://artslandia.com/event/verselandia-youth-poetry-slam-championship/
LOCATION:Arlene Schnitzer Concert Hall\, 1037 SW Broadway Ave\, Portland\, OR\, 97205\, United States
CATEGORIES:Championship,Event,Spoken Word
ATTACH;FMTTYPE=image/jpeg:https://artslandia.com/wp-content/uploads/2024/09/120_LA_Verselandia-e1725622554485.jpg
END:VEVENT
BEGIN:VEVENT
DTSTART;TZID=America/Los_Angeles:20250428T000000
DTEND;TZID=America/Los_Angeles:20250428T000000
DTSTAMP:20260419T182636
CREATED:20240831T050531Z
LAST-MODIFIED:20240906T130015Z
UID:10000287-1745798400-1745798400@artslandia.com
SUMMARY:Oregon Book Awards Ceremony
DESCRIPTION:The Oregon Book Awards program honors the state’s finest accomplishments by Oregon writers who work in the genres of poetry\, fiction\, graphic literature\, drama\, literary nonfiction\, and literature for young readers. The finalists for the 2025 Oregon Book Awards will be announced in January 2025\, and the winners will be announced at the Oregon Book Awards Ceremony in April 2025. Oregon Book Awards are available for original work published or produced in the following categories.
URL:https://artslandia.com/event/oregon-book-awards-ceremony/
LOCATION:Portland Center Stage at the Armory\, 128 NW Eleventh Ave\, Portland\, 97209\, United States
CATEGORIES:Event
ATTACH;FMTTYPE=image/png:https://artslandia.com/wp-content/uploads/2024/09/121_LA_ORBookAwards-e1725627507376.png
END:VEVENT
END:VCALENDAR