BEGIN:VCALENDAR
VERSION:2.0
PRODID:-//Artslandia - ECPv6.15.20//NONSGML v1.0//EN
CALSCALE:GREGORIAN
METHOD:PUBLISH
X-WR-CALNAME:Artslandia
X-ORIGINAL-URL:https://artslandia.com
X-WR-CALDESC:Events for Artslandia
REFRESH-INTERVAL;VALUE=DURATION:PT1H
X-Robots-Tag:noindex
X-PUBLISHED-TTL:PT1H
BEGIN:VTIMEZONE
TZID:America/Los_Angeles
BEGIN:DAYLIGHT
TZOFFSETFROM:-0800
TZOFFSETTO:-0700
TZNAME:PDT
DTSTART:20230312T100000
END:DAYLIGHT
BEGIN:STANDARD
TZOFFSETFROM:-0700
TZOFFSETTO:-0800
TZNAME:PST
DTSTART:20231105T090000
END:STANDARD
BEGIN:DAYLIGHT
TZOFFSETFROM:-0800
TZOFFSETTO:-0700
TZNAME:PDT
DTSTART:20240310T100000
END:DAYLIGHT
BEGIN:STANDARD
TZOFFSETFROM:-0700
TZOFFSETTO:-0800
TZNAME:PST
DTSTART:20241103T090000
END:STANDARD
BEGIN:DAYLIGHT
TZOFFSETFROM:-0800
TZOFFSETTO:-0700
TZNAME:PDT
DTSTART:20250309T100000
END:DAYLIGHT
BEGIN:STANDARD
TZOFFSETFROM:-0700
TZOFFSETTO:-0800
TZNAME:PST
DTSTART:20251102T090000
END:STANDARD
END:VTIMEZONE
BEGIN:VEVENT
DTSTART;TZID=America/Los_Angeles:20241210T193000
DTEND;TZID=America/Los_Angeles:20241210T220000
DTSTAMP:20260423T103438
CREATED:20240831T050510Z
LAST-MODIFIED:20240906T115927Z
UID:10000281-1733859000-1733868000@artslandia.com
SUMMARY:The Moth Mainstage
DESCRIPTION:The Moth returns to Portland on Tuesday\, December 10. This extraordinary performance sells out quickly\, so reserve your seats early and experience unforgettable stories told live! \nLiterary Arts and The Moth are bringing a new lineup of storytellers to Portland. The Mainstage is the quintessential Moth experience\, a two-act show—featuring a musical act—where the storytellers and a notable host share true personal stories\, without notes. Experience true stories live as they’re recorded for future episodes of The Moth Podcast and Moth Radio Hour.
URL:https://artslandia.com/event/the-moth-mainstage/
LOCATION:Arlene Schnitzer Concert Hall\, 1037 SW Broadway Ave\, Portland\, OR\, 97205\, United States
CATEGORIES:Event,Spoken Word
ATTACH;FMTTYPE=image/jpeg:https://artslandia.com/wp-content/uploads/2024/09/115_LA_MothMainstage-e1725623958241.jpg
END:VEVENT
END:VCALENDAR