BEGIN:VCALENDAR
VERSION:2.0
PRODID:-//Artslandia - ECPv6.15.20//NONSGML v1.0//EN
CALSCALE:GREGORIAN
METHOD:PUBLISH
X-WR-CALNAME:Artslandia
X-ORIGINAL-URL:https://artslandia.com
X-WR-CALDESC:Events for Artslandia
REFRESH-INTERVAL;VALUE=DURATION:PT1H
X-Robots-Tag:noindex
X-PUBLISHED-TTL:PT1H
BEGIN:VTIMEZONE
TZID:America/Los_Angeles
BEGIN:DAYLIGHT
TZOFFSETFROM:-0800
TZOFFSETTO:-0700
TZNAME:PDT
DTSTART:20240310T100000
END:DAYLIGHT
BEGIN:STANDARD
TZOFFSETFROM:-0700
TZOFFSETTO:-0800
TZNAME:PST
DTSTART:20241103T090000
END:STANDARD
BEGIN:DAYLIGHT
TZOFFSETFROM:-0800
TZOFFSETTO:-0700
TZNAME:PDT
DTSTART:20250309T100000
END:DAYLIGHT
BEGIN:STANDARD
TZOFFSETFROM:-0700
TZOFFSETTO:-0800
TZNAME:PST
DTSTART:20251102T090000
END:STANDARD
BEGIN:DAYLIGHT
TZOFFSETFROM:-0800
TZOFFSETTO:-0700
TZNAME:PDT
DTSTART:20260308T100000
END:DAYLIGHT
BEGIN:STANDARD
TZOFFSETFROM:-0700
TZOFFSETTO:-0800
TZNAME:PST
DTSTART:20261101T090000
END:STANDARD
END:VTIMEZONE
BEGIN:VEVENT
DTSTART;TZID=America/Los_Angeles:20250116T193000
DTEND;TZID=America/Los_Angeles:20250116T210000
DTSTAMP:20260423T211923
CREATED:20240831T050510Z
LAST-MODIFIED:20240906T120044Z
UID:10000282-1737055800-1737061200@artslandia.com
SUMMARY:Portland Arts & Lectures: Timothy Egan
DESCRIPTION:Timothy Egan is an American journalist and author of ten books. The most recent\, A Fever in the Heartland: The Ku Klux Klan’s Plot to Take Over America\, and the Woman Who Stopped Them\, was an immediate New York Times bestseller. Egan worked for The New York Times for 18 years\, first as the Pacific Northwest correspondent\, and then as a national enterprise reporter. As part of a team of reporters Egan won the Pulitzer Prize for National Reporting in 2001 for writing a series called How Race is Lived in America. Egan lives in Seattle with his family.
URL:https://artslandia.com/event/portland-arts-lectures-timothy-egan/
LOCATION:Arlene Schnitzer Concert Hall\, 1037 SW Broadway Ave\, Portland\, OR\, 97205\, United States
CATEGORIES:Event
ATTACH;FMTTYPE=image/jpeg:https://artslandia.com/wp-content/uploads/2024/09/116_LA_TimothyEgan-e1725624035249.jpg
END:VEVENT
END:VCALENDAR