BEGIN:VCALENDAR
VERSION:2.0
PRODID:-//Artslandia - ECPv6.15.20//NONSGML v1.0//EN
CALSCALE:GREGORIAN
METHOD:PUBLISH
X-ORIGINAL-URL:https://artslandia.com
X-WR-CALDESC:Events for Artslandia
REFRESH-INTERVAL;VALUE=DURATION:PT1H
X-Robots-Tag:noindex
X-PUBLISHED-TTL:PT1H
BEGIN:VTIMEZONE
TZID:America/Los_Angeles
BEGIN:DAYLIGHT
TZOFFSETFROM:-0800
TZOFFSETTO:-0700
TZNAME:PDT
DTSTART:20230312T100000
END:DAYLIGHT
BEGIN:STANDARD
TZOFFSETFROM:-0700
TZOFFSETTO:-0800
TZNAME:PST
DTSTART:20231105T090000
END:STANDARD
BEGIN:DAYLIGHT
TZOFFSETFROM:-0800
TZOFFSETTO:-0700
TZNAME:PDT
DTSTART:20240310T100000
END:DAYLIGHT
BEGIN:STANDARD
TZOFFSETFROM:-0700
TZOFFSETTO:-0800
TZNAME:PST
DTSTART:20241103T090000
END:STANDARD
BEGIN:DAYLIGHT
TZOFFSETFROM:-0800
TZOFFSETTO:-0700
TZNAME:PDT
DTSTART:20250309T100000
END:DAYLIGHT
BEGIN:STANDARD
TZOFFSETFROM:-0700
TZOFFSETTO:-0800
TZNAME:PST
DTSTART:20251102T090000
END:STANDARD
BEGIN:DAYLIGHT
TZOFFSETFROM:-0800
TZOFFSETTO:-0700
TZNAME:PDT
DTSTART:20260308T100000
END:DAYLIGHT
BEGIN:STANDARD
TZOFFSETFROM:-0700
TZOFFSETTO:-0800
TZNAME:PST
DTSTART:20261101T090000
END:STANDARD
BEGIN:DAYLIGHT
TZOFFSETFROM:-0800
TZOFFSETTO:-0700
TZNAME:PDT
DTSTART:20270314T100000
END:DAYLIGHT
BEGIN:STANDARD
TZOFFSETFROM:-0700
TZOFFSETTO:-0800
TZNAME:PST
DTSTART:20271107T090000
END:STANDARD
END:VTIMEZONE
BEGIN:VEVENT
DTSTART;TZID=America/Los_Angeles:20260317T193000
DTEND;TZID=America/Los_Angeles:20260317T220000
DTSTAMP:20260420T120057
CREATED:20250422T203506Z
LAST-MODIFIED:20250422T203506Z
UID:10001521-1773775800-1773784800@artslandia.com
SUMMARY:Natalie MacMaster & Donnell Leahy: Celtic Allstars
DESCRIPTION:Cape Breton’s celebrated Celtic icon Natalie MacMaster and acclaimed fiddle virtuoso Donnell Leahy welcome some of the world’s finest Celtic musicians for an extraordinary evening of music. This captivating journey will showcase a stellar lineup of Celtic All-Stars from Ireland\, England\, Scotland\, and beyond. Together\, MacMaster and Leahy will trace the rich threads of Celtic musical traditions across borders—from ancient origins to contemporary expressions. Joining them on stage will be their talented daughter Mary Frances and a host of remarkable guests\, including English guitarist Tim Edey\, Scottish multi-instrumentalist Ross Ainslie on Scottish pipes\, whistles\, and cittern\, renowned Scottish vocalist Karen Matheson\, and Irish banjo master Enda Scahill. Don’t miss this unforgettable celebration of community and Celtic heritage.
URL:https://artslandia.com/event/natalie-macmaster-donnell-leahy-celtic-allstars/
LOCATION:Arlene Schnitzer Concert Hall\, 1037 SW Broadway Ave\, Portland\, OR\, 97205\, United States
CATEGORIES:Folk,Music,World Music
ATTACH;FMTTYPE=image/webp:https://artslandia.com/wp-content/uploads/2025/04/ORS2026_CelticAllstars-e1745354092254.webp
END:VEVENT
BEGIN:VEVENT
DTSTART;TZID=America/Los_Angeles:20250920T193000
DTEND;TZID=America/Los_Angeles:20250920T220000
DTSTAMP:20260420T120057
CREATED:20250221T172151Z
LAST-MODIFIED:20250422T202221Z
UID:10001406-1758396600-1758405600@artslandia.com
SUMMARY:Andrew Bird
DESCRIPTION:With a distinctive sound that resists categorization\, Grammy-nominated violinist\, songwriter\, and multi-instrumentalist\, Andrew Bird\, makes his debut with the Oregon Symphony. Balancing swelling sounds with jazz\, folk\, and pop melodies in an unforgettable display of his unique virtuosity\, this is a season-opening concert you won’t want to miss.
URL:https://artslandia.com/event/andrew-bird/
LOCATION:Arlene Schnitzer Concert Hall\, 1037 SW Broadway Ave\, Portland\, OR\, 97205\, United States
CATEGORIES:Folk,Music
ATTACH;FMTTYPE=image/webp:https://artslandia.com/wp-content/uploads/2025/02/ORS_AndrewBird_v2-e1745353334103.webp
END:VEVENT
BEGIN:VEVENT
DTSTART;TZID=America/Los_Angeles:20241122T193000
DTEND;TZID=America/Los_Angeles:20241122T213000
DTSTAMP:20260420T120057
CREATED:20240831T050821Z
LAST-MODIFIED:20240905T214606Z
UID:10000317-1732303800-1732311000@artslandia.com
SUMMARY:The Wardens
DESCRIPTION:The Wardens don’t just sing about the land\, they’re part of it. The Rocky Mountain-based band’s stories and songs rise from the very land they’ve protected as Canadian national park wardens collectively for over 50 years. With haunting three-part harmonies and chilling tales\, the band’s mountain music—blending folk\, roots\, and western styles—reflects Canada’s protected wilderness areas. \nCelebrating the return of wild buffalo\, wrangling grizzly bears\, lonely nights on the pack trail\, and reflecting on an environment in crisis\, a performance by The Wardens has been dubbed “the quintessential mountain-culture concert experience.” \nThere are few places in the world where wilderness exists in such abundance\, where you can jump on a horse or slip on hiking boots and disappear for weeks on end. The Wardens bring these experiences to the stage\, painting a picture so vivid that you’ll almost “smell the Pine forests and hear the Grizzly Bear in the woods.” (My Musix Blog)
URL:https://artslandia.com/event/the-wardens/
LOCATION:Walters Cultural Arts Center\, 527 East Main Street\, Hillsboro\, OR\, 97123\, United States
CATEGORIES:Folk,Music
ATTACH;FMTTYPE=image/jpeg:https://artslandia.com/wp-content/uploads/2024/08/151_WCAC_TheWardens-e1725572757649.jpg
END:VEVENT
END:VCALENDAR