BEGIN:VCALENDAR
VERSION:2.0
PRODID:-//Artslandia - ECPv6.15.20//NONSGML v1.0//EN
CALSCALE:GREGORIAN
METHOD:PUBLISH
X-WR-CALNAME:Artslandia
X-ORIGINAL-URL:https://artslandia.com
X-WR-CALDESC:Events for Artslandia
REFRESH-INTERVAL;VALUE=DURATION:PT1H
X-Robots-Tag:noindex
X-PUBLISHED-TTL:PT1H
BEGIN:VTIMEZONE
TZID:America/Los_Angeles
BEGIN:DAYLIGHT
TZOFFSETFROM:-0800
TZOFFSETTO:-0700
TZNAME:PDT
DTSTART:20240310T100000
END:DAYLIGHT
BEGIN:STANDARD
TZOFFSETFROM:-0700
TZOFFSETTO:-0800
TZNAME:PST
DTSTART:20241103T090000
END:STANDARD
BEGIN:DAYLIGHT
TZOFFSETFROM:-0800
TZOFFSETTO:-0700
TZNAME:PDT
DTSTART:20250309T100000
END:DAYLIGHT
BEGIN:STANDARD
TZOFFSETFROM:-0700
TZOFFSETTO:-0800
TZNAME:PST
DTSTART:20251102T090000
END:STANDARD
BEGIN:DAYLIGHT
TZOFFSETFROM:-0800
TZOFFSETTO:-0700
TZNAME:PDT
DTSTART:20260308T100000
END:DAYLIGHT
BEGIN:STANDARD
TZOFFSETFROM:-0700
TZOFFSETTO:-0800
TZNAME:PST
DTSTART:20261101T090000
END:STANDARD
END:VTIMEZONE
BEGIN:VEVENT
DTSTART;TZID=America/Los_Angeles:20251207T160000
DTEND;TZID=America/Los_Angeles:20251207T183000
DTSTAMP:20260422T230826
CREATED:20250221T182721Z
LAST-MODIFIED:20250221T182721Z
UID:10001430-1765123200-1765132200@artslandia.com
SUMMARY:Gospel Christmas
DESCRIPTION:Feel the spirit of the holiday season with this beloved concert\, featuring the region’s premier gospel singers alongside the Oregon Symphony. Experience the joy and uplift of gospel music\, performed with passion and feeling by some of the finest musicians in the region.
URL:https://artslandia.com/event/gospel-christmas/2025-12-07/
LOCATION:Arlene Schnitzer Concert Hall\, 1037 SW Broadway Ave\, Portland\, OR\, 97205\, United States
CATEGORIES:Gospel,Holiday,Music
ATTACH;FMTTYPE=image/png:https://artslandia.com/wp-content/uploads/2025/02/ORS_Gospel2025.png
END:VEVENT
END:VCALENDAR