BEGIN:VCALENDAR
VERSION:2.0
PRODID:-//Artslandia - ECPv6.15.20//NONSGML v1.0//EN
CALSCALE:GREGORIAN
METHOD:PUBLISH
X-WR-CALNAME:Artslandia
X-ORIGINAL-URL:https://artslandia.com
X-WR-CALDESC:Events for Artslandia
REFRESH-INTERVAL;VALUE=DURATION:PT1H
X-Robots-Tag:noindex
X-PUBLISHED-TTL:PT1H
BEGIN:VTIMEZONE
TZID:America/Los_Angeles
BEGIN:DAYLIGHT
TZOFFSETFROM:-0800
TZOFFSETTO:-0700
TZNAME:PDT
DTSTART:20230312T100000
END:DAYLIGHT
BEGIN:STANDARD
TZOFFSETFROM:-0700
TZOFFSETTO:-0800
TZNAME:PST
DTSTART:20231105T090000
END:STANDARD
BEGIN:DAYLIGHT
TZOFFSETFROM:-0800
TZOFFSETTO:-0700
TZNAME:PDT
DTSTART:20240310T100000
END:DAYLIGHT
BEGIN:STANDARD
TZOFFSETFROM:-0700
TZOFFSETTO:-0800
TZNAME:PST
DTSTART:20241103T090000
END:STANDARD
BEGIN:DAYLIGHT
TZOFFSETFROM:-0800
TZOFFSETTO:-0700
TZNAME:PDT
DTSTART:20250309T100000
END:DAYLIGHT
BEGIN:STANDARD
TZOFFSETFROM:-0700
TZOFFSETTO:-0800
TZNAME:PST
DTSTART:20251102T090000
END:STANDARD
END:VTIMEZONE
BEGIN:VEVENT
DTSTART;TZID=America/Los_Angeles:20241231T203000
DTEND;TZID=America/Los_Angeles:20241231T220000
DTSTAMP:20260421T011730
CREATED:20240831T051113Z
LAST-MODIFIED:20240910T191035Z
UID:10000351-1735677000-1735682400@artslandia.com
SUMMARY:Chantil Dukart: New Year's Eve Celebration
DESCRIPTION:Chantil dawayuu. L’axgiik d’ipdaagu. T’simshian aada Sugpiaqnuu. N’toixsn n’uusm. \nChantil Dukart is from the Eagle clan. She is the granddaughter of Anna and Cecil Barnes and a descendant of the T’simshian and Sugpiaq (Aluutiq) Indigenous People of Alaska. Through the lens of her ancestral roots\, personal experiences and contemporary influences\, she writes and produces a blend of pop and jazz music. An accomplished jazz pianist/singer/composer\, Dukart has performed all over the world and shared the stage with such world class musicians as Jill Scott\, Junius Bervine (Pharrell\, Kendrick Lamar); Michael Piolet (Hamilton); Dwayne Moore (Beck\, Lauren Hill); Adam Deitch (Lettuce); and Kris Myers (Umphrees Mcgee).
URL:https://artslandia.com/event/chantil-dukart-new-years-eve-celebration/
LOCATION:Ray Theater\, 470 SW 15th Street\, Corvallis\, OR\, 97331\, United States
CATEGORIES:Indigenous Artists,Music
ATTACH;FMTTYPE=image/jpeg:https://artslandia.com/wp-content/uploads/2024/09/185_PRAX_ChantilDukart.jpg
END:VEVENT
BEGIN:VEVENT
DTSTART;TZID=America/Los_Angeles:20241003T190000
DTEND;TZID=America/Los_Angeles:20241003T200000
DTSTAMP:20260421T011730
CREATED:20240831T050748Z
LAST-MODIFIED:20240905T213304Z
UID:10000312-1727982000-1727985600@artslandia.com
SUMMARY:Valentina Ortiz: My Father\, The Painter
DESCRIPTION:Storyteller and poet Valentina Ortiz honors the art of her father\, painter Emilio Ortiz Sosa\, with stories that highlight the everyday reality of Mexican artists of the 1970s. Considered a member of the Mexican art movement called La Ruptura\, Emilio’s artwork was deeply influenced by both the surrealism coming from Europe and the culture of the native peoples of Mexico. \nAn intricate weaving of her childhood memories with the fantastical characters and magical realism found in her father’s work\, Valentina portrays the man as well as the artist. Come experience tales woven by one of Mexico’s most prominent storytellers who is the “joyous embodiment of the stories she tells.” (Loren Niemi\, storyteller and author)
URL:https://artslandia.com/event/valentina-ortiz-my-father-the-painter/
LOCATION:Walters Cultural Arts Center\, 527 East Main Street\, Hillsboro\, OR\, 97123\, United States
CATEGORIES:Indigenous Artists,Spoken Word
ATTACH;FMTTYPE=image/jpeg:https://artslandia.com/wp-content/uploads/2024/08/146_WCAC_ValentinaOrtiz-scaled-e1725571884421.jpeg
END:VEVENT
END:VCALENDAR