BEGIN:VCALENDAR
VERSION:2.0
PRODID:-//Artslandia - ECPv6.15.20//NONSGML v1.0//EN
CALSCALE:GREGORIAN
METHOD:PUBLISH
X-ORIGINAL-URL:https://artslandia.com
X-WR-CALDESC:Events for Artslandia
REFRESH-INTERVAL;VALUE=DURATION:PT1H
X-Robots-Tag:noindex
X-PUBLISHED-TTL:PT1H
BEGIN:VTIMEZONE
TZID:America/Los_Angeles
BEGIN:DAYLIGHT
TZOFFSETFROM:-0800
TZOFFSETTO:-0700
TZNAME:PDT
DTSTART:20230312T100000
END:DAYLIGHT
BEGIN:STANDARD
TZOFFSETFROM:-0700
TZOFFSETTO:-0800
TZNAME:PST
DTSTART:20231105T090000
END:STANDARD
BEGIN:DAYLIGHT
TZOFFSETFROM:-0800
TZOFFSETTO:-0700
TZNAME:PDT
DTSTART:20240310T100000
END:DAYLIGHT
BEGIN:STANDARD
TZOFFSETFROM:-0700
TZOFFSETTO:-0800
TZNAME:PST
DTSTART:20241103T090000
END:STANDARD
BEGIN:DAYLIGHT
TZOFFSETFROM:-0800
TZOFFSETTO:-0700
TZNAME:PDT
DTSTART:20250309T100000
END:DAYLIGHT
BEGIN:STANDARD
TZOFFSETFROM:-0700
TZOFFSETTO:-0800
TZNAME:PST
DTSTART:20251102T090000
END:STANDARD
END:VTIMEZONE
BEGIN:VEVENT
DTSTART;TZID=America/Los_Angeles:20241004T190000
DTEND;TZID=America/Los_Angeles:20241004T203000
DTSTAMP:20260421T090421
CREATED:20240831T050308Z
LAST-MODIFIED:20240910T165904Z
UID:10000626-1728068400-1728073800@artslandia.com
SUMMARY:Shizue: An American Story
DESCRIPTION:This fall\, Portland Opera is proud to present the next installment of the Our Oregon Project\, Shizue: An American Story\, which illuminates the remarkable life of Shizue Iwatsuki. From a wealthy family trained in the arts of poetry and ikebana\, Shizue married Kamegoro and followed him to his orchard in Hood River\, Oregon. Like thousands of other Japanese Americans\, she experienced both hope and horror in America—from the luscious taste of fresh strawberries from their fields to the injustice in America’s incarceration camps. But through it all\, Shizue rose above and reached beyond\, embodying the concept of gaman\, which means “enduring the seemingly unbearable with patience and dignity.” \nPortland Opera’s Our Oregon project commissions youth operas that highlight the experiences of Oregonians through a variety of lenses. This unique multi-year project began in 2022 with Beatrice: a 50-minute youth opera inspired by the life and story of Beatrice\, Morrow Cannady\, and it will continue in future seasons with operas about Latinx and Native American Oregonian heroes. After the world premiere\, this show embarks on a two-month\, multi-city tour.
URL:https://artslandia.com/event/shizue-an-american-story/2024-10-04/
LOCATION:Brunish Theatre\, 1111 SW Broadway Ave\, Portland\, OR\, 97205\, United States
CATEGORIES:Kid-Friendly,Opera
ATTACH;FMTTYPE=image/png:https://artslandia.com/wp-content/uploads/2024/09/186_WCAC_Shizue-e1725987537979.png
END:VEVENT
END:VCALENDAR