BEGIN:VCALENDAR
VERSION:2.0
PRODID:-//Artslandia - ECPv6.15.20//NONSGML v1.0//EN
CALSCALE:GREGORIAN
METHOD:PUBLISH
X-ORIGINAL-URL:https://artslandia.com
X-WR-CALDESC:Events for Artslandia
REFRESH-INTERVAL;VALUE=DURATION:PT1H
X-Robots-Tag:noindex
X-PUBLISHED-TTL:PT1H
BEGIN:VTIMEZONE
TZID:America/Los_Angeles
BEGIN:DAYLIGHT
TZOFFSETFROM:-0800
TZOFFSETTO:-0700
TZNAME:PDT
DTSTART:20250309T100000
END:DAYLIGHT
BEGIN:STANDARD
TZOFFSETFROM:-0700
TZOFFSETTO:-0800
TZNAME:PST
DTSTART:20251102T090000
END:STANDARD
BEGIN:DAYLIGHT
TZOFFSETFROM:-0800
TZOFFSETTO:-0700
TZNAME:PDT
DTSTART:20260308T100000
END:DAYLIGHT
BEGIN:STANDARD
TZOFFSETFROM:-0700
TZOFFSETTO:-0800
TZNAME:PST
DTSTART:20261101T090000
END:STANDARD
BEGIN:DAYLIGHT
TZOFFSETFROM:-0800
TZOFFSETTO:-0700
TZNAME:PDT
DTSTART:20270314T100000
END:DAYLIGHT
BEGIN:STANDARD
TZOFFSETFROM:-0700
TZOFFSETTO:-0800
TZNAME:PST
DTSTART:20271107T090000
END:STANDARD
END:VTIMEZONE
BEGIN:VEVENT
DTSTART;TZID=America/Los_Angeles:20260222T140000
DTEND;TZID=America/Los_Angeles:20260222T163000
DTSTAMP:20260423T123449
CREATED:20250221T191651Z
LAST-MODIFIED:20250221T191651Z
UID:10001457-1771768800-1771777800@artslandia.com
SUMMARY:How to Train Your Dragon in Concert
DESCRIPTION:DreamWorks’ How To Train Your Dragon is a captivating and original story about a young Viking named Hiccup\, who defies tradition when he befriends one of his deadliest foes—a ferocious dragon he calls Toothless. Together\, these unlikely heroes must fight against all odds to save both their worlds. Featuring John Powell’s Oscar®-nominated score performed live to picture\, How to Train Your Dragon in Concert is a thrilling experience for all ages.
URL:https://artslandia.com/event/how-to-train-your-dragon-in-concert/2026-02-22/
LOCATION:Arlene Schnitzer Concert Hall\, 1037 SW Broadway Ave\, Portland\, OR\, 97205\, United States
CATEGORIES:Family Fun,Film,Kid-Friendly,Kids,Music
ATTACH;FMTTYPE=image/png:https://artslandia.com/wp-content/uploads/2025/02/ORS2026_TrainYourDragon.png
END:VEVENT
BEGIN:VEVENT
DTSTART;TZID=America/Los_Angeles:20260222T150000
DTEND;TZID=America/Los_Angeles:20260222T170000
DTSTAMP:20260423T123449
CREATED:20250909T220228Z
LAST-MODIFIED:20250909T220228Z
UID:10003439-1771772400-1771779600@artslandia.com
SUMMARY:Tambuco
DESCRIPTION:Tambuco is known for its unique repertoire and breathtakingly vibrant performances. From body percussion\, to sticks and stones\, to modern percussion instruments\, Tambuco’s approach to sound and rhythm is virtuosic\, visceral\, and extraordinarily enjoyable. Considered a national treasure in Mexico\, Tambuco is one of the most dynamic and innovative chamber percussion ensembles performing today. \n“What mesmerizing creativity! A tour de force of subtle and forceful artistry. The members of Tambuco are chameleons on dozens of instruments.” Gramophone Magazine \nPROGRAM:\nA dynamic and innovative program showcasing the expressive capabilities of percussion instruments\, from the melodic strains of marimbas to the rhythmic sound of tapping stones.
URL:https://artslandia.com/event/tambuco/
LOCATION:Patricia Reser Center for the Arts\, 12625 SW Crescent St\, Beaverton\, OR\, 97005\, United States
CATEGORIES:Live Music,Music
ATTACH;FMTTYPE=image/jpeg:https://artslandia.com/wp-content/uploads/2025/09/yLGZeyxUatKHPn0HUzNg9owireAE-Fr2xKw92uVoC6c.jpg
END:VEVENT
END:VCALENDAR