BEGIN:VCALENDAR
VERSION:2.0
PRODID:-//Artslandia - ECPv6.15.20//NONSGML v1.0//EN
CALSCALE:GREGORIAN
METHOD:PUBLISH
X-WR-CALNAME:Artslandia
X-ORIGINAL-URL:https://artslandia.com
X-WR-CALDESC:Events for Artslandia
REFRESH-INTERVAL;VALUE=DURATION:PT1H
X-Robots-Tag:noindex
X-PUBLISHED-TTL:PT1H
BEGIN:VTIMEZONE
TZID:America/Los_Angeles
BEGIN:DAYLIGHT
TZOFFSETFROM:-0800
TZOFFSETTO:-0700
TZNAME:PDT
DTSTART:20250309T100000
END:DAYLIGHT
BEGIN:STANDARD
TZOFFSETFROM:-0700
TZOFFSETTO:-0800
TZNAME:PST
DTSTART:20251102T090000
END:STANDARD
BEGIN:DAYLIGHT
TZOFFSETFROM:-0800
TZOFFSETTO:-0700
TZNAME:PDT
DTSTART:20260308T100000
END:DAYLIGHT
BEGIN:STANDARD
TZOFFSETFROM:-0700
TZOFFSETTO:-0800
TZNAME:PST
DTSTART:20261101T090000
END:STANDARD
BEGIN:DAYLIGHT
TZOFFSETFROM:-0800
TZOFFSETTO:-0700
TZNAME:PDT
DTSTART:20270314T100000
END:DAYLIGHT
BEGIN:STANDARD
TZOFFSETFROM:-0700
TZOFFSETTO:-0800
TZNAME:PST
DTSTART:20271107T090000
END:STANDARD
END:VTIMEZONE
BEGIN:VEVENT
DTSTART;TZID=America/Los_Angeles:20260226T193000
DTEND;TZID=America/Los_Angeles:20260226T220000
DTSTAMP:20260420T090119
CREATED:20250221T191927Z
LAST-MODIFIED:20250221T191927Z
UID:10001458-1772134200-1772143200@artslandia.com
SUMMARY:Mozart & Vivaldi’s Four Seasons
DESCRIPTION:Let’s all agree: The Four Seasons is an undisputed classical Top 40s hit. But\, when Grammy-nominated mandolinist Avi Avital plays it\, you’ll feel like you’re hearing it for the first time—fresh and irresistible. Part of your fun will be listening to Vivaldi’s spot-on sound effects—birds\, a barking dog\, gnats and flies\, the chattering of teeth\, and slipping on ice. This is a piece for all seasons! Plus\, Mozart’s “Haffner\,” with a frolicking finale that he instructed had to be played “as fast as possible.”
URL:https://artslandia.com/event/mozart-and-vivaldis-four-seasons/2026-02-26/
LOCATION:Arlene Schnitzer Concert Hall\, 1037 SW Broadway Ave\, Portland\, OR\, 97205\, United States
CATEGORIES:Music
ATTACH;FMTTYPE=image/png:https://artslandia.com/wp-content/uploads/2025/02/ORS2026_MozartFourSeasons.png
END:VEVENT
END:VCALENDAR