BEGIN:VCALENDAR
VERSION:2.0
PRODID:-//Artslandia - ECPv6.15.20//NONSGML v1.0//EN
CALSCALE:GREGORIAN
METHOD:PUBLISH
X-ORIGINAL-URL:https://artslandia.com
X-WR-CALDESC:Events for Artslandia
REFRESH-INTERVAL;VALUE=DURATION:PT1H
X-Robots-Tag:noindex
X-PUBLISHED-TTL:PT1H
BEGIN:VTIMEZONE
TZID:America/Los_Angeles
BEGIN:DAYLIGHT
TZOFFSETFROM:-0800
TZOFFSETTO:-0700
TZNAME:PDT
DTSTART:20240310T100000
END:DAYLIGHT
BEGIN:STANDARD
TZOFFSETFROM:-0700
TZOFFSETTO:-0800
TZNAME:PST
DTSTART:20241103T090000
END:STANDARD
BEGIN:DAYLIGHT
TZOFFSETFROM:-0800
TZOFFSETTO:-0700
TZNAME:PDT
DTSTART:20250309T100000
END:DAYLIGHT
BEGIN:STANDARD
TZOFFSETFROM:-0700
TZOFFSETTO:-0800
TZNAME:PST
DTSTART:20251102T090000
END:STANDARD
BEGIN:DAYLIGHT
TZOFFSETFROM:-0800
TZOFFSETTO:-0700
TZNAME:PDT
DTSTART:20260308T100000
END:DAYLIGHT
BEGIN:STANDARD
TZOFFSETFROM:-0700
TZOFFSETTO:-0800
TZNAME:PST
DTSTART:20261101T090000
END:STANDARD
END:VTIMEZONE
BEGIN:VEVENT
DTSTART;TZID=America/Los_Angeles:20250902T193000
DTEND;TZID=America/Los_Angeles:20250902T220000
DTSTAMP:20260422T030250
CREATED:20250826T193604Z
LAST-MODIFIED:20250826T195006Z
UID:10003007-1756841400-1756850400@artslandia.com
SUMMARY:Some Like it Hot
DESCRIPTION:Winner of 4 Tony Awards®\, including Best Choreography and Best Costumes\, and the Grammy Award® for Best Musical Theater Album\, SOME LIKE IT HOT is “A Super-Sized\, All-Out Song-And-Dance Spectacular!” – The New York Times. Set in Chicago when Prohibition has everyone thirsty for a little excitement\, SOME LIKE IT HOT is the “glorious\, big\, high-kicking” (Associated Press) story of two musicians forced to flee the Windy City after witnessing a mob hit. With gangsters hot on their heels\, they catch a cross-country train for the life-chasing\, life-changing trip of a lifetime. And what a trip it is! With its irresistible combination of heart and laughs\, song and dance\, SOME LIKE IT HOT won more theater awards than any show in its season\, and was named Best Musical by the Drama Desk\, The Drama League\, and the Outer Critics Circle. No wonder Deadline calls it “a tap-dancing\, razzle-dazzling embrace of everything you love about musical theater.”
URL:https://artslandia.com/event/some-like-it-hot/2025-09-02/
LOCATION:Keller Auditorium\, 222 SW Clay St\, Portland\, OR\, 97201\, United States
CATEGORIES:Musical,Theater
ATTACH;FMTTYPE=image/jpeg:https://artslandia.com/wp-content/uploads/2025/08/Some-Like-It-Hot-1-1000x657-1.jpg
END:VEVENT
BEGIN:VEVENT
DTSTART;TZID=America/Los_Angeles:20250904T193000
DTEND;TZID=America/Los_Angeles:20250904T220000
DTSTAMP:20260422T030250
CREATED:20250826T193604Z
LAST-MODIFIED:20250826T195006Z
UID:10003380-1757014200-1757023200@artslandia.com
SUMMARY:Some Like it Hot
DESCRIPTION:Winner of 4 Tony Awards®\, including Best Choreography and Best Costumes\, and the Grammy Award® for Best Musical Theater Album\, SOME LIKE IT HOT is “A Super-Sized\, All-Out Song-And-Dance Spectacular!” – The New York Times. Set in Chicago when Prohibition has everyone thirsty for a little excitement\, SOME LIKE IT HOT is the “glorious\, big\, high-kicking” (Associated Press) story of two musicians forced to flee the Windy City after witnessing a mob hit. With gangsters hot on their heels\, they catch a cross-country train for the life-chasing\, life-changing trip of a lifetime. And what a trip it is! With its irresistible combination of heart and laughs\, song and dance\, SOME LIKE IT HOT won more theater awards than any show in its season\, and was named Best Musical by the Drama Desk\, The Drama League\, and the Outer Critics Circle. No wonder Deadline calls it “a tap-dancing\, razzle-dazzling embrace of everything you love about musical theater.”
URL:https://artslandia.com/event/some-like-it-hot/2025-09-04/
LOCATION:Keller Auditorium\, 222 SW Clay St\, Portland\, OR\, 97201\, United States
CATEGORIES:Musical,Theater
ATTACH;FMTTYPE=image/jpeg:https://artslandia.com/wp-content/uploads/2025/08/Some-Like-It-Hot-1-1000x657-1.jpg
END:VEVENT
BEGIN:VEVENT
DTSTART;TZID=America/Los_Angeles:20250905T193000
DTEND;TZID=America/Los_Angeles:20250905T220000
DTSTAMP:20260422T030250
CREATED:20250826T193604Z
LAST-MODIFIED:20250826T195006Z
UID:10003381-1757100600-1757109600@artslandia.com
SUMMARY:Some Like it Hot
DESCRIPTION:Winner of 4 Tony Awards®\, including Best Choreography and Best Costumes\, and the Grammy Award® for Best Musical Theater Album\, SOME LIKE IT HOT is “A Super-Sized\, All-Out Song-And-Dance Spectacular!” – The New York Times. Set in Chicago when Prohibition has everyone thirsty for a little excitement\, SOME LIKE IT HOT is the “glorious\, big\, high-kicking” (Associated Press) story of two musicians forced to flee the Windy City after witnessing a mob hit. With gangsters hot on their heels\, they catch a cross-country train for the life-chasing\, life-changing trip of a lifetime. And what a trip it is! With its irresistible combination of heart and laughs\, song and dance\, SOME LIKE IT HOT won more theater awards than any show in its season\, and was named Best Musical by the Drama Desk\, The Drama League\, and the Outer Critics Circle. No wonder Deadline calls it “a tap-dancing\, razzle-dazzling embrace of everything you love about musical theater.”
URL:https://artslandia.com/event/some-like-it-hot/2025-09-05/
LOCATION:Keller Auditorium\, 222 SW Clay St\, Portland\, OR\, 97201\, United States
CATEGORIES:Musical,Theater
ATTACH;FMTTYPE=image/jpeg:https://artslandia.com/wp-content/uploads/2025/08/Some-Like-It-Hot-1-1000x657-1.jpg
END:VEVENT
BEGIN:VEVENT
DTSTART;TZID=America/Los_Angeles:20250906T140000
DTEND;TZID=America/Los_Angeles:20250906T170000
DTSTAMP:20260422T030250
CREATED:20250826T193604Z
LAST-MODIFIED:20250826T195006Z
UID:10003011-1757167200-1757178000@artslandia.com
SUMMARY:Some Like it Hot
DESCRIPTION:Winner of 4 Tony Awards®\, including Best Choreography and Best Costumes\, and the Grammy Award® for Best Musical Theater Album\, SOME LIKE IT HOT is “A Super-Sized\, All-Out Song-And-Dance Spectacular!” – The New York Times. Set in Chicago when Prohibition has everyone thirsty for a little excitement\, SOME LIKE IT HOT is the “glorious\, big\, high-kicking” (Associated Press) story of two musicians forced to flee the Windy City after witnessing a mob hit. With gangsters hot on their heels\, they catch a cross-country train for the life-chasing\, life-changing trip of a lifetime. And what a trip it is! With its irresistible combination of heart and laughs\, song and dance\, SOME LIKE IT HOT won more theater awards than any show in its season\, and was named Best Musical by the Drama Desk\, The Drama League\, and the Outer Critics Circle. No wonder Deadline calls it “a tap-dancing\, razzle-dazzling embrace of everything you love about musical theater.”
URL:https://artslandia.com/event/some-like-it-hot/2025-09-06/
LOCATION:Keller Auditorium\, 222 SW Clay St\, Portland\, OR\, 97201\, United States
CATEGORIES:Musical,Theater
ATTACH;FMTTYPE=image/jpeg:https://artslandia.com/wp-content/uploads/2025/08/Some-Like-It-Hot-1-1000x657-1.jpg
END:VEVENT
BEGIN:VEVENT
DTSTART;TZID=America/Los_Angeles:20250907T130000
DTEND;TZID=America/Los_Angeles:20250907T150000
DTSTAMP:20260422T030250
CREATED:20250826T193604Z
LAST-MODIFIED:20250826T195006Z
UID:10003013-1757250000-1757257200@artslandia.com
SUMMARY:Some Like it Hot
DESCRIPTION:Winner of 4 Tony Awards®\, including Best Choreography and Best Costumes\, and the Grammy Award® for Best Musical Theater Album\, SOME LIKE IT HOT is “A Super-Sized\, All-Out Song-And-Dance Spectacular!” – The New York Times. Set in Chicago when Prohibition has everyone thirsty for a little excitement\, SOME LIKE IT HOT is the “glorious\, big\, high-kicking” (Associated Press) story of two musicians forced to flee the Windy City after witnessing a mob hit. With gangsters hot on their heels\, they catch a cross-country train for the life-chasing\, life-changing trip of a lifetime. And what a trip it is! With its irresistible combination of heart and laughs\, song and dance\, SOME LIKE IT HOT won more theater awards than any show in its season\, and was named Best Musical by the Drama Desk\, The Drama League\, and the Outer Critics Circle. No wonder Deadline calls it “a tap-dancing\, razzle-dazzling embrace of everything you love about musical theater.”
URL:https://artslandia.com/event/some-like-it-hot/2025-09-07/1/
LOCATION:Keller Auditorium\, 222 SW Clay St\, Portland\, OR\, 97201\, United States
CATEGORIES:Musical,Theater
ATTACH;FMTTYPE=image/jpeg:https://artslandia.com/wp-content/uploads/2025/08/Some-Like-It-Hot-1-1000x657-1.jpg
END:VEVENT
BEGIN:VEVENT
DTSTART;TZID=America/Los_Angeles:20250907T183000
DTEND;TZID=America/Los_Angeles:20250907T200000
DTSTAMP:20260422T030250
CREATED:20250826T193604Z
LAST-MODIFIED:20250826T195006Z
UID:10003014-1757269800-1757275200@artslandia.com
SUMMARY:Some Like it Hot
DESCRIPTION:Winner of 4 Tony Awards®\, including Best Choreography and Best Costumes\, and the Grammy Award® for Best Musical Theater Album\, SOME LIKE IT HOT is “A Super-Sized\, All-Out Song-And-Dance Spectacular!” – The New York Times. Set in Chicago when Prohibition has everyone thirsty for a little excitement\, SOME LIKE IT HOT is the “glorious\, big\, high-kicking” (Associated Press) story of two musicians forced to flee the Windy City after witnessing a mob hit. With gangsters hot on their heels\, they catch a cross-country train for the life-chasing\, life-changing trip of a lifetime. And what a trip it is! With its irresistible combination of heart and laughs\, song and dance\, SOME LIKE IT HOT won more theater awards than any show in its season\, and was named Best Musical by the Drama Desk\, The Drama League\, and the Outer Critics Circle. No wonder Deadline calls it “a tap-dancing\, razzle-dazzling embrace of everything you love about musical theater.”
URL:https://artslandia.com/event/some-like-it-hot/2025-09-07/2/
LOCATION:Keller Auditorium\, 222 SW Clay St\, Portland\, OR\, 97201\, United States
CATEGORIES:Musical,Theater
ATTACH;FMTTYPE=image/jpeg:https://artslandia.com/wp-content/uploads/2025/08/Some-Like-It-Hot-1-1000x657-1.jpg
END:VEVENT
BEGIN:VEVENT
DTSTART;TZID=America/Los_Angeles:20250918T193000
DTEND;TZID=America/Los_Angeles:20250918T220000
DTSTAMP:20260422T030250
CREATED:20240831T050216Z
LAST-MODIFIED:20250826T165330Z
UID:10000243-1758223800-1758232800@artslandia.com
SUMMARY:Triangle
DESCRIPTION:Triangle\, a new love story\, is set against the backdrop of the infamous Triangle Shirtwaist Factory fire in New York and its modern-day inhabitants. The musical follows two romances: a Jewish immigrant seamstress and her Italian foreman\, and a graduate student and his relationship with a handsome free-spirited stranger. The show parallels their stories as they are set in the same location\, a century apart. Filled with fresh melodies and a poignant narrative\, the couples discover what it means to risk everything for love.
URL:https://artslandia.com/event/triangle/2025-09-18/
LOCATION:Broadway Rose New Stage\, 12850 SW Grant Avenue\, Tigard\, OR\, 97223\, United States
CATEGORIES:Musical
ATTACH;FMTTYPE=image/png:https://artslandia.com/wp-content/uploads/2024/08/Screenshot-2025-08-26-at-9.48.25-AM.png
END:VEVENT
BEGIN:VEVENT
DTSTART;TZID=America/Los_Angeles:20250919T193000
DTEND;TZID=America/Los_Angeles:20250919T220000
DTSTAMP:20260422T030250
CREATED:20240831T050216Z
LAST-MODIFIED:20250826T165330Z
UID:10000933-1758310200-1758319200@artslandia.com
SUMMARY:Triangle
DESCRIPTION:Triangle\, a new love story\, is set against the backdrop of the infamous Triangle Shirtwaist Factory fire in New York and its modern-day inhabitants. The musical follows two romances: a Jewish immigrant seamstress and her Italian foreman\, and a graduate student and his relationship with a handsome free-spirited stranger. The show parallels their stories as they are set in the same location\, a century apart. Filled with fresh melodies and a poignant narrative\, the couples discover what it means to risk everything for love.
URL:https://artslandia.com/event/triangle/2025-09-19/
LOCATION:Broadway Rose New Stage\, 12850 SW Grant Avenue\, Tigard\, OR\, 97223\, United States
CATEGORIES:Musical
ATTACH;FMTTYPE=image/png:https://artslandia.com/wp-content/uploads/2024/08/Screenshot-2025-08-26-at-9.48.25-AM.png
END:VEVENT
BEGIN:VEVENT
DTSTART;TZID=America/Los_Angeles:20250920T193000
DTEND;TZID=America/Los_Angeles:20250920T220000
DTSTAMP:20260422T030250
CREATED:20240831T050216Z
LAST-MODIFIED:20250826T165330Z
UID:10000934-1758396600-1758405600@artslandia.com
SUMMARY:Triangle
DESCRIPTION:Triangle\, a new love story\, is set against the backdrop of the infamous Triangle Shirtwaist Factory fire in New York and its modern-day inhabitants. The musical follows two romances: a Jewish immigrant seamstress and her Italian foreman\, and a graduate student and his relationship with a handsome free-spirited stranger. The show parallels their stories as they are set in the same location\, a century apart. Filled with fresh melodies and a poignant narrative\, the couples discover what it means to risk everything for love.
URL:https://artslandia.com/event/triangle/2025-09-20/
LOCATION:Broadway Rose New Stage\, 12850 SW Grant Avenue\, Tigard\, OR\, 97223\, United States
CATEGORIES:Musical
ATTACH;FMTTYPE=image/png:https://artslandia.com/wp-content/uploads/2024/08/Screenshot-2025-08-26-at-9.48.25-AM.png
END:VEVENT
BEGIN:VEVENT
DTSTART;TZID=America/Los_Angeles:20250921T140000
DTEND;TZID=America/Los_Angeles:20250921T163000
DTSTAMP:20260422T030250
CREATED:20240831T050216Z
LAST-MODIFIED:20250826T165330Z
UID:10000935-1758463200-1758472200@artslandia.com
SUMMARY:Triangle
DESCRIPTION:Triangle\, a new love story\, is set against the backdrop of the infamous Triangle Shirtwaist Factory fire in New York and its modern-day inhabitants. The musical follows two romances: a Jewish immigrant seamstress and her Italian foreman\, and a graduate student and his relationship with a handsome free-spirited stranger. The show parallels their stories as they are set in the same location\, a century apart. Filled with fresh melodies and a poignant narrative\, the couples discover what it means to risk everything for love.
URL:https://artslandia.com/event/triangle/2025-09-21/
LOCATION:Broadway Rose New Stage\, 12850 SW Grant Avenue\, Tigard\, OR\, 97223\, United States
CATEGORIES:Musical
ATTACH;FMTTYPE=image/png:https://artslandia.com/wp-content/uploads/2024/08/Screenshot-2025-08-26-at-9.48.25-AM.png
END:VEVENT
BEGIN:VEVENT
DTSTART;TZID=America/Los_Angeles:20250925T193000
DTEND;TZID=America/Los_Angeles:20250925T220000
DTSTAMP:20260422T030250
CREATED:20240831T050216Z
LAST-MODIFIED:20250826T165330Z
UID:10000936-1758828600-1758837600@artslandia.com
SUMMARY:Triangle
DESCRIPTION:Triangle\, a new love story\, is set against the backdrop of the infamous Triangle Shirtwaist Factory fire in New York and its modern-day inhabitants. The musical follows two romances: a Jewish immigrant seamstress and her Italian foreman\, and a graduate student and his relationship with a handsome free-spirited stranger. The show parallels their stories as they are set in the same location\, a century apart. Filled with fresh melodies and a poignant narrative\, the couples discover what it means to risk everything for love.
URL:https://artslandia.com/event/triangle/2025-09-25/
LOCATION:Broadway Rose New Stage\, 12850 SW Grant Avenue\, Tigard\, OR\, 97223\, United States
CATEGORIES:Musical
ATTACH;FMTTYPE=image/png:https://artslandia.com/wp-content/uploads/2024/08/Screenshot-2025-08-26-at-9.48.25-AM.png
END:VEVENT
BEGIN:VEVENT
DTSTART;TZID=America/Los_Angeles:20250926T193000
DTEND;TZID=America/Los_Angeles:20250926T220000
DTSTAMP:20260422T030250
CREATED:20240831T050216Z
LAST-MODIFIED:20250826T165330Z
UID:10000937-1758915000-1758924000@artslandia.com
SUMMARY:Triangle
DESCRIPTION:Triangle\, a new love story\, is set against the backdrop of the infamous Triangle Shirtwaist Factory fire in New York and its modern-day inhabitants. The musical follows two romances: a Jewish immigrant seamstress and her Italian foreman\, and a graduate student and his relationship with a handsome free-spirited stranger. The show parallels their stories as they are set in the same location\, a century apart. Filled with fresh melodies and a poignant narrative\, the couples discover what it means to risk everything for love.
URL:https://artslandia.com/event/triangle/2025-09-26/
LOCATION:Broadway Rose New Stage\, 12850 SW Grant Avenue\, Tigard\, OR\, 97223\, United States
CATEGORIES:Musical
ATTACH;FMTTYPE=image/png:https://artslandia.com/wp-content/uploads/2024/08/Screenshot-2025-08-26-at-9.48.25-AM.png
END:VEVENT
BEGIN:VEVENT
DTSTART;TZID=America/Los_Angeles:20250927T140000
DTEND;TZID=America/Los_Angeles:20250927T163000
DTSTAMP:20260422T030250
CREATED:20240831T050216Z
LAST-MODIFIED:20250826T165330Z
UID:10000938-1758981600-1758990600@artslandia.com
SUMMARY:Triangle
DESCRIPTION:Triangle\, a new love story\, is set against the backdrop of the infamous Triangle Shirtwaist Factory fire in New York and its modern-day inhabitants. The musical follows two romances: a Jewish immigrant seamstress and her Italian foreman\, and a graduate student and his relationship with a handsome free-spirited stranger. The show parallels their stories as they are set in the same location\, a century apart. Filled with fresh melodies and a poignant narrative\, the couples discover what it means to risk everything for love.
URL:https://artslandia.com/event/triangle/2025-09-27/1/
LOCATION:Broadway Rose New Stage\, 12850 SW Grant Avenue\, Tigard\, OR\, 97223\, United States
CATEGORIES:Musical
ATTACH;FMTTYPE=image/png:https://artslandia.com/wp-content/uploads/2024/08/Screenshot-2025-08-26-at-9.48.25-AM.png
END:VEVENT
BEGIN:VEVENT
DTSTART;TZID=America/Los_Angeles:20250927T193000
DTEND;TZID=America/Los_Angeles:20250927T220000
DTSTAMP:20260422T030250
CREATED:20240831T050216Z
LAST-MODIFIED:20250826T165330Z
UID:10000939-1759001400-1759010400@artslandia.com
SUMMARY:Triangle
DESCRIPTION:Triangle\, a new love story\, is set against the backdrop of the infamous Triangle Shirtwaist Factory fire in New York and its modern-day inhabitants. The musical follows two romances: a Jewish immigrant seamstress and her Italian foreman\, and a graduate student and his relationship with a handsome free-spirited stranger. The show parallels their stories as they are set in the same location\, a century apart. Filled with fresh melodies and a poignant narrative\, the couples discover what it means to risk everything for love.
URL:https://artslandia.com/event/triangle/2025-09-27/2/
LOCATION:Broadway Rose New Stage\, 12850 SW Grant Avenue\, Tigard\, OR\, 97223\, United States
CATEGORIES:Musical
ATTACH;FMTTYPE=image/png:https://artslandia.com/wp-content/uploads/2024/08/Screenshot-2025-08-26-at-9.48.25-AM.png
END:VEVENT
BEGIN:VEVENT
DTSTART;TZID=America/Los_Angeles:20250928T140000
DTEND;TZID=America/Los_Angeles:20250928T163000
DTSTAMP:20260422T030250
CREATED:20240831T050216Z
LAST-MODIFIED:20250826T165330Z
UID:10000940-1759068000-1759077000@artslandia.com
SUMMARY:Triangle
DESCRIPTION:Triangle\, a new love story\, is set against the backdrop of the infamous Triangle Shirtwaist Factory fire in New York and its modern-day inhabitants. The musical follows two romances: a Jewish immigrant seamstress and her Italian foreman\, and a graduate student and his relationship with a handsome free-spirited stranger. The show parallels their stories as they are set in the same location\, a century apart. Filled with fresh melodies and a poignant narrative\, the couples discover what it means to risk everything for love.
URL:https://artslandia.com/event/triangle/2025-09-28/
LOCATION:Broadway Rose New Stage\, 12850 SW Grant Avenue\, Tigard\, OR\, 97223\, United States
CATEGORIES:Musical
ATTACH;FMTTYPE=image/png:https://artslandia.com/wp-content/uploads/2024/08/Screenshot-2025-08-26-at-9.48.25-AM.png
END:VEVENT
END:VCALENDAR