BEGIN:VCALENDAR
VERSION:2.0
PRODID:-//Artslandia - ECPv6.15.20//NONSGML v1.0//EN
CALSCALE:GREGORIAN
METHOD:PUBLISH
X-WR-CALNAME:Artslandia
X-ORIGINAL-URL:https://artslandia.com
X-WR-CALDESC:Events for Artslandia
REFRESH-INTERVAL;VALUE=DURATION:PT1H
X-Robots-Tag:noindex
X-PUBLISHED-TTL:PT1H
BEGIN:VTIMEZONE
TZID:America/Los_Angeles
BEGIN:DAYLIGHT
TZOFFSETFROM:-0800
TZOFFSETTO:-0700
TZNAME:PDT
DTSTART:20250309T100000
END:DAYLIGHT
BEGIN:STANDARD
TZOFFSETFROM:-0700
TZOFFSETTO:-0800
TZNAME:PST
DTSTART:20251102T090000
END:STANDARD
BEGIN:DAYLIGHT
TZOFFSETFROM:-0800
TZOFFSETTO:-0700
TZNAME:PDT
DTSTART:20260308T100000
END:DAYLIGHT
BEGIN:STANDARD
TZOFFSETFROM:-0700
TZOFFSETTO:-0800
TZNAME:PST
DTSTART:20261101T090000
END:STANDARD
BEGIN:DAYLIGHT
TZOFFSETFROM:-0800
TZOFFSETTO:-0700
TZNAME:PDT
DTSTART:20270314T100000
END:DAYLIGHT
BEGIN:STANDARD
TZOFFSETFROM:-0700
TZOFFSETTO:-0800
TZNAME:PST
DTSTART:20271107T090000
END:STANDARD
END:VTIMEZONE
BEGIN:VEVENT
DTSTART;TZID=America/Los_Angeles:20260530T140000
DTEND;TZID=America/Los_Angeles:20260530T163000
DTSTAMP:20260420T012556
CREATED:20250221T194718Z
LAST-MODIFIED:20250221T194718Z
UID:10001482-1780149600-1780158600@artslandia.com
SUMMARY:Percussion & Rhythm with Andy Akiho
DESCRIPTION:In this exciting program\, Composer-in-Residence Andy Akiho presents a work that celebrates percussion and rhythm and displays his spellbinding artistry—and that of the Oregon Symphony’s stellar percussion section in the solo spotlight. Tchaikovsky’s Fourth Symphony also thrills with the life-affirming sounds of timpani\, bass drum\, and cymbals and engages you with this passionate work\, about which he confessed\, “There is not a single bar in this Symphony which I have not truly felt\, and which is not an echo of my most intimate spiritual life . . .”
URL:https://artslandia.com/event/percussion-rhythm-with-andy-akiho/2026-05-30/
LOCATION:Arlene Schnitzer Concert Hall\, 1037 SW Broadway Ave\, Portland\, OR\, 97205\, United States
CATEGORIES:Music
ATTACH;FMTTYPE=image/png:https://artslandia.com/wp-content/uploads/2025/02/ORS2026_AndyAkiho.png
END:VEVENT
BEGIN:VEVENT
DTSTART;TZID=America/Los_Angeles:20260531T140000
DTEND;TZID=America/Los_Angeles:20260531T163000
DTSTAMP:20260420T012556
CREATED:20250221T194718Z
LAST-MODIFIED:20250221T194718Z
UID:10001483-1780236000-1780245000@artslandia.com
SUMMARY:Percussion & Rhythm with Andy Akiho
DESCRIPTION:In this exciting program\, Composer-in-Residence Andy Akiho presents a work that celebrates percussion and rhythm and displays his spellbinding artistry—and that of the Oregon Symphony’s stellar percussion section in the solo spotlight. Tchaikovsky’s Fourth Symphony also thrills with the life-affirming sounds of timpani\, bass drum\, and cymbals and engages you with this passionate work\, about which he confessed\, “There is not a single bar in this Symphony which I have not truly felt\, and which is not an echo of my most intimate spiritual life . . .”
URL:https://artslandia.com/event/percussion-rhythm-with-andy-akiho/2026-05-31/
LOCATION:Arlene Schnitzer Concert Hall\, 1037 SW Broadway Ave\, Portland\, OR\, 97205\, United States
CATEGORIES:Music
ATTACH;FMTTYPE=image/png:https://artslandia.com/wp-content/uploads/2025/02/ORS2026_AndyAkiho.png
END:VEVENT
END:VCALENDAR