BEGIN:VCALENDAR
VERSION:2.0
PRODID:-//Artslandia - ECPv6.15.20//NONSGML v1.0//EN
CALSCALE:GREGORIAN
METHOD:PUBLISH
X-ORIGINAL-URL:https://artslandia.com
X-WR-CALDESC:Events for Artslandia
REFRESH-INTERVAL;VALUE=DURATION:PT1H
X-Robots-Tag:noindex
X-PUBLISHED-TTL:PT1H
BEGIN:VTIMEZONE
TZID:America/Los_Angeles
BEGIN:DAYLIGHT
TZOFFSETFROM:-0800
TZOFFSETTO:-0700
TZNAME:PDT
DTSTART:20230312T100000
END:DAYLIGHT
BEGIN:STANDARD
TZOFFSETFROM:-0700
TZOFFSETTO:-0800
TZNAME:PST
DTSTART:20231105T090000
END:STANDARD
BEGIN:DAYLIGHT
TZOFFSETFROM:-0800
TZOFFSETTO:-0700
TZNAME:PDT
DTSTART:20240310T100000
END:DAYLIGHT
BEGIN:STANDARD
TZOFFSETFROM:-0700
TZOFFSETTO:-0800
TZNAME:PST
DTSTART:20241103T090000
END:STANDARD
BEGIN:DAYLIGHT
TZOFFSETFROM:-0800
TZOFFSETTO:-0700
TZNAME:PDT
DTSTART:20250309T100000
END:DAYLIGHT
BEGIN:STANDARD
TZOFFSETFROM:-0700
TZOFFSETTO:-0800
TZNAME:PST
DTSTART:20251102T090000
END:STANDARD
END:VTIMEZONE
BEGIN:VEVENT
DTSTART;TZID=America/Los_Angeles:20241215T150000
DTEND;TZID=America/Los_Angeles:20241215T173000
DTSTAMP:20260422T203212
CREATED:20240831T051105Z
LAST-MODIFIED:20240910T193826Z
UID:10000346-1734274800-1734283800@artslandia.com
SUMMARY:Messiah\, Part 1
DESCRIPTION:Ring in the holiday season with Handel’s seminal masterwork\, “Messiah\,” as we once again bring to life this treasured Baroque work for orchestra\, choir\, and soloists. The concert will include all of Part I\, the Christmas portion\, as well as several other beloved choruses. The second half will include carols\, both old and new. Join the Corvallis Repertory Singers for this Corvallis holiday tradition. \nSoloists: Madelyn Zuro\, soprano; Jenna Skarphol\, mezzo-soprano; Bryce Tomlin\, tenor; Paul Denison\, bass \nJoin the Corvallis Repertory Singers(Link is external) for their 24th season of presenting the finest in choral music – and for their first year of performing in PRAx. The season offers an ambitious selection of new works and old\, specially curated to take full advantage of the beauty and intimacy of Detrick Concert Hall.
URL:https://artslandia.com/event/messiah-part-1/
LOCATION:Detrick Hall\, 470 SW 15th Street\, Corvallis\, OR\, 97331\, United States
CATEGORIES:Holiday,Music
ATTACH;FMTTYPE=image/jpeg:https://artslandia.com/wp-content/uploads/2024/09/180_PRAX_MessiahPart1.jpg
END:VEVENT
END:VCALENDAR