BEGIN:VCALENDAR
VERSION:2.0
PRODID:-//Artslandia - ECPv6.15.20//NONSGML v1.0//EN
CALSCALE:GREGORIAN
METHOD:PUBLISH
X-WR-CALNAME:Artslandia
X-ORIGINAL-URL:https://artslandia.com
X-WR-CALDESC:Events for Artslandia
REFRESH-INTERVAL;VALUE=DURATION:PT1H
X-Robots-Tag:noindex
X-PUBLISHED-TTL:PT1H
BEGIN:VTIMEZONE
TZID:America/Los_Angeles
BEGIN:DAYLIGHT
TZOFFSETFROM:-0800
TZOFFSETTO:-0700
TZNAME:PDT
DTSTART:20230312T100000
END:DAYLIGHT
BEGIN:STANDARD
TZOFFSETFROM:-0700
TZOFFSETTO:-0800
TZNAME:PST
DTSTART:20231105T090000
END:STANDARD
BEGIN:DAYLIGHT
TZOFFSETFROM:-0800
TZOFFSETTO:-0700
TZNAME:PDT
DTSTART:20240310T100000
END:DAYLIGHT
BEGIN:STANDARD
TZOFFSETFROM:-0700
TZOFFSETTO:-0800
TZNAME:PST
DTSTART:20241103T090000
END:STANDARD
BEGIN:DAYLIGHT
TZOFFSETFROM:-0800
TZOFFSETTO:-0700
TZNAME:PDT
DTSTART:20250309T100000
END:DAYLIGHT
BEGIN:STANDARD
TZOFFSETFROM:-0700
TZOFFSETTO:-0800
TZNAME:PST
DTSTART:20251102T090000
END:STANDARD
END:VTIMEZONE
BEGIN:VEVENT
DTSTART;TZID=America/Los_Angeles:20241020T123000
DTEND;TZID=America/Los_Angeles:20241020T140000
DTSTAMP:20260422T232124
CREATED:20240831T050545Z
LAST-MODIFIED:20240905T194345Z
UID:10000465-1729427400-1729432800@artslandia.com
SUMMARY:The Halloween Ball
DESCRIPTION:Come One\, Come All to the Halloween Ball! The fun kicks off with a costume parade in The Grand Lobby\, followed by an Interactive live storytime. Then it’s time for a splendiferous dance party and enchanting sing-a-long! Don’t forget to save room for scary delicious Halloween treats at concessions. \nTickets to all shows at The Judy are general admission.\nMost enjoyed by ages 4 and up.
URL:https://artslandia.com/event/the-halloween-ball/2024-10-20/1/
LOCATION:The Judy Kaufoury Center for Youth Arts\, 1000 SW Broadway\, Portland\, OR\, 97205\, United States
CATEGORIES:Event,Family Fun,Theater
ATTACH;FMTTYPE=image/png:https://artslandia.com/wp-content/uploads/2024/08/124_NWCTS_HalloweenBall.png
END:VEVENT
BEGIN:VEVENT
DTSTART;TZID=America/Los_Angeles:20241020T120000
DTEND;TZID=America/Los_Angeles:20241020T133000
DTSTAMP:20260422T232124
CREATED:20240831T050545Z
LAST-MODIFIED:20240905T192910Z
UID:10000420-1729425600-1729431000@artslandia.com
SUMMARY:Blue Marigold
DESCRIPTION:Sammy Flores is just trying to survive her new home\, new school\, and a mom who doesn’t seem to understand her. When she discovers her secret superpower from the Land of the Dead–everything changes. \nPart mystery\, part action thriller\, and part high school drama\, Blue Marigold reminds us that with great power comes great responsibility. \nBlue Marigold is part of the TYA BIPOC Superhero Project\, an initiative dedicated to promoting and celebrating the amazing stories being created by TYA playwrights across the United States. The project is a reminder of the importance that superheroes come in all shapes and sizes. \nTickets to all shows at The Judy are general admission.
URL:https://artslandia.com/event/blue-marigold/2024-10-20/1/
LOCATION:The Judy Kaufoury Center for Youth Arts\, 1000 SW Broadway\, Portland\, OR\, 97205\, United States
CATEGORIES:Theater
ATTACH;FMTTYPE=image/png:https://artslandia.com/wp-content/uploads/2024/08/123_NWCTS_BlueMarigold.png
END:VEVENT
BEGIN:VEVENT
DTSTART;TZID=America/Los_Angeles:20241019T151500
DTEND;TZID=America/Los_Angeles:20241019T170000
DTSTAMP:20260422T232124
CREATED:20240831T050545Z
LAST-MODIFIED:20240905T194345Z
UID:10000464-1729350900-1729357200@artslandia.com
SUMMARY:The Halloween Ball
DESCRIPTION:Come One\, Come All to the Halloween Ball! The fun kicks off with a costume parade in The Grand Lobby\, followed by an Interactive live storytime. Then it’s time for a splendiferous dance party and enchanting sing-a-long! Don’t forget to save room for scary delicious Halloween treats at concessions. \nTickets to all shows at The Judy are general admission.\nMost enjoyed by ages 4 and up.
URL:https://artslandia.com/event/the-halloween-ball/2024-10-19/2/
LOCATION:The Judy Kaufoury Center for Youth Arts\, 1000 SW Broadway\, Portland\, OR\, 97205\, United States
CATEGORIES:Event,Family Fun,Theater
ATTACH;FMTTYPE=image/png:https://artslandia.com/wp-content/uploads/2024/08/124_NWCTS_HalloweenBall.png
END:VEVENT
BEGIN:VEVENT
DTSTART;TZID=America/Los_Angeles:20241019T150000
DTEND;TZID=America/Los_Angeles:20241019T163000
DTSTAMP:20260422T232124
CREATED:20240831T050545Z
LAST-MODIFIED:20240905T192910Z
UID:10000419-1729350000-1729355400@artslandia.com
SUMMARY:Blue Marigold
DESCRIPTION:Sammy Flores is just trying to survive her new home\, new school\, and a mom who doesn’t seem to understand her. When she discovers her secret superpower from the Land of the Dead–everything changes. \nPart mystery\, part action thriller\, and part high school drama\, Blue Marigold reminds us that with great power comes great responsibility. \nBlue Marigold is part of the TYA BIPOC Superhero Project\, an initiative dedicated to promoting and celebrating the amazing stories being created by TYA playwrights across the United States. The project is a reminder of the importance that superheroes come in all shapes and sizes. \nTickets to all shows at The Judy are general admission.
URL:https://artslandia.com/event/blue-marigold/2024-10-19/2/
LOCATION:The Judy Kaufoury Center for Youth Arts\, 1000 SW Broadway\, Portland\, OR\, 97205\, United States
CATEGORIES:Theater
ATTACH;FMTTYPE=image/png:https://artslandia.com/wp-content/uploads/2024/08/123_NWCTS_BlueMarigold.png
END:VEVENT
BEGIN:VEVENT
DTSTART;TZID=America/Los_Angeles:20241019T123000
DTEND;TZID=America/Los_Angeles:20241019T140000
DTSTAMP:20260422T232124
CREATED:20240831T050545Z
LAST-MODIFIED:20240905T194345Z
UID:10000463-1729341000-1729346400@artslandia.com
SUMMARY:The Halloween Ball
DESCRIPTION:Come One\, Come All to the Halloween Ball! The fun kicks off with a costume parade in The Grand Lobby\, followed by an Interactive live storytime. Then it’s time for a splendiferous dance party and enchanting sing-a-long! Don’t forget to save room for scary delicious Halloween treats at concessions. \nTickets to all shows at The Judy are general admission.\nMost enjoyed by ages 4 and up.
URL:https://artslandia.com/event/the-halloween-ball/2024-10-19/1/
LOCATION:The Judy Kaufoury Center for Youth Arts\, 1000 SW Broadway\, Portland\, OR\, 97205\, United States
CATEGORIES:Event,Family Fun,Theater
ATTACH;FMTTYPE=image/png:https://artslandia.com/wp-content/uploads/2024/08/124_NWCTS_HalloweenBall.png
END:VEVENT
BEGIN:VEVENT
DTSTART;TZID=America/Los_Angeles:20241019T120000
DTEND;TZID=America/Los_Angeles:20241019T133000
DTSTAMP:20260422T232124
CREATED:20240831T050545Z
LAST-MODIFIED:20240905T192910Z
UID:10000418-1729339200-1729344600@artslandia.com
SUMMARY:Blue Marigold
DESCRIPTION:Sammy Flores is just trying to survive her new home\, new school\, and a mom who doesn’t seem to understand her. When she discovers her secret superpower from the Land of the Dead–everything changes. \nPart mystery\, part action thriller\, and part high school drama\, Blue Marigold reminds us that with great power comes great responsibility. \nBlue Marigold is part of the TYA BIPOC Superhero Project\, an initiative dedicated to promoting and celebrating the amazing stories being created by TYA playwrights across the United States. The project is a reminder of the importance that superheroes come in all shapes and sizes. \nTickets to all shows at The Judy are general admission.
URL:https://artslandia.com/event/blue-marigold/2024-10-19/1/
LOCATION:The Judy Kaufoury Center for Youth Arts\, 1000 SW Broadway\, Portland\, OR\, 97205\, United States
CATEGORIES:Theater
ATTACH;FMTTYPE=image/png:https://artslandia.com/wp-content/uploads/2024/08/123_NWCTS_BlueMarigold.png
END:VEVENT
BEGIN:VEVENT
DTSTART;TZID=America/Los_Angeles:20241013T151500
DTEND;TZID=America/Los_Angeles:20241013T170000
DTSTAMP:20260422T232124
CREATED:20240831T050545Z
LAST-MODIFIED:20240905T194345Z
UID:10000462-1728832500-1728838800@artslandia.com
SUMMARY:The Halloween Ball
DESCRIPTION:Come One\, Come All to the Halloween Ball! The fun kicks off with a costume parade in The Grand Lobby\, followed by an Interactive live storytime. Then it’s time for a splendiferous dance party and enchanting sing-a-long! Don’t forget to save room for scary delicious Halloween treats at concessions. \nTickets to all shows at The Judy are general admission.\nMost enjoyed by ages 4 and up.
URL:https://artslandia.com/event/the-halloween-ball/2024-10-13/2/
LOCATION:The Judy Kaufoury Center for Youth Arts\, 1000 SW Broadway\, Portland\, OR\, 97205\, United States
CATEGORIES:Event,Family Fun,Theater
ATTACH;FMTTYPE=image/png:https://artslandia.com/wp-content/uploads/2024/08/124_NWCTS_HalloweenBall.png
END:VEVENT
BEGIN:VEVENT
DTSTART;TZID=America/Los_Angeles:20241013T150000
DTEND;TZID=America/Los_Angeles:20241013T163000
DTSTAMP:20260422T232124
CREATED:20240831T050545Z
LAST-MODIFIED:20240905T192910Z
UID:10000417-1728831600-1728837000@artslandia.com
SUMMARY:Blue Marigold
DESCRIPTION:Sammy Flores is just trying to survive her new home\, new school\, and a mom who doesn’t seem to understand her. When she discovers her secret superpower from the Land of the Dead–everything changes. \nPart mystery\, part action thriller\, and part high school drama\, Blue Marigold reminds us that with great power comes great responsibility. \nBlue Marigold is part of the TYA BIPOC Superhero Project\, an initiative dedicated to promoting and celebrating the amazing stories being created by TYA playwrights across the United States. The project is a reminder of the importance that superheroes come in all shapes and sizes. \nTickets to all shows at The Judy are general admission.
URL:https://artslandia.com/event/blue-marigold/2024-10-13/2/
LOCATION:The Judy Kaufoury Center for Youth Arts\, 1000 SW Broadway\, Portland\, OR\, 97205\, United States
CATEGORIES:Theater
ATTACH;FMTTYPE=image/png:https://artslandia.com/wp-content/uploads/2024/08/123_NWCTS_BlueMarigold.png
END:VEVENT
BEGIN:VEVENT
DTSTART;TZID=America/Los_Angeles:20241013T123000
DTEND;TZID=America/Los_Angeles:20241013T140000
DTSTAMP:20260422T232124
CREATED:20240831T050545Z
LAST-MODIFIED:20240905T194345Z
UID:10000461-1728822600-1728828000@artslandia.com
SUMMARY:The Halloween Ball
DESCRIPTION:Come One\, Come All to the Halloween Ball! The fun kicks off with a costume parade in The Grand Lobby\, followed by an Interactive live storytime. Then it’s time for a splendiferous dance party and enchanting sing-a-long! Don’t forget to save room for scary delicious Halloween treats at concessions. \nTickets to all shows at The Judy are general admission.\nMost enjoyed by ages 4 and up.
URL:https://artslandia.com/event/the-halloween-ball/2024-10-13/1/
LOCATION:The Judy Kaufoury Center for Youth Arts\, 1000 SW Broadway\, Portland\, OR\, 97205\, United States
CATEGORIES:Event,Family Fun,Theater
ATTACH;FMTTYPE=image/png:https://artslandia.com/wp-content/uploads/2024/08/124_NWCTS_HalloweenBall.png
END:VEVENT
BEGIN:VEVENT
DTSTART;TZID=America/Los_Angeles:20241013T120000
DTEND;TZID=America/Los_Angeles:20241013T133000
DTSTAMP:20260422T232124
CREATED:20240831T050545Z
LAST-MODIFIED:20240905T192910Z
UID:10000416-1728820800-1728826200@artslandia.com
SUMMARY:Blue Marigold
DESCRIPTION:Sammy Flores is just trying to survive her new home\, new school\, and a mom who doesn’t seem to understand her. When she discovers her secret superpower from the Land of the Dead–everything changes. \nPart mystery\, part action thriller\, and part high school drama\, Blue Marigold reminds us that with great power comes great responsibility. \nBlue Marigold is part of the TYA BIPOC Superhero Project\, an initiative dedicated to promoting and celebrating the amazing stories being created by TYA playwrights across the United States. The project is a reminder of the importance that superheroes come in all shapes and sizes. \nTickets to all shows at The Judy are general admission.
URL:https://artslandia.com/event/blue-marigold/2024-10-13/1/
LOCATION:The Judy Kaufoury Center for Youth Arts\, 1000 SW Broadway\, Portland\, OR\, 97205\, United States
CATEGORIES:Theater
ATTACH;FMTTYPE=image/png:https://artslandia.com/wp-content/uploads/2024/08/123_NWCTS_BlueMarigold.png
END:VEVENT
BEGIN:VEVENT
DTSTART;TZID=America/Los_Angeles:20241012T151500
DTEND;TZID=America/Los_Angeles:20241012T170000
DTSTAMP:20260422T232124
CREATED:20240831T050545Z
LAST-MODIFIED:20240905T194345Z
UID:10000460-1728746100-1728752400@artslandia.com
SUMMARY:The Halloween Ball
DESCRIPTION:Come One\, Come All to the Halloween Ball! The fun kicks off with a costume parade in The Grand Lobby\, followed by an Interactive live storytime. Then it’s time for a splendiferous dance party and enchanting sing-a-long! Don’t forget to save room for scary delicious Halloween treats at concessions. \nTickets to all shows at The Judy are general admission.\nMost enjoyed by ages 4 and up.
URL:https://artslandia.com/event/the-halloween-ball/2024-10-12/2/
LOCATION:The Judy Kaufoury Center for Youth Arts\, 1000 SW Broadway\, Portland\, OR\, 97205\, United States
CATEGORIES:Event,Family Fun,Theater
ATTACH;FMTTYPE=image/png:https://artslandia.com/wp-content/uploads/2024/08/124_NWCTS_HalloweenBall.png
END:VEVENT
BEGIN:VEVENT
DTSTART;TZID=America/Los_Angeles:20241012T150000
DTEND;TZID=America/Los_Angeles:20241012T163000
DTSTAMP:20260422T232124
CREATED:20240831T050545Z
LAST-MODIFIED:20240905T192910Z
UID:10000415-1728745200-1728750600@artslandia.com
SUMMARY:Blue Marigold
DESCRIPTION:Sammy Flores is just trying to survive her new home\, new school\, and a mom who doesn’t seem to understand her. When she discovers her secret superpower from the Land of the Dead–everything changes. \nPart mystery\, part action thriller\, and part high school drama\, Blue Marigold reminds us that with great power comes great responsibility. \nBlue Marigold is part of the TYA BIPOC Superhero Project\, an initiative dedicated to promoting and celebrating the amazing stories being created by TYA playwrights across the United States. The project is a reminder of the importance that superheroes come in all shapes and sizes. \nTickets to all shows at The Judy are general admission.
URL:https://artslandia.com/event/blue-marigold/2024-10-12/2/
LOCATION:The Judy Kaufoury Center for Youth Arts\, 1000 SW Broadway\, Portland\, OR\, 97205\, United States
CATEGORIES:Theater
ATTACH;FMTTYPE=image/png:https://artslandia.com/wp-content/uploads/2024/08/123_NWCTS_BlueMarigold.png
END:VEVENT
BEGIN:VEVENT
DTSTART;TZID=America/Los_Angeles:20241012T123000
DTEND;TZID=America/Los_Angeles:20241012T140000
DTSTAMP:20260422T232124
CREATED:20240831T050545Z
LAST-MODIFIED:20240905T194345Z
UID:10000290-1728736200-1728741600@artslandia.com
SUMMARY:The Halloween Ball
DESCRIPTION:Come One\, Come All to the Halloween Ball! The fun kicks off with a costume parade in The Grand Lobby\, followed by an Interactive live storytime. Then it’s time for a splendiferous dance party and enchanting sing-a-long! Don’t forget to save room for scary delicious Halloween treats at concessions. \nTickets to all shows at The Judy are general admission.\nMost enjoyed by ages 4 and up.
URL:https://artslandia.com/event/the-halloween-ball/2024-10-12/1/
LOCATION:The Judy Kaufoury Center for Youth Arts\, 1000 SW Broadway\, Portland\, OR\, 97205\, United States
CATEGORIES:Event,Family Fun,Theater
ATTACH;FMTTYPE=image/png:https://artslandia.com/wp-content/uploads/2024/08/124_NWCTS_HalloweenBall.png
END:VEVENT
BEGIN:VEVENT
DTSTART;TZID=America/Los_Angeles:20241012T120000
DTEND;TZID=America/Los_Angeles:20241012T133000
DTSTAMP:20260422T232124
CREATED:20240831T050545Z
LAST-MODIFIED:20240905T192910Z
UID:10000289-1728734400-1728739800@artslandia.com
SUMMARY:Blue Marigold
DESCRIPTION:Sammy Flores is just trying to survive her new home\, new school\, and a mom who doesn’t seem to understand her. When she discovers her secret superpower from the Land of the Dead–everything changes. \nPart mystery\, part action thriller\, and part high school drama\, Blue Marigold reminds us that with great power comes great responsibility. \nBlue Marigold is part of the TYA BIPOC Superhero Project\, an initiative dedicated to promoting and celebrating the amazing stories being created by TYA playwrights across the United States. The project is a reminder of the importance that superheroes come in all shapes and sizes. \nTickets to all shows at The Judy are general admission.
URL:https://artslandia.com/event/blue-marigold/2024-10-12/1/
LOCATION:The Judy Kaufoury Center for Youth Arts\, 1000 SW Broadway\, Portland\, OR\, 97205\, United States
CATEGORIES:Theater
ATTACH;FMTTYPE=image/png:https://artslandia.com/wp-content/uploads/2024/08/123_NWCTS_BlueMarigold.png
END:VEVENT
BEGIN:VEVENT
DTSTART;TZID=America/Los_Angeles:20240915T110000
DTEND;TZID=America/Los_Angeles:20240915T150000
DTSTAMP:20260422T232124
CREATED:20240831T050544Z
LAST-MODIFIED:20240906T202832Z
UID:10000375-1726398000-1726412400@artslandia.com
SUMMARY:Spotlight: A Family Arts Festival
DESCRIPTION:Come on down to The Judy for a fun-filled weekend of music\, theater\, dance\, and more! Past artists include Alex Addy (African drumming)\, Arshia Rajeshnarayanan (Bharatanatyam Dance)\, Brick Bending (LEGO Art)\, Corazones Alegres Ballet Folklórico (traditional dance)\, enTaiko (drumming)\, and Mo Phillips (music); just to name a few! \nHere’s why families LOVE Spotlight:\n“Loved being in a space that was designed with kids in mind!”\n“Great curation and diversity of art forms!”\n“All of the performers were prepared to engage with kids. The set lengths were perfect\, and the staff was so friendly!”
URL:https://artslandia.com/event/spotlight-a-family-arts-festival/2024-09-15/
LOCATION:The Judy Kafoury Center for Youth Arts
CATEGORIES:Family Fun,Festival
ATTACH;FMTTYPE=image/png:https://artslandia.com/wp-content/uploads/2024/08/122_NWCTS_Spotlight.png
END:VEVENT
BEGIN:VEVENT
DTSTART;TZID=America/Los_Angeles:20240914T110000
DTEND;TZID=America/Los_Angeles:20240914T150000
DTSTAMP:20260422T232124
CREATED:20240831T050544Z
LAST-MODIFIED:20240906T202832Z
UID:10000288-1726311600-1726326000@artslandia.com
SUMMARY:Spotlight: A Family Arts Festival
DESCRIPTION:Come on down to The Judy for a fun-filled weekend of music\, theater\, dance\, and more! Past artists include Alex Addy (African drumming)\, Arshia Rajeshnarayanan (Bharatanatyam Dance)\, Brick Bending (LEGO Art)\, Corazones Alegres Ballet Folklórico (traditional dance)\, enTaiko (drumming)\, and Mo Phillips (music); just to name a few! \nHere’s why families LOVE Spotlight:\n“Loved being in a space that was designed with kids in mind!”\n“Great curation and diversity of art forms!”\n“All of the performers were prepared to engage with kids. The set lengths were perfect\, and the staff was so friendly!”
URL:https://artslandia.com/event/spotlight-a-family-arts-festival/2024-09-14/
LOCATION:The Judy Kafoury Center for Youth Arts
CATEGORIES:Family Fun,Festival
ATTACH;FMTTYPE=image/png:https://artslandia.com/wp-content/uploads/2024/08/122_NWCTS_Spotlight.png
END:VEVENT
END:VCALENDAR