BEGIN:VCALENDAR
VERSION:2.0
PRODID:-//Artslandia - ECPv6.15.20//NONSGML v1.0//EN
CALSCALE:GREGORIAN
METHOD:PUBLISH
X-WR-CALNAME:Artslandia
X-ORIGINAL-URL:https://artslandia.com
X-WR-CALDESC:Events for Artslandia
REFRESH-INTERVAL;VALUE=DURATION:PT1H
X-Robots-Tag:noindex
X-PUBLISHED-TTL:PT1H
BEGIN:VTIMEZONE
TZID:America/Los_Angeles
BEGIN:DAYLIGHT
TZOFFSETFROM:-0800
TZOFFSETTO:-0700
TZNAME:PDT
DTSTART:20240310T100000
END:DAYLIGHT
BEGIN:STANDARD
TZOFFSETFROM:-0700
TZOFFSETTO:-0800
TZNAME:PST
DTSTART:20241103T090000
END:STANDARD
BEGIN:DAYLIGHT
TZOFFSETFROM:-0800
TZOFFSETTO:-0700
TZNAME:PDT
DTSTART:20250309T100000
END:DAYLIGHT
BEGIN:STANDARD
TZOFFSETFROM:-0700
TZOFFSETTO:-0800
TZNAME:PST
DTSTART:20251102T090000
END:STANDARD
BEGIN:DAYLIGHT
TZOFFSETFROM:-0800
TZOFFSETTO:-0700
TZNAME:PDT
DTSTART:20260308T100000
END:DAYLIGHT
BEGIN:STANDARD
TZOFFSETFROM:-0700
TZOFFSETTO:-0800
TZNAME:PST
DTSTART:20261101T090000
END:STANDARD
END:VTIMEZONE
BEGIN:VEVENT
DTSTART;TZID=America/Los_Angeles:20251231T193000
DTEND;TZID=America/Los_Angeles:20251231T220000
DTSTAMP:20260422T194957
CREATED:20250221T183833Z
LAST-MODIFIED:20250221T183833Z
UID:10001439-1767209400-1767218400@artslandia.com
SUMMARY:Pink Martini New Year’s Eve
DESCRIPTION:Ring in the New Year with Portland darlings Pink Martini! Featuring Pink Martini’s signature blend of jazz\, classical\, and pop music\, this is the perfect way to celebrate a very Portland New Year.
URL:https://artslandia.com/event/pink-martini-new-years-eve/2025-12-31/
LOCATION:Arlene Schnitzer Concert Hall\, 1037 SW Broadway Ave\, Portland\, OR\, 97205\, United States
CATEGORIES:Holiday,Music
ATTACH;FMTTYPE=image/png:https://artslandia.com/wp-content/uploads/2025/02/ORS_PinkMartiniNYE.png
END:VEVENT
BEGIN:VEVENT
DTSTART;TZID=America/Los_Angeles:20251230T193000
DTEND;TZID=America/Los_Angeles:20251230T220000
DTSTAMP:20260422T194957
CREATED:20250221T183833Z
LAST-MODIFIED:20250221T183833Z
UID:10001438-1767123000-1767132000@artslandia.com
SUMMARY:Pink Martini New Year’s Eve
DESCRIPTION:Ring in the New Year with Portland darlings Pink Martini! Featuring Pink Martini’s signature blend of jazz\, classical\, and pop music\, this is the perfect way to celebrate a very Portland New Year.
URL:https://artslandia.com/event/pink-martini-new-years-eve/2025-12-30/
LOCATION:Arlene Schnitzer Concert Hall\, 1037 SW Broadway Ave\, Portland\, OR\, 97205\, United States
CATEGORIES:Holiday,Music
ATTACH;FMTTYPE=image/png:https://artslandia.com/wp-content/uploads/2025/02/ORS_PinkMartiniNYE.png
END:VEVENT
BEGIN:VEVENT
DTSTART;TZID=America/Los_Angeles:20251221T140000
DTEND;TZID=America/Los_Angeles:20251221T163000
DTSTAMP:20260422T194957
CREATED:20250221T183557Z
LAST-MODIFIED:20250221T183557Z
UID:10001437-1766325600-1766334600@artslandia.com
SUMMARY:Elf in Concert
DESCRIPTION:Nobody spreads Christmas cheer quite like Buddy the Elf! This holiday season\, relive this heartwarming holiday classic on a giant screen as every note of John Debney’s wonderful score is played live to picture in Elf in Concert! \nELF and all related characters and elements © & ™ New Line Productions\, Inc.
URL:https://artslandia.com/event/elf-in-concert/2025-12-21/
LOCATION:Arlene Schnitzer Concert Hall\, 1037 SW Broadway Ave\, Portland\, OR\, 97205\, United States
CATEGORIES:Film,Holiday,Music
ATTACH;FMTTYPE=image/png:https://artslandia.com/wp-content/uploads/2025/02/ORS_ElfConcert.png
END:VEVENT
BEGIN:VEVENT
DTSTART;TZID=America/Los_Angeles:20251220T193000
DTEND;TZID=America/Los_Angeles:20251220T220000
DTSTAMP:20260422T194957
CREATED:20250221T183557Z
LAST-MODIFIED:20250221T183557Z
UID:10001436-1766259000-1766268000@artslandia.com
SUMMARY:Elf in Concert
DESCRIPTION:Nobody spreads Christmas cheer quite like Buddy the Elf! This holiday season\, relive this heartwarming holiday classic on a giant screen as every note of John Debney’s wonderful score is played live to picture in Elf in Concert! \nELF and all related characters and elements © & ™ New Line Productions\, Inc.
URL:https://artslandia.com/event/elf-in-concert/2025-12-20/2/
LOCATION:Arlene Schnitzer Concert Hall\, 1037 SW Broadway Ave\, Portland\, OR\, 97205\, United States
CATEGORIES:Film,Holiday,Music
ATTACH;FMTTYPE=image/png:https://artslandia.com/wp-content/uploads/2025/02/ORS_ElfConcert.png
END:VEVENT
BEGIN:VEVENT
DTSTART;TZID=America/Los_Angeles:20251220T140000
DTEND;TZID=America/Los_Angeles:20251220T163000
DTSTAMP:20260422T194957
CREATED:20250221T183557Z
LAST-MODIFIED:20250221T183557Z
UID:10001435-1766239200-1766248200@artslandia.com
SUMMARY:Elf in Concert
DESCRIPTION:Nobody spreads Christmas cheer quite like Buddy the Elf! This holiday season\, relive this heartwarming holiday classic on a giant screen as every note of John Debney’s wonderful score is played live to picture in Elf in Concert! \nELF and all related characters and elements © & ™ New Line Productions\, Inc.
URL:https://artslandia.com/event/elf-in-concert/2025-12-20/1/
LOCATION:Arlene Schnitzer Concert Hall\, 1037 SW Broadway Ave\, Portland\, OR\, 97205\, United States
CATEGORIES:Film,Holiday,Music
ATTACH;FMTTYPE=image/png:https://artslandia.com/wp-content/uploads/2025/02/ORS_ElfConcert.png
END:VEVENT
BEGIN:VEVENT
DTSTART;TZID=America/Los_Angeles:20251214T140000
DTEND;TZID=America/Los_Angeles:20251214T163000
DTSTAMP:20260422T194957
CREATED:20250221T183329Z
LAST-MODIFIED:20250422T202320Z
UID:10001434-1765720800-1765729800@artslandia.com
SUMMARY:Holiday Pops
DESCRIPTION:Celebrate the joy of the season like never before! Make memories together as the Oregon Symphony creates a magical winter wonderland with your favorite popular tunes and holiday favorites. Perfect for a holiday date night or a seasonal activity with loved ones\, this concert is sure to put you and the whole family in the holiday spirit.
URL:https://artslandia.com/event/holiday-pops/2025-12-14/
LOCATION:Arlene Schnitzer Concert Hall\, 1037 SW Broadway Ave\, Portland\, OR\, 97205\, United States
CATEGORIES:Holiday,Music
ATTACH;FMTTYPE=image/webp:https://artslandia.com/wp-content/uploads/2025/02/ORS_HolidayPops2025_v2.webp
END:VEVENT
BEGIN:VEVENT
DTSTART;TZID=America/Los_Angeles:20251213T193000
DTEND;TZID=America/Los_Angeles:20251213T220000
DTSTAMP:20260422T194957
CREATED:20250221T183329Z
LAST-MODIFIED:20250422T202320Z
UID:10001433-1765654200-1765663200@artslandia.com
SUMMARY:Holiday Pops
DESCRIPTION:Celebrate the joy of the season like never before! Make memories together as the Oregon Symphony creates a magical winter wonderland with your favorite popular tunes and holiday favorites. Perfect for a holiday date night or a seasonal activity with loved ones\, this concert is sure to put you and the whole family in the holiday spirit.
URL:https://artslandia.com/event/holiday-pops/2025-12-13/2/
LOCATION:Arlene Schnitzer Concert Hall\, 1037 SW Broadway Ave\, Portland\, OR\, 97205\, United States
CATEGORIES:Holiday,Music
ATTACH;FMTTYPE=image/webp:https://artslandia.com/wp-content/uploads/2025/02/ORS_HolidayPops2025_v2.webp
END:VEVENT
BEGIN:VEVENT
DTSTART;TZID=America/Los_Angeles:20251213T140000
DTEND;TZID=America/Los_Angeles:20251213T163000
DTSTAMP:20260422T194957
CREATED:20250221T183329Z
LAST-MODIFIED:20250422T202320Z
UID:10001432-1765634400-1765643400@artslandia.com
SUMMARY:Holiday Pops
DESCRIPTION:Celebrate the joy of the season like never before! Make memories together as the Oregon Symphony creates a magical winter wonderland with your favorite popular tunes and holiday favorites. Perfect for a holiday date night or a seasonal activity with loved ones\, this concert is sure to put you and the whole family in the holiday spirit.
URL:https://artslandia.com/event/holiday-pops/2025-12-13/1/
LOCATION:Arlene Schnitzer Concert Hall\, 1037 SW Broadway Ave\, Portland\, OR\, 97205\, United States
CATEGORIES:Holiday,Music
ATTACH;FMTTYPE=image/webp:https://artslandia.com/wp-content/uploads/2025/02/ORS_HolidayPops2025_v2.webp
END:VEVENT
BEGIN:VEVENT
DTSTART;TZID=America/Los_Angeles:20251210T193000
DTEND;TZID=America/Los_Angeles:20251210T220000
DTSTAMP:20260422T194957
CREATED:20250221T183002Z
LAST-MODIFIED:20250221T183002Z
UID:10001431-1765395000-1765404000@artslandia.com
SUMMARY:Merry-achi Christmas with Mariachi Sol de México® de José Hernández
DESCRIPTION:Moving among classical\, pop\, jazz\, swing\, and show tunes\, conductor José Hernández leads Mariachi Sol de México® in a musical tribute to Mexico’s Christmas traditions.
URL:https://artslandia.com/event/merry-achi-christmas/
LOCATION:Arlene Schnitzer Concert Hall\, 1037 SW Broadway Ave\, Portland\, OR\, 97205\, United States
CATEGORIES:Holiday,Music,World Music
ATTACH;FMTTYPE=image/png:https://artslandia.com/wp-content/uploads/2025/02/ORS_Merryachi2025.png
END:VEVENT
BEGIN:VEVENT
DTSTART;TZID=America/Los_Angeles:20251207T160000
DTEND;TZID=America/Los_Angeles:20251207T183000
DTSTAMP:20260422T194957
CREATED:20250221T182721Z
LAST-MODIFIED:20250221T182721Z
UID:10001430-1765123200-1765132200@artslandia.com
SUMMARY:Gospel Christmas
DESCRIPTION:Feel the spirit of the holiday season with this beloved concert\, featuring the region’s premier gospel singers alongside the Oregon Symphony. Experience the joy and uplift of gospel music\, performed with passion and feeling by some of the finest musicians in the region.
URL:https://artslandia.com/event/gospel-christmas/2025-12-07/
LOCATION:Arlene Schnitzer Concert Hall\, 1037 SW Broadway Ave\, Portland\, OR\, 97205\, United States
CATEGORIES:Gospel,Holiday,Music
ATTACH;FMTTYPE=image/png:https://artslandia.com/wp-content/uploads/2025/02/ORS_Gospel2025.png
END:VEVENT
BEGIN:VEVENT
DTSTART;TZID=America/Los_Angeles:20251206T193000
DTEND;TZID=America/Los_Angeles:20251206T220000
DTSTAMP:20260422T194957
CREATED:20250221T182721Z
LAST-MODIFIED:20250221T182721Z
UID:10001429-1765049400-1765058400@artslandia.com
SUMMARY:Gospel Christmas
DESCRIPTION:Feel the spirit of the holiday season with this beloved concert\, featuring the region’s premier gospel singers alongside the Oregon Symphony. Experience the joy and uplift of gospel music\, performed with passion and feeling by some of the finest musicians in the region.
URL:https://artslandia.com/event/gospel-christmas/2025-12-06/
LOCATION:Arlene Schnitzer Concert Hall\, 1037 SW Broadway Ave\, Portland\, OR\, 97205\, United States
CATEGORIES:Gospel,Holiday,Music
ATTACH;FMTTYPE=image/png:https://artslandia.com/wp-content/uploads/2025/02/ORS_Gospel2025.png
END:VEVENT
BEGIN:VEVENT
DTSTART;TZID=America/Los_Angeles:20251202T193000
DTEND;TZID=America/Los_Angeles:20251202T220000
DTSTAMP:20260422T194957
CREATED:20250221T182517Z
LAST-MODIFIED:20250221T182517Z
UID:10001428-1764703800-1764712800@artslandia.com
SUMMARY:Ben Folds
DESCRIPTION:Ben Folds is widely regarded as one of the major music influencers of our generation. The genre-bending\, multi-platinum selling artist joins the Oregon Symphony to perform everything from beloved fan-favorites to exciting new music.
URL:https://artslandia.com/event/ben-folds/
LOCATION:Arlene Schnitzer Concert Hall\, 1037 SW Broadway Ave\, Portland\, OR\, 97205\, United States
CATEGORIES:Music
ATTACH;FMTTYPE=image/png:https://artslandia.com/wp-content/uploads/2025/02/ORS_BenFolds.png
END:VEVENT
BEGIN:VEVENT
DTSTART;TZID=America/Los_Angeles:20251130T140000
DTEND;TZID=America/Los_Angeles:20251130T163000
DTSTAMP:20260422T194957
CREATED:20250221T182142Z
LAST-MODIFIED:20250221T182142Z
UID:10001427-1764511200-1764520200@artslandia.com
SUMMARY:Cirque Nutcracker
DESCRIPTION:The awe-inspiring talents of Troupe Vertigo join the Oregon Symphony with their unique hybrid of cirque\, dance\, and acrobatic art backed by Tchaikovsky’s beloved holiday masterpiece\, The Nutcracker. This festive and family-friendly concert is sure to have you and yours jumping for joy!
URL:https://artslandia.com/event/cirque-nutcracker/2025-11-30/
LOCATION:Arlene Schnitzer Concert Hall\, 1037 SW Broadway Ave\, Portland\, OR\, 97205\, United States
CATEGORIES:Holiday,Music,Nutcracker,Theatre & Performing Arts
ATTACH;FMTTYPE=image/png:https://artslandia.com/wp-content/uploads/2025/02/ORS_CirqueNut.png
END:VEVENT
BEGIN:VEVENT
DTSTART;TZID=America/Los_Angeles:20251129T193000
DTEND;TZID=America/Los_Angeles:20251129T220000
DTSTAMP:20260422T194957
CREATED:20250221T182142Z
LAST-MODIFIED:20250221T182142Z
UID:10001426-1764444600-1764453600@artslandia.com
SUMMARY:Cirque Nutcracker
DESCRIPTION:The awe-inspiring talents of Troupe Vertigo join the Oregon Symphony with their unique hybrid of cirque\, dance\, and acrobatic art backed by Tchaikovsky’s beloved holiday masterpiece\, The Nutcracker. This festive and family-friendly concert is sure to have you and yours jumping for joy!
URL:https://artslandia.com/event/cirque-nutcracker/2025-11-29/
LOCATION:Arlene Schnitzer Concert Hall\, 1037 SW Broadway Ave\, Portland\, OR\, 97205\, United States
CATEGORIES:Holiday,Music,Nutcracker,Theatre & Performing Arts
ATTACH;FMTTYPE=image/png:https://artslandia.com/wp-content/uploads/2025/02/ORS_CirqueNut.png
END:VEVENT
BEGIN:VEVENT
DTSTART;TZID=America/Los_Angeles:20251123T140000
DTEND;TZID=America/Los_Angeles:20251123T163000
DTSTAMP:20260422T194957
CREATED:20250221T181925Z
LAST-MODIFIED:20250221T181925Z
UID:10001425-1763906400-1763915400@artslandia.com
SUMMARY:Carmina Burana
DESCRIPTION:Starting and ending with the mighty hymn to the capricious Goddess Fortuna and her relentlessly turning wheel\, the bold tunes and primal rhythms of Carmina Burana celebrate nature\, the tavern\, and the pleasures of love. It’s earthy and risqué\, but sometimes also breathtakingly beautiful—like the soprano’s heaven-reaching solo—or raucous and rowdy\, as the lusty drinking song\, “In taberna.”
URL:https://artslandia.com/event/carmina-burana/2025-11-23/
LOCATION:Arlene Schnitzer Concert Hall\, 1037 SW Broadway Ave\, Portland\, OR\, 97205\, United States
CATEGORIES:Music
ATTACH;FMTTYPE=image/png:https://artslandia.com/wp-content/uploads/2025/02/ORS_CarminaBurana.png
END:VEVENT
BEGIN:VEVENT
DTSTART;TZID=America/Los_Angeles:20251122T193000
DTEND;TZID=America/Los_Angeles:20251122T220000
DTSTAMP:20260422T194957
CREATED:20250221T181925Z
LAST-MODIFIED:20250221T181925Z
UID:10001424-1763839800-1763848800@artslandia.com
SUMMARY:Carmina Burana
DESCRIPTION:Starting and ending with the mighty hymn to the capricious Goddess Fortuna and her relentlessly turning wheel\, the bold tunes and primal rhythms of Carmina Burana celebrate nature\, the tavern\, and the pleasures of love. It’s earthy and risqué\, but sometimes also breathtakingly beautiful—like the soprano’s heaven-reaching solo—or raucous and rowdy\, as the lusty drinking song\, “In taberna.”
URL:https://artslandia.com/event/carmina-burana/2025-11-22/
LOCATION:Arlene Schnitzer Concert Hall\, 1037 SW Broadway Ave\, Portland\, OR\, 97205\, United States
CATEGORIES:Music
ATTACH;FMTTYPE=image/png:https://artslandia.com/wp-content/uploads/2025/02/ORS_CarminaBurana.png
END:VEVENT
BEGIN:VEVENT
DTSTART;TZID=America/Los_Angeles:20251120T193000
DTEND;TZID=America/Los_Angeles:20251120T220000
DTSTAMP:20260422T194957
CREATED:20250221T181925Z
LAST-MODIFIED:20250221T181925Z
UID:10001423-1763667000-1763676000@artslandia.com
SUMMARY:Carmina Burana
DESCRIPTION:Starting and ending with the mighty hymn to the capricious Goddess Fortuna and her relentlessly turning wheel\, the bold tunes and primal rhythms of Carmina Burana celebrate nature\, the tavern\, and the pleasures of love. It’s earthy and risqué\, but sometimes also breathtakingly beautiful—like the soprano’s heaven-reaching solo—or raucous and rowdy\, as the lusty drinking song\, “In taberna.”
URL:https://artslandia.com/event/carmina-burana/2025-11-20/
LOCATION:Arlene Schnitzer Concert Hall\, 1037 SW Broadway Ave\, Portland\, OR\, 97205\, United States
CATEGORIES:Music
ATTACH;FMTTYPE=image/png:https://artslandia.com/wp-content/uploads/2025/02/ORS_CarminaBurana.png
END:VEVENT
BEGIN:VEVENT
DTSTART;TZID=America/Los_Angeles:20251116T140000
DTEND;TZID=America/Los_Angeles:20251116T163000
DTSTAMP:20260422T194957
CREATED:20250221T181712Z
LAST-MODIFIED:20250221T181712Z
UID:10001422-1763301600-1763310600@artslandia.com
SUMMARY:Chicago: The Movie Musical in Concert
DESCRIPTION:Give ’em the old razzle dazzle\, Portland! Get ready for a movie musical concert experience unlike any other. See Rob Marshall’s iconic screen adaption of Chicago while the Oregon Symphony plays John Kander and Fred Ebb’s boisterous score live. Put on your dancing shoes and prepare for a breathtaking concert you’ll never forget . . . and all that jazz!
URL:https://artslandia.com/event/chicago-the-movie-musical-in-concert/2025-11-16/
LOCATION:Arlene Schnitzer Concert Hall\, 1037 SW Broadway Ave\, Portland\, OR\, 97205\, United States
CATEGORIES:Film,Music,Musical
ATTACH;FMTTYPE=image/png:https://artslandia.com/wp-content/uploads/2025/02/ORS_Chicago.png
END:VEVENT
BEGIN:VEVENT
DTSTART;TZID=America/Los_Angeles:20251115T193000
DTEND;TZID=America/Los_Angeles:20251115T220000
DTSTAMP:20260422T194957
CREATED:20250221T181712Z
LAST-MODIFIED:20250221T181712Z
UID:10001421-1763235000-1763244000@artslandia.com
SUMMARY:Chicago: The Movie Musical in Concert
DESCRIPTION:Give ’em the old razzle dazzle\, Portland! Get ready for a movie musical concert experience unlike any other. See Rob Marshall’s iconic screen adaption of Chicago while the Oregon Symphony plays John Kander and Fred Ebb’s boisterous score live. Put on your dancing shoes and prepare for a breathtaking concert you’ll never forget . . . and all that jazz!
URL:https://artslandia.com/event/chicago-the-movie-musical-in-concert/2025-11-15/
LOCATION:Arlene Schnitzer Concert Hall\, 1037 SW Broadway Ave\, Portland\, OR\, 97205\, United States
CATEGORIES:Film,Music,Musical
ATTACH;FMTTYPE=image/png:https://artslandia.com/wp-content/uploads/2025/02/ORS_Chicago.png
END:VEVENT
BEGIN:VEVENT
DTSTART;TZID=America/Los_Angeles:20251107T193000
DTEND;TZID=America/Los_Angeles:20251107T220000
DTSTAMP:20260422T194957
CREATED:20250221T181452Z
LAST-MODIFIED:20250221T181452Z
UID:10001420-1762543800-1762552800@artslandia.com
SUMMARY:The Decemberists
DESCRIPTION:For their first time performing with an orchestra in nearly two decades\, The Decemberists take the stage with the Oregon Symphony for a landmark hometown collaboration. Known for their rich storytelling and meticulously crafted songs\, Portland’s beloved indie-rock band will bring their singular style to the Arlene Schnitzer Concert Hall\, performing songs from across their catalog—including selections from their expansive 2024 LP\, As It Ever Was\, So It Will Be Again—in sweeping new symphonic renditions.
URL:https://artslandia.com/event/the-decemberists/2025-11-07/
LOCATION:Arlene Schnitzer Concert Hall\, 1037 SW Broadway Ave\, Portland\, OR\, 97205\, United States
CATEGORIES:Music,Rock
ATTACH;FMTTYPE=image/png:https://artslandia.com/wp-content/uploads/2025/02/ORS_Decemberists.png
END:VEVENT
BEGIN:VEVENT
DTSTART;TZID=America/Los_Angeles:20251106T193000
DTEND;TZID=America/Los_Angeles:20251106T220000
DTSTAMP:20260422T194957
CREATED:20250221T181452Z
LAST-MODIFIED:20250221T181452Z
UID:10001419-1762457400-1762466400@artslandia.com
SUMMARY:The Decemberists
DESCRIPTION:For their first time performing with an orchestra in nearly two decades\, The Decemberists take the stage with the Oregon Symphony for a landmark hometown collaboration. Known for their rich storytelling and meticulously crafted songs\, Portland’s beloved indie-rock band will bring their singular style to the Arlene Schnitzer Concert Hall\, performing songs from across their catalog—including selections from their expansive 2024 LP\, As It Ever Was\, So It Will Be Again—in sweeping new symphonic renditions.
URL:https://artslandia.com/event/the-decemberists/2025-11-06/
LOCATION:Arlene Schnitzer Concert Hall\, 1037 SW Broadway Ave\, Portland\, OR\, 97205\, United States
CATEGORIES:Music,Rock
ATTACH;FMTTYPE=image/png:https://artslandia.com/wp-content/uploads/2025/02/ORS_Decemberists.png
END:VEVENT
BEGIN:VEVENT
DTSTART;TZID=America/Los_Angeles:20251102T140000
DTEND;TZID=America/Los_Angeles:20251102T163000
DTSTAMP:20260422T194957
CREATED:20250221T174040Z
LAST-MODIFIED:20250221T174040Z
UID:10001418-1762092000-1762101000@artslandia.com
SUMMARY:Seven Deadly Sins
DESCRIPTION:Storm Large\, Portland’s “favorite songstress\,” wows you as she explores the world of sin! The Seven Deadly Sins\, no less. Reprising one of her signature roles\, this working girl moves across America to help her greedy family build their little house back in Louisiana\, accompanied by the jazzy sounds of the Swinging ’30s. Plus\, hear music from the Oregon Symphony’s first concert in 1896 and new works by Portland composers—including a jazz piano concerto inspired by Langston Hughes and the friendship between the composer and pianist.
URL:https://artslandia.com/event/seven-deadly-sins/2025-11-02/
LOCATION:Arlene Schnitzer Concert Hall\, 1037 SW Broadway Ave\, Portland\, OR\, 97205\, United States
CATEGORIES:Music
ATTACH;FMTTYPE=image/png:https://artslandia.com/wp-content/uploads/2025/02/ORS_SevenDeadlySins.png
END:VEVENT
BEGIN:VEVENT
DTSTART;TZID=America/Los_Angeles:20251101T193000
DTEND;TZID=America/Los_Angeles:20251101T220000
DTSTAMP:20260422T194957
CREATED:20250221T174040Z
LAST-MODIFIED:20250221T174040Z
UID:10001417-1762025400-1762034400@artslandia.com
SUMMARY:Seven Deadly Sins
DESCRIPTION:Storm Large\, Portland’s “favorite songstress\,” wows you as she explores the world of sin! The Seven Deadly Sins\, no less. Reprising one of her signature roles\, this working girl moves across America to help her greedy family build their little house back in Louisiana\, accompanied by the jazzy sounds of the Swinging ’30s. Plus\, hear music from the Oregon Symphony’s first concert in 1896 and new works by Portland composers—including a jazz piano concerto inspired by Langston Hughes and the friendship between the composer and pianist.
URL:https://artslandia.com/event/seven-deadly-sins/2025-11-01/
LOCATION:Arlene Schnitzer Concert Hall\, 1037 SW Broadway Ave\, Portland\, OR\, 97205\, United States
CATEGORIES:Music
ATTACH;FMTTYPE=image/png:https://artslandia.com/wp-content/uploads/2025/02/ORS_SevenDeadlySins.png
END:VEVENT
BEGIN:VEVENT
DTSTART;TZID=America/Los_Angeles:20251026T140000
DTEND;TZID=America/Los_Angeles:20251026T163000
DTSTAMP:20260422T194957
CREATED:20250221T173813Z
LAST-MODIFIED:20250221T173813Z
UID:10001416-1761487200-1761496200@artslandia.com
SUMMARY:Halloween Pops
DESCRIPTION:Something spooky is coming to the Arlene Schnitzer Concert Hall! Put on your best costume and get ready for a thrilling experience featuring your favorite scary songs\, boo-tiful bops\, and eerie earworms. You won’t want to miss out on this frighteningly fun concert\, but beware—this music will have your bones shaking!
URL:https://artslandia.com/event/halloween-pops/2025-10-26/
LOCATION:Arlene Schnitzer Concert Hall\, 1037 SW Broadway Ave\, Portland\, OR\, 97205\, United States
CATEGORIES:Music
ATTACH;FMTTYPE=image/png:https://artslandia.com/wp-content/uploads/2025/02/ORS_HalloweenPops.png
END:VEVENT
BEGIN:VEVENT
DTSTART;TZID=America/Los_Angeles:20251025T193000
DTEND;TZID=America/Los_Angeles:20251025T220000
DTSTAMP:20260422T194957
CREATED:20250221T173813Z
LAST-MODIFIED:20250221T173813Z
UID:10001415-1761420600-1761429600@artslandia.com
SUMMARY:Halloween Pops
DESCRIPTION:Something spooky is coming to the Arlene Schnitzer Concert Hall! Put on your best costume and get ready for a thrilling experience featuring your favorite scary songs\, boo-tiful bops\, and eerie earworms. You won’t want to miss out on this frighteningly fun concert\, but beware—this music will have your bones shaking!
URL:https://artslandia.com/event/halloween-pops/2025-10-25/
LOCATION:Arlene Schnitzer Concert Hall\, 1037 SW Broadway Ave\, Portland\, OR\, 97205\, United States
CATEGORIES:Music
ATTACH;FMTTYPE=image/png:https://artslandia.com/wp-content/uploads/2025/02/ORS_HalloweenPops.png
END:VEVENT
BEGIN:VEVENT
DTSTART;TZID=America/Los_Angeles:20251023T193000
DTEND;TZID=America/Los_Angeles:20251023T220000
DTSTAMP:20260422T194957
CREATED:20250221T173602Z
LAST-MODIFIED:20250221T173602Z
UID:10001414-1761247800-1761256800@artslandia.com
SUMMARY:The Goonies 40th Anniversary in Concert
DESCRIPTION:What happens when a group of kids comes across a map leading to One-Eyed Willy’s pirate treasure? Relive the ’80s in this special 40th anniversary celebration of this Oregon cult classic\, produced by Steven Spielberg and famously filmed in Astoria\, OR. Goonies never say die!
URL:https://artslandia.com/event/the-goonies-40th-anniversary-in-concert/
LOCATION:Arlene Schnitzer Concert Hall\, 1037 SW Broadway Ave\, Portland\, OR\, 97205\, United States
CATEGORIES:Film,Live Music,Music
ATTACH;FMTTYPE=image/png:https://artslandia.com/wp-content/uploads/2025/02/ORS_Goonies.png
END:VEVENT
BEGIN:VEVENT
DTSTART;TZID=America/Los_Angeles:20251019T140000
DTEND;TZID=America/Los_Angeles:20251019T163000
DTSTAMP:20260422T194957
CREATED:20250221T173340Z
LAST-MODIFIED:20250221T173359Z
UID:10001413-1760882400-1760891400@artslandia.com
SUMMARY:esperanza spalding
DESCRIPTION:It’s a fabulous night of orchestra-meets-jazz with headliner—and Portland’s own—esperanza spalding: bassist\, singer\, songwriter\, composer\, and Grammy Award winner performing her own songs with arrangements that showcase the expanded forces of the orchestra. Among esperanza’s heroes is jazz icon and multi-Grammy Award winner Wayne Shorter\, whose music you’ll also enjoy on this program\, including Gaia\, a work for vocals\, jazz quartet\, and orchestra co-written with spalding.
URL:https://artslandia.com/event/esperanza-spalding-2025/2025-10-19/
LOCATION:Arlene Schnitzer Concert Hall\, 1037 SW Broadway Ave\, Portland\, OR\, 97205\, United States
CATEGORIES:Music
ATTACH;FMTTYPE=image/png:https://artslandia.com/wp-content/uploads/2025/02/ORS_EsperanzaSpalding.png
END:VEVENT
BEGIN:VEVENT
DTSTART;TZID=America/Los_Angeles:20251018T193000
DTEND;TZID=America/Los_Angeles:20251018T220000
DTSTAMP:20260422T194957
CREATED:20250221T173340Z
LAST-MODIFIED:20250221T173359Z
UID:10001412-1760815800-1760824800@artslandia.com
SUMMARY:esperanza spalding
DESCRIPTION:It’s a fabulous night of orchestra-meets-jazz with headliner—and Portland’s own—esperanza spalding: bassist\, singer\, songwriter\, composer\, and Grammy Award winner performing her own songs with arrangements that showcase the expanded forces of the orchestra. Among esperanza’s heroes is jazz icon and multi-Grammy Award winner Wayne Shorter\, whose music you’ll also enjoy on this program\, including Gaia\, a work for vocals\, jazz quartet\, and orchestra co-written with spalding.
URL:https://artslandia.com/event/esperanza-spalding-2025/2025-10-18/
LOCATION:Arlene Schnitzer Concert Hall\, 1037 SW Broadway Ave\, Portland\, OR\, 97205\, United States
CATEGORIES:Music
ATTACH;FMTTYPE=image/png:https://artslandia.com/wp-content/uploads/2025/02/ORS_EsperanzaSpalding.png
END:VEVENT
BEGIN:VEVENT
DTSTART;TZID=America/Los_Angeles:20251005T140000
DTEND;TZID=America/Los_Angeles:20251005T163000
DTSTAMP:20260422T194957
CREATED:20250221T173045Z
LAST-MODIFIED:20250221T173045Z
UID:10001411-1759672800-1759681800@artslandia.com
SUMMARY:Rachmaninoff’s Symphony No. 2
DESCRIPTION:Rachmaninoff’s ultra-Romantic Symphony No. 2 enfolds you with sweeping melodies\, lush orchestrations\, and inspired lyrical passages. The composer himself said: “Music is born only of the heart and it appeals to the heart. It is love.” You’ll need no further proof than this gorgeous work. Opening our concert is a piece by a titan among minimalists\, Philip Glass. Our new Artist-in-Residence Simone Porter launches the Concerto with propulsive force\, then invites you to lose yourself in the harmonies of the Adagio\, and leaves you breathless in the sensational last movement—but gives you a final moment to dream about the journey you’ve just taken.
URL:https://artslandia.com/event/rachmaninoffs-symphony-no-2/2025-10-05/
LOCATION:Arlene Schnitzer Concert Hall\, 1037 SW Broadway Ave\, Portland\, OR\, 97205\, United States
CATEGORIES:Music
ATTACH;FMTTYPE=image/png:https://artslandia.com/wp-content/uploads/2025/02/ORS_Rachmaninoff2.png
END:VEVENT
BEGIN:VEVENT
DTSTART;TZID=America/Los_Angeles:20251004T193000
DTEND;TZID=America/Los_Angeles:20251004T220000
DTSTAMP:20260422T194957
CREATED:20250221T173045Z
LAST-MODIFIED:20250221T173045Z
UID:10001410-1759606200-1759615200@artslandia.com
SUMMARY:Rachmaninoff’s Symphony No. 2
DESCRIPTION:Rachmaninoff’s ultra-Romantic Symphony No. 2 enfolds you with sweeping melodies\, lush orchestrations\, and inspired lyrical passages. The composer himself said: “Music is born only of the heart and it appeals to the heart. It is love.” You’ll need no further proof than this gorgeous work. Opening our concert is a piece by a titan among minimalists\, Philip Glass. Our new Artist-in-Residence Simone Porter launches the Concerto with propulsive force\, then invites you to lose yourself in the harmonies of the Adagio\, and leaves you breathless in the sensational last movement—but gives you a final moment to dream about the journey you’ve just taken.
URL:https://artslandia.com/event/rachmaninoffs-symphony-no-2/2025-10-04/
LOCATION:Arlene Schnitzer Concert Hall\, 1037 SW Broadway Ave\, Portland\, OR\, 97205\, United States
CATEGORIES:Music
ATTACH;FMTTYPE=image/png:https://artslandia.com/wp-content/uploads/2025/02/ORS_Rachmaninoff2.png
END:VEVENT
END:VCALENDAR