BEGIN:VCALENDAR
VERSION:2.0
PRODID:-//Artslandia - ECPv6.15.20//NONSGML v1.0//EN
CALSCALE:GREGORIAN
METHOD:PUBLISH
X-ORIGINAL-URL:https://artslandia.com
X-WR-CALDESC:Events for Artslandia
REFRESH-INTERVAL;VALUE=DURATION:PT1H
X-Robots-Tag:noindex
X-PUBLISHED-TTL:PT1H
BEGIN:VTIMEZONE
TZID:America/Los_Angeles
BEGIN:DAYLIGHT
TZOFFSETFROM:-0800
TZOFFSETTO:-0700
TZNAME:PDT
DTSTART:20230312T100000
END:DAYLIGHT
BEGIN:STANDARD
TZOFFSETFROM:-0700
TZOFFSETTO:-0800
TZNAME:PST
DTSTART:20231105T090000
END:STANDARD
BEGIN:DAYLIGHT
TZOFFSETFROM:-0800
TZOFFSETTO:-0700
TZNAME:PDT
DTSTART:20240310T100000
END:DAYLIGHT
BEGIN:STANDARD
TZOFFSETFROM:-0700
TZOFFSETTO:-0800
TZNAME:PST
DTSTART:20241103T090000
END:STANDARD
BEGIN:DAYLIGHT
TZOFFSETFROM:-0800
TZOFFSETTO:-0700
TZNAME:PDT
DTSTART:20250309T100000
END:DAYLIGHT
BEGIN:STANDARD
TZOFFSETFROM:-0700
TZOFFSETTO:-0800
TZNAME:PST
DTSTART:20251102T090000
END:STANDARD
END:VTIMEZONE
BEGIN:VEVENT
DTSTART;TZID=America/Los_Angeles:20241018T190000
DTEND;TZID=America/Los_Angeles:20241018T220000
DTSTAMP:20260422T202739
CREATED:20240831T050343Z
LAST-MODIFIED:20240905T222309Z
UID:10000263-1729278000-1729288800@artslandia.com
SUMMARY:Bach & Telemann: French Finesse
DESCRIPTION:An intimate evening of French-inspired chamber music for gamba\, violin\, flute\, and harpsichord. \nTelemann and Bach\, two esteemed German composers and friends\, draw inspiration from the sonic richness and rhythmic nuance of the French style\, infusing this program with a unique vibrancy. From the graceful elegance of Telemann’s Paris Quartet to the counterpoint of Bach’s Trio Sonata\, we embark on a journey through an exotic musical landscape.
URL:https://artslandia.com/event/bach-telemann-french-finesse/
LOCATION:Sanctuary Hall at First Congregational\, 1126 SW Park Ave\, Portland\, OR\, 97205\, United States
CATEGORIES:Music
ATTACH;FMTTYPE=image/png:https://artslandia.com/wp-content/uploads/2024/08/PBO_FrenchFinesse_Horiz-e1725574974163.png
END:VEVENT
BEGIN:VEVENT
DTSTART;TZID=America/Los_Angeles:20241013T150000
DTEND;TZID=America/Los_Angeles:20241013T173000
DTSTAMP:20260422T202739
CREATED:20240831T050329Z
LAST-MODIFIED:20240905T221953Z
UID:10000262-1728831600-1728840600@artslandia.com
SUMMARY:Handel & Vivaldi: Autumn Light
DESCRIPTION:PBO opens this season of seasons by exploring the forces of nature. Vivaldi’s “Autumn” and “Winter” from The Four Seasons vividly depict elemental change\, from vibrant hues to icy embraces\, followed by Handel’s commanding Silete venti\, where soprano Maya Kherani delivers us through the turbulence of fall storms into the comfort of long winter nights. Cozy up with this Italian-inspired concert as music and nature seamlessly entwine.
URL:https://artslandia.com/event/handel-vivaldi-autumn-light-2/
LOCATION:Kaul Auditorium\, Reed College\, 3203 SE Woodstock Blvd\, Portland\, OR\, 97202\, United States
CATEGORIES:Music
ATTACH;FMTTYPE=image/png:https://artslandia.com/wp-content/uploads/2024/08/PBO_Handel_Horiz-e1725574715201.png
END:VEVENT
BEGIN:VEVENT
DTSTART;TZID=America/Los_Angeles:20241012T190000
DTEND;TZID=America/Los_Angeles:20241012T220000
DTSTAMP:20260422T202739
CREATED:20240831T050328Z
LAST-MODIFIED:20240905T221855Z
UID:10000261-1728759600-1728770400@artslandia.com
SUMMARY:Handel & Vivaldi: Autumn Light
DESCRIPTION:PBO opens this season of seasons by exploring the forces of nature. Vivaldi’s “Autumn” and “Winter” from The Four Seasons vividly depict elemental change\, from vibrant hues to icy embraces\, followed by Handel’s commanding Silete venti\, where soprano Maya Kherani delivers us through the turbulence of fall storms into the comfort of long winter nights. Cozy up with this Italian-inspired concert as music and nature seamlessly entwine.
URL:https://artslandia.com/event/handel-vivaldi-autumn-light/
LOCATION:Sanctuary Hall at First Congregational\, 1126 SW Park Ave\, Portland\, OR\, 97205\, United States
CATEGORIES:Music
ATTACH;FMTTYPE=image/png:https://artslandia.com/wp-content/uploads/2024/08/PBO_Handel_Horiz-e1725574715201.png
END:VEVENT
END:VCALENDAR